BEGIN:VCALENDAR
VERSION:2.0
PRODID:-//Boardwalk Grill - ECPv6.15.13.1//NONSGML v1.0//EN
CALSCALE:GREGORIAN
METHOD:PUBLISH
X-ORIGINAL-URL:https://theboardwalkgrill.com
X-WR-CALDESC:Events for Boardwalk Grill
REFRESH-INTERVAL;VALUE=DURATION:PT1H
X-Robots-Tag:noindex
X-PUBLISHED-TTL:PT1H
BEGIN:VTIMEZONE
TZID:America/New_York
BEGIN:DAYLIGHT
TZOFFSETFROM:-0500
TZOFFSETTO:-0400
TZNAME:EDT
DTSTART:20230312T070000
END:DAYLIGHT
BEGIN:STANDARD
TZOFFSETFROM:-0400
TZOFFSETTO:-0500
TZNAME:EST
DTSTART:20231105T060000
END:STANDARD
BEGIN:DAYLIGHT
TZOFFSETFROM:-0500
TZOFFSETTO:-0400
TZNAME:EDT
DTSTART:20240310T070000
END:DAYLIGHT
BEGIN:STANDARD
TZOFFSETFROM:-0400
TZOFFSETTO:-0500
TZNAME:EST
DTSTART:20241103T060000
END:STANDARD
BEGIN:DAYLIGHT
TZOFFSETFROM:-0500
TZOFFSETTO:-0400
TZNAME:EDT
DTSTART:20250309T070000
END:DAYLIGHT
BEGIN:STANDARD
TZOFFSETFROM:-0400
TZOFFSETTO:-0500
TZNAME:EST
DTSTART:20251102T060000
END:STANDARD
BEGIN:DAYLIGHT
TZOFFSETFROM:-0500
TZOFFSETTO:-0400
TZNAME:EDT
DTSTART:20260308T070000
END:DAYLIGHT
BEGIN:STANDARD
TZOFFSETFROM:-0400
TZOFFSETTO:-0500
TZNAME:EST
DTSTART:20261101T060000
END:STANDARD
END:VTIMEZONE
BEGIN:VEVENT
DTSTART;TZID=America/New_York:20250710T090000
DTEND;TZID=America/New_York:20250710T160000
DTSTAMP:20260424T195547
CREATED:20250702T060429Z
LAST-MODIFIED:20250710T061944Z
UID:10000797-1752138000-1752163200@theboardwalkgrill.com
SUMMARY:Upper Deck: Golf Bays Open!
DESCRIPTION:To reserve\, \nVisit https://player.eagleclubsystems.online/#/tee-slot?dbname=rush20221215 \nOr call us at 419-776-2028
URL:https://theboardwalkgrill.com/event/upper-deck-golf-bays-open-7
LOCATION:Upper Deck Sports Bar\, Celina\, OH\, United States
CATEGORIES:Upper Deck Sports Bar
GEO:40.556645;-84.628714
END:VEVENT
BEGIN:VEVENT
DTSTART;TZID=America/New_York:20250709T090000
DTEND;TZID=America/New_York:20250709T160000
DTSTAMP:20260424T195547
CREATED:20250702T060429Z
LAST-MODIFIED:20250709T061934Z
UID:10000796-1752051600-1752076800@theboardwalkgrill.com
SUMMARY:Upper Deck: Golf Bays Open!
DESCRIPTION:To reserve\, \nVisit https://player.eagleclubsystems.online/#/tee-slot?dbname=rush20221215 \nOr call us at 419-776-2028
URL:https://theboardwalkgrill.com/event/upper-deck-golf-bays-open-6
LOCATION:Upper Deck Sports Bar\, Celina\, OH\, United States
CATEGORIES:Upper Deck Sports Bar
GEO:40.556645;-84.628714
END:VEVENT
BEGIN:VEVENT
DTSTART;TZID=America/New_York:20250708T090000
DTEND;TZID=America/New_York:20250708T160000
DTSTAMP:20260424T195547
CREATED:20250702T060429Z
LAST-MODIFIED:20250708T061951Z
UID:10000795-1751965200-1751990400@theboardwalkgrill.com
SUMMARY:Upper Deck: Golf Bays Open!
DESCRIPTION:To reserve\, \nVisit https://player.eagleclubsystems.online/#/tee-slot?dbname=rush20221215 \nOr call us at 419-776-2028
URL:https://theboardwalkgrill.com/event/upper-deck-golf-bays-open-5
LOCATION:Upper Deck Sports Bar\, Celina\, OH\, United States
CATEGORIES:Upper Deck Sports Bar
GEO:40.556645;-84.628714
END:VEVENT
BEGIN:VEVENT
DTSTART;TZID=America/New_York:20250707T090000
DTEND;TZID=America/New_York:20250707T160000
DTSTAMP:20260424T195547
CREATED:20250702T060429Z
LAST-MODIFIED:20250707T061931Z
UID:10000794-1751878800-1751904000@theboardwalkgrill.com
SUMMARY:Upper Deck: Golf Bays Open!
DESCRIPTION:To reserve\, \nVisit https://player.eagleclubsystems.online/#/tee-slot?dbname=rush20221215 \nOr call us at 419-776-2028
URL:https://theboardwalkgrill.com/event/upper-deck-golf-bays-open-4
LOCATION:Upper Deck Sports Bar\, Celina\, OH\, United States
CATEGORIES:Upper Deck Sports Bar
GEO:40.556645;-84.628714
END:VEVENT
BEGIN:VEVENT
DTSTART;TZID=America/New_York:20250704T090000
DTEND;TZID=America/New_York:20250704T160000
DTSTAMP:20260424T195547
CREATED:20250702T060428Z
LAST-MODIFIED:20250704T061931Z
UID:10000793-1751619600-1751644800@theboardwalkgrill.com
SUMMARY:Upper Deck: Golf Bays Open!
DESCRIPTION:To reserve\, \nVisit https://player.eagleclubsystems.online/#/tee-slot?dbname=rush20221215 \nOr call us at 419-776-2028
URL:https://theboardwalkgrill.com/event/upper-deck-golf-bays-open-3
LOCATION:Upper Deck Sports Bar\, Celina\, OH\, United States
CATEGORIES:Upper Deck Sports Bar
GEO:40.556645;-84.628714
END:VEVENT
BEGIN:VEVENT
DTSTART;TZID=America/New_York:20250703T090000
DTEND;TZID=America/New_York:20250703T160000
DTSTAMP:20260424T195547
CREATED:20250702T060428Z
LAST-MODIFIED:20250703T061934Z
UID:10000792-1751533200-1751558400@theboardwalkgrill.com
SUMMARY:Upper Deck: Golf Bays Open!
DESCRIPTION:To reserve\, \nVisit https://player.eagleclubsystems.online/#/tee-slot?dbname=rush20221215 \nOr call us at 419-776-2028
URL:https://theboardwalkgrill.com/event/upper-deck-golf-bays-open-2
LOCATION:Upper Deck Sports Bar\, Celina\, OH\, United States
CATEGORIES:Upper Deck Sports Bar
GEO:40.556645;-84.628714
END:VEVENT
BEGIN:VEVENT
DTSTART;TZID=America/New_York:20250702T090000
DTEND;TZID=America/New_York:20250702T160000
DTSTAMP:20260424T195547
CREATED:20250702T060428Z
LAST-MODIFIED:20250702T060430Z
UID:10000791-1751446800-1751472000@theboardwalkgrill.com
SUMMARY:Upper Deck: Golf Bays Open!
DESCRIPTION:To reserve\, \nVisit https://player.eagleclubsystems.online/#/tee-slot?dbname=rush20221215 \nOr call us at 419-776-2028
URL:https://theboardwalkgrill.com/event/upper-deck-golf-bays-open
LOCATION:Upper Deck Sports Bar\, Celina\, OH\, United States
CATEGORIES:Upper Deck Sports Bar
GEO:40.556645;-84.628714
END:VEVENT
BEGIN:VEVENT
DTSTART;TZID=America/New_York:20241231T110000
DTEND;TZID=America/New_York:20241231T220000
DTSTAMP:20260424T195547
CREATED:20241217T114948Z
LAST-MODIFIED:20241231T123433Z
UID:10000437-1735642800-1735682400@theboardwalkgrill.com
SUMMARY:Upper Deck: New Years Eve
DESCRIPTION:Join us at the Upper Deck & Shipyard for a fun New Years Eve! \nUpper Deck – \n\nHours 11AM – 10PM\nHappy Hour 3PM – 10PM $3 16oz drafts\nJello Shots 12 Pack for $20\nGolf Bay rentals\n\nShipyard \n\nFREE PLAY for the day\nNew Year’s ½ Field Kick-Off Challenge!\n\nHelp a Local Family in Need & Have Fun Doing It!\n$2 for 1 shot\n$5 for 3 shots\nBonus: Every participant has a chance to double their money by kicking from behind the line (receive $2 back per shot they make)! Join us this New Year’s Eve for a fun and meaningful challenge that supports a local family in need. Kick for a cause and make your shot count!\n\n\n\nBlue Goose will be running that evening as well! If you want to schedule a ride you can reach out to their number to get on the list (419-852-1898).
URL:https://theboardwalkgrill.com/event/upper-deck-new-years-eve
LOCATION:Upper Deck Sports Bar\, Celina\, OH\, United States
CATEGORIES:Upper Deck Sports Bar
GEO:40.556645;-84.628714
END:VEVENT
END:VCALENDAR