BEGIN:VCALENDAR
VERSION:2.0
PRODID:-//Boardwalk Grill - ECPv6.15.13.1//NONSGML v1.0//EN
CALSCALE:GREGORIAN
METHOD:PUBLISH
X-ORIGINAL-URL:https://theboardwalkgrill.com
X-WR-CALDESC:Events for Boardwalk Grill
REFRESH-INTERVAL;VALUE=DURATION:PT1H
X-Robots-Tag:noindex
X-PUBLISHED-TTL:PT1H
BEGIN:VTIMEZONE
TZID:America/New_York
BEGIN:DAYLIGHT
TZOFFSETFROM:-0500
TZOFFSETTO:-0400
TZNAME:EDT
DTSTART:20240310T070000
END:DAYLIGHT
BEGIN:STANDARD
TZOFFSETFROM:-0400
TZOFFSETTO:-0500
TZNAME:EST
DTSTART:20241103T060000
END:STANDARD
BEGIN:DAYLIGHT
TZOFFSETFROM:-0500
TZOFFSETTO:-0400
TZNAME:EDT
DTSTART:20250309T070000
END:DAYLIGHT
BEGIN:STANDARD
TZOFFSETFROM:-0400
TZOFFSETTO:-0500
TZNAME:EST
DTSTART:20251102T060000
END:STANDARD
BEGIN:DAYLIGHT
TZOFFSETFROM:-0500
TZOFFSETTO:-0400
TZNAME:EDT
DTSTART:20260308T070000
END:DAYLIGHT
BEGIN:STANDARD
TZOFFSETFROM:-0400
TZOFFSETTO:-0500
TZNAME:EST
DTSTART:20261101T060000
END:STANDARD
END:VTIMEZONE
BEGIN:VEVENT
DTSTART;TZID=America/New_York:20250829T090000
DTEND;TZID=America/New_York:20250829T160000
DTSTAMP:20260424T153619
CREATED:20250702T060435Z
LAST-MODIFIED:20250829T084923Z
UID:10000833-1756458000-1756483200@theboardwalkgrill.com
SUMMARY:Upper Deck: Golf Bays Open!
DESCRIPTION:To reserve\, \nVisit https://player.eagleclubsystems.online/#/tee-slot?dbname=rush20221215 \nOr call us at 419-776-2028
URL:https://theboardwalkgrill.com/event/upper-deck-golf-bays-open-43
LOCATION:Upper Deck Sports Bar\, Celina\, OH\, United States
CATEGORIES:Upper Deck Sports Bar
GEO:40.556645;-84.628714
END:VEVENT
BEGIN:VEVENT
DTSTART;TZID=America/New_York:20250828T090000
DTEND;TZID=America/New_York:20250828T160000
DTSTAMP:20260424T153619
CREATED:20250702T060435Z
LAST-MODIFIED:20250828T084938Z
UID:10000832-1756371600-1756396800@theboardwalkgrill.com
SUMMARY:Upper Deck: Golf Bays Open!
DESCRIPTION:To reserve\, \nVisit https://player.eagleclubsystems.online/#/tee-slot?dbname=rush20221215 \nOr call us at 419-776-2028
URL:https://theboardwalkgrill.com/event/upper-deck-golf-bays-open-42
LOCATION:Upper Deck Sports Bar\, Celina\, OH\, United States
CATEGORIES:Upper Deck Sports Bar
GEO:40.556645;-84.628714
END:VEVENT
BEGIN:VEVENT
DTSTART;TZID=America/New_York:20250827T090000
DTEND;TZID=America/New_York:20250827T160000
DTSTAMP:20260424T153619
CREATED:20250702T060435Z
LAST-MODIFIED:20250827T083433Z
UID:10000831-1756285200-1756310400@theboardwalkgrill.com
SUMMARY:Upper Deck: Golf Bays Open!
DESCRIPTION:To reserve\, \nVisit https://player.eagleclubsystems.online/#/tee-slot?dbname=rush20221215 \nOr call us at 419-776-2028
URL:https://theboardwalkgrill.com/event/upper-deck-golf-bays-open-41
LOCATION:Upper Deck Sports Bar\, Celina\, OH\, United States
CATEGORIES:Upper Deck Sports Bar
GEO:40.556645;-84.628714
END:VEVENT
BEGIN:VEVENT
DTSTART;TZID=America/New_York:20250826T090000
DTEND;TZID=America/New_York:20250826T160000
DTSTAMP:20260424T153619
CREATED:20250702T060435Z
LAST-MODIFIED:20250826T083428Z
UID:10000830-1756198800-1756224000@theboardwalkgrill.com
SUMMARY:Upper Deck: Golf Bays Open!
DESCRIPTION:To reserve\, \nVisit https://player.eagleclubsystems.online/#/tee-slot?dbname=rush20221215 \nOr call us at 419-776-2028
URL:https://theboardwalkgrill.com/event/upper-deck-golf-bays-open-40
LOCATION:Upper Deck Sports Bar\, Celina\, OH\, United States
CATEGORIES:Upper Deck Sports Bar
GEO:40.556645;-84.628714
END:VEVENT
BEGIN:VEVENT
DTSTART;TZID=America/New_York:20250825T090000
DTEND;TZID=America/New_York:20250825T160000
DTSTAMP:20260424T153619
CREATED:20250702T060434Z
LAST-MODIFIED:20250825T081936Z
UID:10000829-1756112400-1756137600@theboardwalkgrill.com
SUMMARY:Upper Deck: Golf Bays Open!
DESCRIPTION:To reserve\, \nVisit https://player.eagleclubsystems.online/#/tee-slot?dbname=rush20221215 \nOr call us at 419-776-2028
URL:https://theboardwalkgrill.com/event/upper-deck-golf-bays-open-39
LOCATION:Upper Deck Sports Bar\, Celina\, OH\, United States
CATEGORIES:Upper Deck Sports Bar
GEO:40.556645;-84.628714
END:VEVENT
BEGIN:VEVENT
DTSTART;TZID=America/New_York:20250822T090000
DTEND;TZID=America/New_York:20250822T160000
DTSTAMP:20260424T153619
CREATED:20250702T060434Z
LAST-MODIFIED:20250822T082009Z
UID:10000828-1755853200-1755878400@theboardwalkgrill.com
SUMMARY:Upper Deck: Golf Bays Open!
DESCRIPTION:To reserve\, \nVisit https://player.eagleclubsystems.online/#/tee-slot?dbname=rush20221215 \nOr call us at 419-776-2028
URL:https://theboardwalkgrill.com/event/upper-deck-golf-bays-open-38
LOCATION:Upper Deck Sports Bar\, Celina\, OH\, United States
CATEGORIES:Upper Deck Sports Bar
GEO:40.556645;-84.628714
END:VEVENT
BEGIN:VEVENT
DTSTART;TZID=America/New_York:20250821T090000
DTEND;TZID=America/New_York:20250821T160000
DTSTAMP:20260424T153619
CREATED:20250702T060434Z
LAST-MODIFIED:20250821T082035Z
UID:10000827-1755766800-1755792000@theboardwalkgrill.com
SUMMARY:Upper Deck: Golf Bays Open!
DESCRIPTION:To reserve\, \nVisit https://player.eagleclubsystems.online/#/tee-slot?dbname=rush20221215 \nOr call us at 419-776-2028
URL:https://theboardwalkgrill.com/event/upper-deck-golf-bays-open-37
LOCATION:Upper Deck Sports Bar\, Celina\, OH\, United States
CATEGORIES:Upper Deck Sports Bar
GEO:40.556645;-84.628714
END:VEVENT
BEGIN:VEVENT
DTSTART;TZID=America/New_York:20250820T090000
DTEND;TZID=America/New_York:20250820T160000
DTSTAMP:20260424T153619
CREATED:20250702T060434Z
LAST-MODIFIED:20250820T080439Z
UID:10000826-1755680400-1755705600@theboardwalkgrill.com
SUMMARY:Upper Deck: Golf Bays Open!
DESCRIPTION:To reserve\, \nVisit https://player.eagleclubsystems.online/#/tee-slot?dbname=rush20221215 \nOr call us at 419-776-2028
URL:https://theboardwalkgrill.com/event/upper-deck-golf-bays-open-36
LOCATION:Upper Deck Sports Bar\, Celina\, OH\, United States
CATEGORIES:Upper Deck Sports Bar
GEO:40.556645;-84.628714
END:VEVENT
BEGIN:VEVENT
DTSTART;TZID=America/New_York:20250819T090000
DTEND;TZID=America/New_York:20250819T160000
DTSTAMP:20260424T153619
CREATED:20250702T060434Z
LAST-MODIFIED:20250819T080600Z
UID:10000825-1755594000-1755619200@theboardwalkgrill.com
SUMMARY:Upper Deck: Golf Bays Open!
DESCRIPTION:To reserve\, \nVisit https://player.eagleclubsystems.online/#/tee-slot?dbname=rush20221215 \nOr call us at 419-776-2028
URL:https://theboardwalkgrill.com/event/upper-deck-golf-bays-open-35
LOCATION:Upper Deck Sports Bar\, Celina\, OH\, United States
CATEGORIES:Upper Deck Sports Bar
GEO:40.556645;-84.628714
END:VEVENT
BEGIN:VEVENT
DTSTART;TZID=America/New_York:20250818T090000
DTEND;TZID=America/New_York:20250818T160000
DTSTAMP:20260424T153619
CREATED:20250702T060434Z
LAST-MODIFIED:20250818T075003Z
UID:10000824-1755507600-1755532800@theboardwalkgrill.com
SUMMARY:Upper Deck: Golf Bays Open!
DESCRIPTION:To reserve\, \nVisit https://player.eagleclubsystems.online/#/tee-slot?dbname=rush20221215 \nOr call us at 419-776-2028
URL:https://theboardwalkgrill.com/event/upper-deck-golf-bays-open-34
LOCATION:Upper Deck Sports Bar\, Celina\, OH\, United States
CATEGORIES:Upper Deck Sports Bar
GEO:40.556645;-84.628714
END:VEVENT
BEGIN:VEVENT
DTSTART;TZID=America/New_York:20250815T090000
DTEND;TZID=America/New_York:20250815T160000
DTSTAMP:20260424T153619
CREATED:20250702T060434Z
LAST-MODIFIED:20250815T074929Z
UID:10000823-1755248400-1755273600@theboardwalkgrill.com
SUMMARY:Upper Deck: Golf Bays Open!
DESCRIPTION:To reserve\, \nVisit https://player.eagleclubsystems.online/#/tee-slot?dbname=rush20221215 \nOr call us at 419-776-2028
URL:https://theboardwalkgrill.com/event/upper-deck-golf-bays-open-33
LOCATION:Upper Deck Sports Bar\, Celina\, OH\, United States
CATEGORIES:Upper Deck Sports Bar
GEO:40.556645;-84.628714
END:VEVENT
BEGIN:VEVENT
DTSTART;TZID=America/New_York:20250814T090000
DTEND;TZID=America/New_York:20250814T160000
DTSTAMP:20260424T153619
CREATED:20250702T060433Z
LAST-MODIFIED:20250814T074925Z
UID:10000822-1755162000-1755187200@theboardwalkgrill.com
SUMMARY:Upper Deck: Golf Bays Open!
DESCRIPTION:To reserve\, \nVisit https://player.eagleclubsystems.online/#/tee-slot?dbname=rush20221215 \nOr call us at 419-776-2028
URL:https://theboardwalkgrill.com/event/upper-deck-golf-bays-open-32
LOCATION:Upper Deck Sports Bar\, Celina\, OH\, United States
CATEGORIES:Upper Deck Sports Bar
GEO:40.556645;-84.628714
END:VEVENT
BEGIN:VEVENT
DTSTART;TZID=America/New_York:20250813T090000
DTEND;TZID=America/New_York:20250813T160000
DTSTAMP:20260424T153619
CREATED:20250702T060433Z
LAST-MODIFIED:20250813T074933Z
UID:10000821-1755075600-1755100800@theboardwalkgrill.com
SUMMARY:Upper Deck: Golf Bays Open!
DESCRIPTION:To reserve\, \nVisit https://player.eagleclubsystems.online/#/tee-slot?dbname=rush20221215 \nOr call us at 419-776-2028
URL:https://theboardwalkgrill.com/event/upper-deck-golf-bays-open-31
LOCATION:Upper Deck Sports Bar\, Celina\, OH\, United States
CATEGORIES:Upper Deck Sports Bar
GEO:40.556645;-84.628714
END:VEVENT
BEGIN:VEVENT
DTSTART;TZID=America/New_York:20250812T090000
DTEND;TZID=America/New_York:20250812T160000
DTSTAMP:20260424T153619
CREATED:20250702T060433Z
LAST-MODIFIED:20250812T073429Z
UID:10000820-1754989200-1755014400@theboardwalkgrill.com
SUMMARY:Upper Deck: Golf Bays Open!
DESCRIPTION:To reserve\, \nVisit https://player.eagleclubsystems.online/#/tee-slot?dbname=rush20221215 \nOr call us at 419-776-2028
URL:https://theboardwalkgrill.com/event/upper-deck-golf-bays-open-30
LOCATION:Upper Deck Sports Bar\, Celina\, OH\, United States
CATEGORIES:Upper Deck Sports Bar
GEO:40.556645;-84.628714
END:VEVENT
BEGIN:VEVENT
DTSTART;TZID=America/New_York:20250811T090000
DTEND;TZID=America/New_York:20250811T160000
DTSTAMP:20260424T153619
CREATED:20250702T060433Z
LAST-MODIFIED:20250811T073428Z
UID:10000819-1754902800-1754928000@theboardwalkgrill.com
SUMMARY:Upper Deck: Golf Bays Open!
DESCRIPTION:To reserve\, \nVisit https://player.eagleclubsystems.online/#/tee-slot?dbname=rush20221215 \nOr call us at 419-776-2028
URL:https://theboardwalkgrill.com/event/upper-deck-golf-bays-open-29
LOCATION:Upper Deck Sports Bar\, Celina\, OH\, United States
CATEGORIES:Upper Deck Sports Bar
GEO:40.556645;-84.628714
END:VEVENT
BEGIN:VEVENT
DTSTART;TZID=America/New_York:20250808T090000
DTEND;TZID=America/New_York:20250808T160000
DTSTAMP:20260424T153619
CREATED:20250702T060433Z
LAST-MODIFIED:20250808T073431Z
UID:10000818-1754643600-1754668800@theboardwalkgrill.com
SUMMARY:Upper Deck: Golf Bays Open!
DESCRIPTION:To reserve\, \nVisit https://player.eagleclubsystems.online/#/tee-slot?dbname=rush20221215 \nOr call us at 419-776-2028
URL:https://theboardwalkgrill.com/event/upper-deck-golf-bays-open-28
LOCATION:Upper Deck Sports Bar\, Celina\, OH\, United States
CATEGORIES:Upper Deck Sports Bar
GEO:40.556645;-84.628714
END:VEVENT
BEGIN:VEVENT
DTSTART;TZID=America/New_York:20250807T090000
DTEND;TZID=America/New_York:20250807T160000
DTSTAMP:20260424T153619
CREATED:20250702T060433Z
LAST-MODIFIED:20250807T073423Z
UID:10000817-1754557200-1754582400@theboardwalkgrill.com
SUMMARY:Upper Deck: Golf Bays Open!
DESCRIPTION:To reserve\, \nVisit https://player.eagleclubsystems.online/#/tee-slot?dbname=rush20221215 \nOr call us at 419-776-2028
URL:https://theboardwalkgrill.com/event/upper-deck-golf-bays-open-27
LOCATION:Upper Deck Sports Bar\, Celina\, OH\, United States
CATEGORIES:Upper Deck Sports Bar
GEO:40.556645;-84.628714
END:VEVENT
BEGIN:VEVENT
DTSTART;TZID=America/New_York:20250806T090000
DTEND;TZID=America/New_York:20250806T160000
DTSTAMP:20260424T153619
CREATED:20250702T060433Z
LAST-MODIFIED:20250806T071932Z
UID:10000816-1754470800-1754496000@theboardwalkgrill.com
SUMMARY:Upper Deck: Golf Bays Open!
DESCRIPTION:To reserve\, \nVisit https://player.eagleclubsystems.online/#/tee-slot?dbname=rush20221215 \nOr call us at 419-776-2028
URL:https://theboardwalkgrill.com/event/upper-deck-golf-bays-open-26
LOCATION:Upper Deck Sports Bar\, Celina\, OH\, United States
CATEGORIES:Upper Deck Sports Bar
GEO:40.556645;-84.628714
END:VEVENT
BEGIN:VEVENT
DTSTART;TZID=America/New_York:20250805T090000
DTEND;TZID=America/New_York:20250805T160000
DTSTAMP:20260424T153619
CREATED:20250702T060433Z
LAST-MODIFIED:20250805T071933Z
UID:10000815-1754384400-1754409600@theboardwalkgrill.com
SUMMARY:Upper Deck: Golf Bays Open!
DESCRIPTION:To reserve\, \nVisit https://player.eagleclubsystems.online/#/tee-slot?dbname=rush20221215 \nOr call us at 419-776-2028
URL:https://theboardwalkgrill.com/event/upper-deck-golf-bays-open-25
LOCATION:Upper Deck Sports Bar\, Celina\, OH\, United States
CATEGORIES:Upper Deck Sports Bar
GEO:40.556645;-84.628714
END:VEVENT
BEGIN:VEVENT
DTSTART;TZID=America/New_York:20250804T090000
DTEND;TZID=America/New_York:20250804T160000
DTSTAMP:20260424T153619
CREATED:20250702T060432Z
LAST-MODIFIED:20250804T070535Z
UID:10000814-1754298000-1754323200@theboardwalkgrill.com
SUMMARY:Upper Deck: Golf Bays Open!
DESCRIPTION:To reserve\, \nVisit https://player.eagleclubsystems.online/#/tee-slot?dbname=rush20221215 \nOr call us at 419-776-2028
URL:https://theboardwalkgrill.com/event/upper-deck-golf-bays-open-24
LOCATION:Upper Deck Sports Bar\, Celina\, OH\, United States
CATEGORIES:Upper Deck Sports Bar
GEO:40.556645;-84.628714
END:VEVENT
BEGIN:VEVENT
DTSTART;TZID=America/New_York:20250801T090000
DTEND;TZID=America/New_York:20250801T160000
DTSTAMP:20260424T153619
CREATED:20250702T060432Z
LAST-MODIFIED:20250801T070436Z
UID:10000813-1754038800-1754064000@theboardwalkgrill.com
SUMMARY:Upper Deck: Golf Bays Open!
DESCRIPTION:To reserve\, \nVisit https://player.eagleclubsystems.online/#/tee-slot?dbname=rush20221215 \nOr call us at 419-776-2028
URL:https://theboardwalkgrill.com/event/upper-deck-golf-bays-open-23
LOCATION:Upper Deck Sports Bar\, Celina\, OH\, United States
CATEGORIES:Upper Deck Sports Bar
GEO:40.556645;-84.628714
END:VEVENT
BEGIN:VEVENT
DTSTART;TZID=America/New_York:20250731T090000
DTEND;TZID=America/New_York:20250731T160000
DTSTAMP:20260424T153619
CREATED:20250702T060432Z
LAST-MODIFIED:20250731T070428Z
UID:10000812-1753952400-1753977600@theboardwalkgrill.com
SUMMARY:Upper Deck: Golf Bays Open!
DESCRIPTION:To reserve\, \nVisit https://player.eagleclubsystems.online/#/tee-slot?dbname=rush20221215 \nOr call us at 419-776-2028
URL:https://theboardwalkgrill.com/event/upper-deck-golf-bays-open-22
LOCATION:Upper Deck Sports Bar\, Celina\, OH\, United States
CATEGORIES:Upper Deck Sports Bar
GEO:40.556645;-84.628714
END:VEVENT
BEGIN:VEVENT
DTSTART;TZID=America/New_York:20250730T090000
DTEND;TZID=America/New_York:20250730T160000
DTSTAMP:20260424T153619
CREATED:20250702T060432Z
LAST-MODIFIED:20250730T070531Z
UID:10000811-1753866000-1753891200@theboardwalkgrill.com
SUMMARY:Upper Deck: Golf Bays Open!
DESCRIPTION:To reserve\, \nVisit https://player.eagleclubsystems.online/#/tee-slot?dbname=rush20221215 \nOr call us at 419-776-2028
URL:https://theboardwalkgrill.com/event/upper-deck-golf-bays-open-21
LOCATION:Upper Deck Sports Bar\, Celina\, OH\, United States
CATEGORIES:Upper Deck Sports Bar
GEO:40.556645;-84.628714
END:VEVENT
BEGIN:VEVENT
DTSTART;TZID=America/New_York:20250729T090000
DTEND;TZID=America/New_York:20250729T160000
DTSTAMP:20260424T153619
CREATED:20250702T060432Z
LAST-MODIFIED:20250729T070532Z
UID:10000810-1753779600-1753804800@theboardwalkgrill.com
SUMMARY:Upper Deck: Golf Bays Open!
DESCRIPTION:To reserve\, \nVisit https://player.eagleclubsystems.online/#/tee-slot?dbname=rush20221215 \nOr call us at 419-776-2028
URL:https://theboardwalkgrill.com/event/upper-deck-golf-bays-open-20
LOCATION:Upper Deck Sports Bar\, Celina\, OH\, United States
CATEGORIES:Upper Deck Sports Bar
GEO:40.556645;-84.628714
END:VEVENT
BEGIN:VEVENT
DTSTART;TZID=America/New_York:20250728T090000
DTEND;TZID=America/New_York:20250728T160000
DTSTAMP:20260424T153619
CREATED:20250702T060432Z
LAST-MODIFIED:20250728T070437Z
UID:10000809-1753693200-1753718400@theboardwalkgrill.com
SUMMARY:Upper Deck: Golf Bays Open!
DESCRIPTION:To reserve\, \nVisit https://player.eagleclubsystems.online/#/tee-slot?dbname=rush20221215 \nOr call us at 419-776-2028
URL:https://theboardwalkgrill.com/event/upper-deck-golf-bays-open-19
LOCATION:Upper Deck Sports Bar\, Celina\, OH\, United States
CATEGORIES:Upper Deck Sports Bar
GEO:40.556645;-84.628714
END:VEVENT
BEGIN:VEVENT
DTSTART;TZID=America/New_York:20250725T090000
DTEND;TZID=America/New_York:20250725T160000
DTSTAMP:20260424T153619
CREATED:20250702T060432Z
LAST-MODIFIED:20250725T070423Z
UID:10000808-1753434000-1753459200@theboardwalkgrill.com
SUMMARY:Upper Deck: Golf Bays Open!
DESCRIPTION:To reserve\, \nVisit https://player.eagleclubsystems.online/#/tee-slot?dbname=rush20221215 \nOr call us at 419-776-2028
URL:https://theboardwalkgrill.com/event/upper-deck-golf-bays-open-18
LOCATION:Upper Deck Sports Bar\, Celina\, OH\, United States
CATEGORIES:Upper Deck Sports Bar
GEO:40.556645;-84.628714
END:VEVENT
BEGIN:VEVENT
DTSTART;TZID=America/New_York:20250724T090000
DTEND;TZID=America/New_York:20250724T160000
DTSTAMP:20260424T153619
CREATED:20250702T060432Z
LAST-MODIFIED:20250724T070427Z
UID:10000807-1753347600-1753372800@theboardwalkgrill.com
SUMMARY:Upper Deck: Golf Bays Open!
DESCRIPTION:To reserve\, \nVisit https://player.eagleclubsystems.online/#/tee-slot?dbname=rush20221215 \nOr call us at 419-776-2028
URL:https://theboardwalkgrill.com/event/upper-deck-golf-bays-open-17
LOCATION:Upper Deck Sports Bar\, Celina\, OH\, United States
CATEGORIES:Upper Deck Sports Bar
GEO:40.556645;-84.628714
END:VEVENT
BEGIN:VEVENT
DTSTART;TZID=America/New_York:20250723T090000
DTEND;TZID=America/New_York:20250723T160000
DTSTAMP:20260424T153619
CREATED:20250702T060431Z
LAST-MODIFIED:20250723T064946Z
UID:10000806-1753261200-1753286400@theboardwalkgrill.com
SUMMARY:Upper Deck: Golf Bays Open!
DESCRIPTION:To reserve\, \nVisit https://player.eagleclubsystems.online/#/tee-slot?dbname=rush20221215 \nOr call us at 419-776-2028
URL:https://theboardwalkgrill.com/event/upper-deck-golf-bays-open-16
LOCATION:Upper Deck Sports Bar\, Celina\, OH\, United States
CATEGORIES:Upper Deck Sports Bar
GEO:40.556645;-84.628714
END:VEVENT
BEGIN:VEVENT
DTSTART;TZID=America/New_York:20250722T090000
DTEND;TZID=America/New_York:20250722T160000
DTSTAMP:20260424T153619
CREATED:20250702T060431Z
LAST-MODIFIED:20250722T064937Z
UID:10000805-1753174800-1753200000@theboardwalkgrill.com
SUMMARY:Upper Deck: Golf Bays Open!
DESCRIPTION:To reserve\, \nVisit https://player.eagleclubsystems.online/#/tee-slot?dbname=rush20221215 \nOr call us at 419-776-2028
URL:https://theboardwalkgrill.com/event/upper-deck-golf-bays-open-15
LOCATION:Upper Deck Sports Bar\, Celina\, OH\, United States
CATEGORIES:Upper Deck Sports Bar
GEO:40.556645;-84.628714
END:VEVENT
BEGIN:VEVENT
DTSTART;TZID=America/New_York:20250721T090000
DTEND;TZID=America/New_York:20250721T160000
DTSTAMP:20260424T153619
CREATED:20250702T060431Z
LAST-MODIFIED:20250721T064930Z
UID:10000804-1753088400-1753113600@theboardwalkgrill.com
SUMMARY:Upper Deck: Golf Bays Open!
DESCRIPTION:To reserve\, \nVisit https://player.eagleclubsystems.online/#/tee-slot?dbname=rush20221215 \nOr call us at 419-776-2028
URL:https://theboardwalkgrill.com/event/upper-deck-golf-bays-open-14
LOCATION:Upper Deck Sports Bar\, Celina\, OH\, United States
CATEGORIES:Upper Deck Sports Bar
GEO:40.556645;-84.628714
END:VEVENT
END:VCALENDAR