BEGIN:VCALENDAR
VERSION:2.0
PRODID:-//Boardwalk Grill - ECPv6.15.13.1//NONSGML v1.0//EN
CALSCALE:GREGORIAN
METHOD:PUBLISH
X-WR-CALNAME:Boardwalk Grill
X-ORIGINAL-URL:https://theboardwalkgrill.com
X-WR-CALDESC:Events for Boardwalk Grill
REFRESH-INTERVAL;VALUE=DURATION:PT1H
X-Robots-Tag:noindex
X-PUBLISHED-TTL:PT1H
BEGIN:VTIMEZONE
TZID:America/New_York
BEGIN:DAYLIGHT
TZOFFSETFROM:-0500
TZOFFSETTO:-0400
TZNAME:EDT
DTSTART:20230312T070000
END:DAYLIGHT
BEGIN:STANDARD
TZOFFSETFROM:-0400
TZOFFSETTO:-0500
TZNAME:EST
DTSTART:20231105T060000
END:STANDARD
BEGIN:DAYLIGHT
TZOFFSETFROM:-0500
TZOFFSETTO:-0400
TZNAME:EDT
DTSTART:20240310T070000
END:DAYLIGHT
BEGIN:STANDARD
TZOFFSETFROM:-0400
TZOFFSETTO:-0500
TZNAME:EST
DTSTART:20241103T060000
END:STANDARD
BEGIN:DAYLIGHT
TZOFFSETFROM:-0500
TZOFFSETTO:-0400
TZNAME:EDT
DTSTART:20250309T070000
END:DAYLIGHT
BEGIN:STANDARD
TZOFFSETFROM:-0400
TZOFFSETTO:-0500
TZNAME:EST
DTSTART:20251102T060000
END:STANDARD
BEGIN:DAYLIGHT
TZOFFSETFROM:-0500
TZOFFSETTO:-0400
TZNAME:EDT
DTSTART:20260308T070000
END:DAYLIGHT
BEGIN:STANDARD
TZOFFSETFROM:-0400
TZOFFSETTO:-0500
TZNAME:EST
DTSTART:20261101T060000
END:STANDARD
END:VTIMEZONE
BEGIN:VEVENT
DTSTART;VALUE=DATE:20250807
DTEND;VALUE=DATE:20250811
DTSTAMP:20260422T104646
CREATED:20250124T035118Z
LAST-MODIFIED:20250810T054926Z
UID:10000458-1754524800-1754870399@theboardwalkgrill.com
SUMMARY:127 Yard Sales
DESCRIPTION:The 127 Yard Sale\, The World’s Longest Yard Sale. 6 states & 690 miles of shopping fun!  \nThursday\, August 7th – Sunday\, August 10th. \nCLICK HERE FOR MORE INFORMATION
URL:https://theboardwalkgrill.com/event/127-yard-sales-2
LOCATION:Route 127
CATEGORIES:Community Events
END:VEVENT
BEGIN:VEVENT
DTSTART;VALUE=DATE:20240801
DTEND;VALUE=DATE:20240805
DTSTAMP:20260422T104646
CREATED:20240507T132648Z
LAST-MODIFIED:20240804T201439Z
UID:10000137-1722470400-1722815999@theboardwalkgrill.com
SUMMARY:127 Yard Sales
DESCRIPTION:The 127 Yard Sale\, The World’s Longest Yard Sale.  \n6 states & 690 miles of shopping fun!  \nThursday\, August 1st – Sunday\, August 4th. \nCLICK HERE FOR MORE INFORMATION
URL:https://theboardwalkgrill.com/event/127-yard-sales
LOCATION:Route 127
CATEGORIES:Community Events
END:VEVENT
END:VCALENDAR