BEGIN:VCALENDAR
VERSION:2.0
PRODID:-//Boardwalk Grill - ECPv6.15.13.1//NONSGML v1.0//EN
CALSCALE:GREGORIAN
METHOD:PUBLISH
X-ORIGINAL-URL:https://theboardwalkgrill.com
X-WR-CALDESC:Events for Boardwalk Grill
REFRESH-INTERVAL;VALUE=DURATION:PT1H
X-Robots-Tag:noindex
X-PUBLISHED-TTL:PT1H
BEGIN:VTIMEZONE
TZID:America/New_York
BEGIN:DAYLIGHT
TZOFFSETFROM:-0500
TZOFFSETTO:-0400
TZNAME:EDT
DTSTART:20230312T070000
END:DAYLIGHT
BEGIN:STANDARD
TZOFFSETFROM:-0400
TZOFFSETTO:-0500
TZNAME:EST
DTSTART:20231105T060000
END:STANDARD
BEGIN:DAYLIGHT
TZOFFSETFROM:-0500
TZOFFSETTO:-0400
TZNAME:EDT
DTSTART:20240310T070000
END:DAYLIGHT
BEGIN:STANDARD
TZOFFSETFROM:-0400
TZOFFSETTO:-0500
TZNAME:EST
DTSTART:20241103T060000
END:STANDARD
BEGIN:DAYLIGHT
TZOFFSETFROM:-0500
TZOFFSETTO:-0400
TZNAME:EDT
DTSTART:20250309T070000
END:DAYLIGHT
BEGIN:STANDARD
TZOFFSETFROM:-0400
TZOFFSETTO:-0500
TZNAME:EST
DTSTART:20251102T060000
END:STANDARD
END:VTIMEZONE
BEGIN:VEVENT
DTSTART;VALUE=DATE:20240920
DTEND;VALUE=DATE:20240922
DTSTAMP:20260424T124218
CREATED:20240515T141021Z
LAST-MODIFIED:20240921T222853Z
UID:10000240-1726790400-1726963199@theboardwalkgrill.com
SUMMARY:Eldora 4 Crown
DESCRIPTION:CLICK HERE FOR MORE INFORMATION
URL:https://theboardwalkgrill.com/event/eldora-4-crown
LOCATION:Eldora Speedway\, New Weston\, OH\, United States
CATEGORIES:Community Events
GEO:40.316833;-84.633911
END:VEVENT
BEGIN:VEVENT
DTSTART;VALUE=DATE:20240905
DTEND;VALUE=DATE:20240908
DTSTAMP:20260424T124218
CREATED:20240515T141021Z
LAST-MODIFIED:20240907T212825Z
UID:10000239-1725494400-1725753599@theboardwalkgrill.com
SUMMARY:Eldora World 100
DESCRIPTION:CLICK HERE FOR MORE INFORMATION
URL:https://theboardwalkgrill.com/event/eldora-world-100
LOCATION:Eldora Speedway\, New Weston\, OH\, United States
CATEGORIES:Community Events
GEO:40.316833;-84.633911
END:VEVENT
BEGIN:VEVENT
DTSTART;VALUE=DATE:20240901
DTEND;VALUE=DATE:20240902
DTSTAMP:20260424T124218
CREATED:20240515T141021Z
LAST-MODIFIED:20240901T212817Z
UID:10000237-1725148800-1725235199@theboardwalkgrill.com
SUMMARY:Eldora Battles Classic
DESCRIPTION:CLICK HERE FOR MORE INFORMATION
URL:https://theboardwalkgrill.com/event/eldora-battles-classic
LOCATION:Eldora Speedway\, New Weston\, OH\, United States
CATEGORIES:Community Events
GEO:40.316833;-84.633911
END:VEVENT
BEGIN:VEVENT
DTSTART;VALUE=DATE:20240717
DTEND;VALUE=DATE:20240721
DTSTAMP:20260424T124218
CREATED:20240504T132437Z
LAST-MODIFIED:20240720T193311Z
UID:10000133-1721174400-1721519999@theboardwalkgrill.com
SUMMARY:Eldora Kings Royal
DESCRIPTION:CLICK HERE FOR MORE INFORMATION
URL:https://theboardwalkgrill.com/event/eldora-kings-royal
LOCATION:Eldora Speedway\, New Weston\, OH\, United States
CATEGORIES:Community Events
GEO:40.316833;-84.633911
END:VEVENT
END:VCALENDAR