BEGIN:VCALENDAR
VERSION:2.0
PRODID:-//Boardwalk Grill - ECPv6.15.13.1//NONSGML v1.0//EN
CALSCALE:GREGORIAN
METHOD:PUBLISH
X-ORIGINAL-URL:https://theboardwalkgrill.com
X-WR-CALDESC:Events for Boardwalk Grill
REFRESH-INTERVAL;VALUE=DURATION:PT1H
X-Robots-Tag:noindex
X-PUBLISHED-TTL:PT1H
BEGIN:VTIMEZONE
TZID:America/New_York
BEGIN:DAYLIGHT
TZOFFSETFROM:-0500
TZOFFSETTO:-0400
TZNAME:EDT
DTSTART:20230312T070000
END:DAYLIGHT
BEGIN:STANDARD
TZOFFSETFROM:-0400
TZOFFSETTO:-0500
TZNAME:EST
DTSTART:20231105T060000
END:STANDARD
BEGIN:DAYLIGHT
TZOFFSETFROM:-0500
TZOFFSETTO:-0400
TZNAME:EDT
DTSTART:20240310T070000
END:DAYLIGHT
BEGIN:STANDARD
TZOFFSETFROM:-0400
TZOFFSETTO:-0500
TZNAME:EST
DTSTART:20241103T060000
END:STANDARD
BEGIN:DAYLIGHT
TZOFFSETFROM:-0500
TZOFFSETTO:-0400
TZNAME:EDT
DTSTART:20250309T070000
END:DAYLIGHT
BEGIN:STANDARD
TZOFFSETFROM:-0400
TZOFFSETTO:-0500
TZNAME:EST
DTSTART:20251102T060000
END:STANDARD
END:VTIMEZONE
BEGIN:VEVENT
DTSTART;VALUE=DATE:20240605
DTEND;VALUE=DATE:20240609
DTSTAMP:20260424T193848
CREATED:20240501T132424Z
LAST-MODIFIED:20240608T195529Z
UID:10000076-1717545600-1717891199@theboardwalkgrill.com
SUMMARY:Eldora Dirt Late Model Dream
DESCRIPTION:CLICK HERE FOR MORE INFORMATION
URL:https://theboardwalkgrill.com/event/eldora-dirt-late-model-dream
LOCATION:Eldora Speedway\, 9726\, 13929 OH-118\, New Weston\, OH 45348\, USA
CATEGORIES:Community Events
END:VEVENT
BEGIN:VEVENT
DTSTART;TZID=America/New_York:20240518T140000
DTEND;TZID=America/New_York:20240518T220000
DTSTAMP:20260424T193848
CREATED:20240430T131907Z
LAST-MODIFIED:20240518T141003Z
UID:10000071-1716040800-1716069600@theboardwalkgrill.com
SUMMARY:Eldora Family Fireworks
DESCRIPTION:CLICK HERE FOR MORE INFORMATION
URL:https://theboardwalkgrill.com/event/eldora-family-fireworks
LOCATION:Eldora Speedway\, 9726\, 13929 OH-118\, New Weston\, OH 45348\, USA
CATEGORIES:Community Events
END:VEVENT
BEGIN:VEVENT
DTSTART;VALUE=DATE:20240503
DTEND;VALUE=DATE:20240505
DTSTAMP:20260424T193848
CREATED:20240430T131906Z
LAST-MODIFIED:20240504T132436Z
UID:10000068-1714694400-1714867199@theboardwalkgrill.com
SUMMARY:Eldora Speedway: Lets Race 2
DESCRIPTION:CLICK HERE FOR MORE INFORMATION
URL:https://theboardwalkgrill.com/event/eldora-speedway-lets-race-2
LOCATION:Eldora Speedway\, 9726\, 13929 OH-118\, New Weston\, OH 45348\, USA
CATEGORIES:Community Events
END:VEVENT
END:VCALENDAR