BEGIN:VCALENDAR
VERSION:2.0
PRODID:-//Boardwalk Grill - ECPv6.15.13.1//NONSGML v1.0//EN
CALSCALE:GREGORIAN
METHOD:PUBLISH
X-ORIGINAL-URL:https://theboardwalkgrill.com
X-WR-CALDESC:Events for Boardwalk Grill
REFRESH-INTERVAL;VALUE=DURATION:PT1H
X-Robots-Tag:noindex
X-PUBLISHED-TTL:PT1H
BEGIN:VTIMEZONE
TZID:America/New_York
BEGIN:DAYLIGHT
TZOFFSETFROM:-0500
TZOFFSETTO:-0400
TZNAME:EDT
DTSTART:20230312T070000
END:DAYLIGHT
BEGIN:STANDARD
TZOFFSETFROM:-0400
TZOFFSETTO:-0500
TZNAME:EST
DTSTART:20231105T060000
END:STANDARD
BEGIN:DAYLIGHT
TZOFFSETFROM:-0500
TZOFFSETTO:-0400
TZNAME:EDT
DTSTART:20240310T070000
END:DAYLIGHT
BEGIN:STANDARD
TZOFFSETFROM:-0400
TZOFFSETTO:-0500
TZNAME:EST
DTSTART:20241103T060000
END:STANDARD
BEGIN:DAYLIGHT
TZOFFSETFROM:-0500
TZOFFSETTO:-0400
TZNAME:EDT
DTSTART:20250309T070000
END:DAYLIGHT
BEGIN:STANDARD
TZOFFSETFROM:-0400
TZOFFSETTO:-0500
TZNAME:EST
DTSTART:20251102T060000
END:STANDARD
BEGIN:DAYLIGHT
TZOFFSETFROM:-0500
TZOFFSETTO:-0400
TZNAME:EDT
DTSTART:20260308T070000
END:DAYLIGHT
BEGIN:STANDARD
TZOFFSETFROM:-0400
TZOFFSETTO:-0500
TZNAME:EST
DTSTART:20261101T060000
END:STANDARD
END:VTIMEZONE
BEGIN:VEVENT
DTSTART;VALUE=DATE:20251205
DTEND;VALUE=DATE:20251206
DTSTAMP:20260424T124216
CREATED:20241024T000435Z
LAST-MODIFIED:20251205T123428Z
UID:10000383-1764892800-1764979199@theboardwalkgrill.com
SUMMARY:First Friday: Midnight Gladness
DESCRIPTION:Join the holiday excitement in downtown Celina for Midnight Gladness! 👉 Be sure to check the discussion tab for details on all the events and sales happening.– Shop store specials– Eat your heart out on food and drinks– Get your picture taken with Santa– Watch out for the Grinch– Take a horse-drawn carriage ride– And so much more!We can’t wait for you to join in on the hustle and bustle of one of our favorite downtown events! \nCLICK HERE TO LEARN MORE
URL:https://theboardwalkgrill.com/event/first-friday-midnight-gladness
LOCATION:Downtown Celina\, 123 W Fayette St\, Celina\, OH\, United States
CATEGORIES:Community Events
GEO:40.548092;-84.571067
X-APPLE-STRUCTURED-LOCATION;VALUE=URI;X-ADDRESS=Downtown Celina 123 W Fayette St Celina OH United States;X-APPLE-RADIUS=500;X-TITLE=123 W Fayette St:geo:-84.571067,40.548092
END:VEVENT
BEGIN:VEVENT
DTSTART;VALUE=DATE:20251107
DTEND;VALUE=DATE:20251108
DTSTAMP:20260424T124216
CREATED:20241024T000435Z
LAST-MODIFIED:20250123T035142Z
UID:10000382-1762473600-1762559999@theboardwalkgrill.com
SUMMARY:First Friday: Kickoff To Christmas
DESCRIPTION:CLICK TO LEARN MORE
URL:https://theboardwalkgrill.com/event/first-friday-kickoff-to-christmas
LOCATION:Downtown Celina\, 123 W Fayette St\, Celina\, OH\, United States
CATEGORIES:Community Events
GEO:40.548092;-84.571067
X-APPLE-STRUCTURED-LOCATION;VALUE=URI;X-ADDRESS=Downtown Celina 123 W Fayette St Celina OH United States;X-APPLE-RADIUS=500;X-TITLE=123 W Fayette St:geo:-84.571067,40.548092
END:VEVENT
BEGIN:VEVENT
DTSTART;VALUE=DATE:20251003
DTEND;VALUE=DATE:20251005
DTSTAMP:20260424T124216
CREATED:20241024T000435Z
LAST-MODIFIED:20251004T080423Z
UID:10000381-1759449600-1759622399@theboardwalkgrill.com
SUMMARY:First Friday: Fall Fest
DESCRIPTION:🍂 Fall Into Fun Fest – Downtown Celina 🍁Celebrate the beauty of autumn in downtown Celina with two days of seasonal fun\, food\, and family activities! From scarecrow contests and pumpkin hunts to kids’ crafts\, local vendors\, and fall-themed food & drinks\, this First Friday & Saturday event is packed with charm. \nHighlights:🎃 Scarecrow Contest & Scarecrow Trail (Oct. 1–15)🎯 Pumpkin Coupon Hunt with local business deals🎨 Kids’ Craft Stations (both days)🍽 Fall Food Trail with seasonal specials🛍 Fall & Halloween Vendor Market (Saturday 12PM–4PM) \nBring the family\, explore downtown\, and enjoy a weekend filled with autumn colors\, creativity\, and community spirit! \nCLICK TO LEARN MORE
URL:https://theboardwalkgrill.com/event/first-friday-fall-fest
LOCATION:Downtown Celina\, 123 W Fayette St\, Celina\, OH\, United States
CATEGORIES:Community Events
GEO:40.548092;-84.571067
X-APPLE-STRUCTURED-LOCATION;VALUE=URI;X-ADDRESS=Downtown Celina 123 W Fayette St Celina OH United States;X-APPLE-RADIUS=500;X-TITLE=123 W Fayette St:geo:-84.571067,40.548092
END:VEVENT
BEGIN:VEVENT
DTSTART;VALUE=DATE:20250801
DTEND;VALUE=DATE:20250802
DTSTAMP:20260424T124216
CREATED:20241024T000434Z
LAST-MODIFIED:20250801T044934Z
UID:10000379-1754006400-1754092799@theboardwalkgrill.com
SUMMARY:First Friday: Art This Way
DESCRIPTION:CLICK TO LEARN MORE
URL:https://theboardwalkgrill.com/event/first-friday-art-this-way
LOCATION:Downtown Celina\, 123 W Fayette St\, Celina\, OH\, United States
CATEGORIES:Community Events
GEO:40.548092;-84.571067
X-APPLE-STRUCTURED-LOCATION;VALUE=URI;X-ADDRESS=Downtown Celina 123 W Fayette St Celina OH United States;X-APPLE-RADIUS=500;X-TITLE=123 W Fayette St:geo:-84.571067,40.548092
END:VEVENT
BEGIN:VEVENT
DTSTART;VALUE=DATE:20250711
DTEND;VALUE=DATE:20250712
DTSTAMP:20260424T124216
CREATED:20250311T041940Z
LAST-MODIFIED:20250711T034935Z
UID:10000511-1752192000-1752278399@theboardwalkgrill.com
SUMMARY:Taste of Celina
DESCRIPTION:CLICK HERE FOR MORE INFORMATION
URL:https://theboardwalkgrill.com/event/taste-of-celina-2
LOCATION:Downtown Celina\, 123 W Fayette St\, Celina\, OH\, United States
CATEGORIES:Community Events
GEO:40.548092;-84.571067
X-APPLE-STRUCTURED-LOCATION;VALUE=URI;X-ADDRESS=Downtown Celina 123 W Fayette St Celina OH United States;X-APPLE-RADIUS=500;X-TITLE=123 W Fayette St:geo:-84.571067,40.548092
END:VEVENT
BEGIN:VEVENT
DTSTART;VALUE=DATE:20250606
DTEND;VALUE=DATE:20250607
DTSTAMP:20260424T124216
CREATED:20241024T000434Z
LAST-MODIFIED:20250606T092035Z
UID:10000376-1749168000-1749254399@theboardwalkgrill.com
SUMMARY:First Friday: Tiki Time
DESCRIPTION:CLICK TO LEARN MORE
URL:https://theboardwalkgrill.com/event/first-friday-tiki-time
LOCATION:Downtown Celina\, 123 W Fayette St\, Celina\, OH\, United States
CATEGORIES:Community Events
GEO:40.548092;-84.571067
X-APPLE-STRUCTURED-LOCATION;VALUE=URI;X-ADDRESS=Downtown Celina 123 W Fayette St Celina OH United States;X-APPLE-RADIUS=500;X-TITLE=123 W Fayette St:geo:-84.571067,40.548092
END:VEVENT
BEGIN:VEVENT
DTSTART;VALUE=DATE:20250404
DTEND;VALUE=DATE:20250405
DTSTAMP:20260424T124216
CREATED:20241024T000433Z
LAST-MODIFIED:20250404T052013Z
UID:10000375-1743724800-1743811199@theboardwalkgrill.com
SUMMARY:First Friday: Chocolate Walk
DESCRIPTION:CLICK TO LEARN MORE
URL:https://theboardwalkgrill.com/event/first-friday-chocolate-walk
LOCATION:Downtown Celina\, 123 W Fayette St\, Celina\, OH\, United States
CATEGORIES:Community Events
GEO:40.548092;-84.571067
X-APPLE-STRUCTURED-LOCATION;VALUE=URI;X-ADDRESS=Downtown Celina 123 W Fayette St Celina OH United States;X-APPLE-RADIUS=500;X-TITLE=123 W Fayette St:geo:-84.571067,40.548092
END:VEVENT
BEGIN:VEVENT
DTSTART;VALUE=DATE:20250207
DTEND;VALUE=DATE:20250208
DTSTAMP:20260424T124216
CREATED:20241024T000432Z
LAST-MODIFIED:20250207T034923Z
UID:10000374-1738886400-1738972799@theboardwalkgrill.com
SUMMARY:First Friday: Wine About Winter
DESCRIPTION:CLICK TO LEARN MORE
URL:https://theboardwalkgrill.com/event/first-friday-wine-about-winter
LOCATION:Downtown Celina\, 123 W Fayette St\, Celina\, OH\, United States
CATEGORIES:Community Events
GEO:40.548092;-84.571067
X-APPLE-STRUCTURED-LOCATION;VALUE=URI;X-ADDRESS=Downtown Celina 123 W Fayette St Celina OH United States;X-APPLE-RADIUS=500;X-TITLE=123 W Fayette St:geo:-84.571067,40.548092
END:VEVENT
BEGIN:VEVENT
DTSTART;VALUE=DATE:20241206
DTEND;VALUE=DATE:20241207
DTSTAMP:20260424T124216
CREATED:20240511T140925Z
LAST-MODIFIED:20241206T020425Z
UID:10000144-1733443200-1733529599@theboardwalkgrill.com
SUMMARY:Celina First Friday: Midnight Gladness
DESCRIPTION:Join the holiday excitement in downtown Celina for Midnight Gladness! 👉 Be sure to check the discussion tab for details on all the events and sales happening.– Shop store specials– Eat your heart out on food and drinks– Get your picture taken with Santa– Watch out for the Grinch– And so much more! \nCLICK HERE FOR MORE INFORMATION
URL:https://theboardwalkgrill.com/event/celina-first-friday-midnight-gladness
LOCATION:Downtown Celina\, 123 W Fayette St\, Celina\, OH\, United States
CATEGORIES:Community Events
GEO:40.548092;-84.571067
X-APPLE-STRUCTURED-LOCATION;VALUE=URI;X-ADDRESS=Downtown Celina 123 W Fayette St Celina OH United States;X-APPLE-RADIUS=500;X-TITLE=123 W Fayette St:geo:-84.571067,40.548092
END:VEVENT
BEGIN:VEVENT
DTSTART;TZID=America/New_York:20241101T170000
DTEND;TZID=America/New_York:20241101T210000
DTSTAMP:20260424T124216
CREATED:20240511T140924Z
LAST-MODIFIED:20241102T004547Z
UID:10000143-1730480400-1730494800@theboardwalkgrill.com
SUMMARY:Celina First Friday: Holiday Giving
DESCRIPTION:Kick off the holiday season with the Celina Merchants! 🎁 Each participating business will be offering their own special deals/giveaways/holiday fun! \nParticipating merchants will also be selling “ornaments“! Each paper ornament will be just $1 and can be signed and displayed at the business!All donated money will go to the merchants association to help fund:– improvements to the downtown area such as: an outdoor speaker system\, park benches\, etc.– funding future first first Friday events– providing entertainment for future merchant events– and so much more! \nLet’s start this holiday season by supporting your local businesses!  \nCLICK HERE FOR MORE INFORMATION
URL:https://theboardwalkgrill.com/event/celina-first-friday-holiday-giving
LOCATION:Downtown Celina\, 123 W Fayette St\, Celina\, OH\, United States
CATEGORIES:Community Events
GEO:40.548092;-84.571067
X-APPLE-STRUCTURED-LOCATION;VALUE=URI;X-ADDRESS=Downtown Celina 123 W Fayette St Celina OH United States;X-APPLE-RADIUS=500;X-TITLE=123 W Fayette St:geo:-84.571067,40.548092
END:VEVENT
BEGIN:VEVENT
DTSTART;VALUE=DATE:20241004
DTEND;VALUE=DATE:20241005
DTSTAMP:20260424T124216
CREATED:20240511T140924Z
LAST-MODIFIED:20241004T233530Z
UID:10000142-1728000000-1728086399@theboardwalkgrill.com
SUMMARY:Celina First Friday: Fall Fest
DESCRIPTION:CLICK HERE FOR MORE INFORMATION
URL:https://theboardwalkgrill.com/event/celina-first-friday-fall-fest
LOCATION:Downtown Celina\, 123 W Fayette St\, Celina\, OH\, United States
CATEGORIES:Community Events
GEO:40.548092;-84.571067
X-APPLE-STRUCTURED-LOCATION;VALUE=URI;X-ADDRESS=Downtown Celina 123 W Fayette St Celina OH United States;X-APPLE-RADIUS=500;X-TITLE=123 W Fayette St:geo:-84.571067,40.548092
END:VEVENT
BEGIN:VEVENT
DTSTART;VALUE=DATE:20240906
DTEND;VALUE=DATE:20240907
DTSTAMP:20260424T124216
CREATED:20240511T140924Z
LAST-MODIFIED:20240906T212818Z
UID:10000141-1725580800-1725667199@theboardwalkgrill.com
SUMMARY:Celina First Friday - Labor Day
DESCRIPTION:CLICK HERE FOR MORE INFORMATION
URL:https://theboardwalkgrill.com/event/celina-first-friday-labor-day
LOCATION:Downtown Celina\, 123 W Fayette St\, Celina\, OH\, United States
CATEGORIES:Community Events
GEO:40.548092;-84.571067
X-APPLE-STRUCTURED-LOCATION;VALUE=URI;X-ADDRESS=Downtown Celina 123 W Fayette St Celina OH United States;X-APPLE-RADIUS=500;X-TITLE=123 W Fayette St:geo:-84.571067,40.548092
END:VEVENT
BEGIN:VEVENT
DTSTART;VALUE=DATE:20240802
DTEND;VALUE=DATE:20240803
DTSTAMP:20260424T124216
CREATED:20240511T140924Z
LAST-MODIFIED:20240802T201423Z
UID:10000140-1722556800-1722643199@theboardwalkgrill.com
SUMMARY:Celina First Friday: Art This Way
DESCRIPTION:CLICK HERE FOR MORE INFORMATION
URL:https://theboardwalkgrill.com/event/celina-first-friday-tailgate
LOCATION:Downtown Celina\, 123 W Fayette St\, Celina\, OH\, United States
CATEGORIES:Community Events
GEO:40.548092;-84.571067
X-APPLE-STRUCTURED-LOCATION;VALUE=URI;X-ADDRESS=Downtown Celina 123 W Fayette St Celina OH United States;X-APPLE-RADIUS=500;X-TITLE=123 W Fayette St:geo:-84.571067,40.548092
END:VEVENT
BEGIN:VEVENT
DTSTART;VALUE=DATE:20240712
DTEND;VALUE=DATE:20240713
DTSTAMP:20260424T124216
CREATED:20240501T132425Z
LAST-MODIFIED:20240712T182443Z
UID:10000083-1720742400-1720828799@theboardwalkgrill.com
SUMMARY:Taste of Celina
DESCRIPTION:Local restaurants gather and showcase their favorite dishes! \nCLICK HERE FOR MORE INFORMATION
URL:https://theboardwalkgrill.com/event/taste-of-celina
LOCATION:Downtown Celina\, 123 W Fayette St\, Celina\, OH\, United States
CATEGORIES:Community Events
GEO:40.548092;-84.571067
X-APPLE-STRUCTURED-LOCATION;VALUE=URI;X-ADDRESS=Downtown Celina 123 W Fayette St Celina OH United States;X-APPLE-RADIUS=500;X-TITLE=123 W Fayette St:geo:-84.571067,40.548092
END:VEVENT
BEGIN:VEVENT
DTSTART;TZID=America/New_York:20240503T170000
DTEND;TZID=America/New_York:20240503T200000
DTSTAMP:20260424T124216
CREATED:20240430T131906Z
LAST-MODIFIED:20240503T132637Z
UID:10000069-1714755600-1714766400@theboardwalkgrill.com
SUMMARY:Downtown Celina First Friday: Moms on Main
DESCRIPTION:This First Friday will consist of decadent desserts\, handcrafted cocktails\, pajama contests and self-care stops! \nCLICK HERE FOR MORE INFORMATION
URL:https://theboardwalkgrill.com/event/downtown-celina-first-friday-moms-on-main
LOCATION:Downtown Celina\, 123 W Fayette St\, Celina\, OH\, United States
CATEGORIES:Community Events
GEO:40.548092;-84.571067
X-APPLE-STRUCTURED-LOCATION;VALUE=URI;X-ADDRESS=Downtown Celina 123 W Fayette St Celina OH United States;X-APPLE-RADIUS=500;X-TITLE=123 W Fayette St:geo:-84.571067,40.548092
END:VEVENT
END:VCALENDAR