BEGIN:VCALENDAR
VERSION:2.0
PRODID:-//Boardwalk Grill - ECPv6.15.13.1//NONSGML v1.0//EN
CALSCALE:GREGORIAN
METHOD:PUBLISH
X-WR-CALNAME:Boardwalk Grill
X-ORIGINAL-URL:https://theboardwalkgrill.com
X-WR-CALDESC:Events for Boardwalk Grill
REFRESH-INTERVAL;VALUE=DURATION:PT1H
X-Robots-Tag:noindex
X-PUBLISHED-TTL:PT1H
BEGIN:VTIMEZONE
TZID:America/New_York
BEGIN:DAYLIGHT
TZOFFSETFROM:-0500
TZOFFSETTO:-0400
TZNAME:EDT
DTSTART:20250309T070000
END:DAYLIGHT
BEGIN:STANDARD
TZOFFSETFROM:-0400
TZOFFSETTO:-0500
TZNAME:EST
DTSTART:20251102T060000
END:STANDARD
BEGIN:DAYLIGHT
TZOFFSETFROM:-0500
TZOFFSETTO:-0400
TZNAME:EDT
DTSTART:20260308T070000
END:DAYLIGHT
BEGIN:STANDARD
TZOFFSETFROM:-0400
TZOFFSETTO:-0500
TZNAME:EST
DTSTART:20261101T060000
END:STANDARD
BEGIN:DAYLIGHT
TZOFFSETFROM:-0500
TZOFFSETTO:-0400
TZNAME:EDT
DTSTART:20270314T070000
END:DAYLIGHT
BEGIN:STANDARD
TZOFFSETFROM:-0400
TZOFFSETTO:-0500
TZNAME:EST
DTSTART:20271107T060000
END:STANDARD
END:VTIMEZONE
BEGIN:VEVENT
DTSTART;TZID=America/New_York:20260617T090000
DTEND;TZID=America/New_York:20260617T100000
DTSTAMP:20260424T210551
CREATED:20260326T144944Z
LAST-MODIFIED:20260424T161936Z
UID:10001403-1781686800-1781690400@theboardwalkgrill.com
SUMMARY:Yoga In The Sand
DESCRIPTION:Start your Wednesday mornings with movement\, sunshine\, and lake vibes ☀️ \n📍 Where: Boardwalk Marketplace – Sand Volleyball Court📅 When: Wednesdays\, 9:00-10:00 AM💲 Cost: $15/class \n📝 Sign Up: https://www.wttcore.com/ or drop in & pay in person \nLed by Ty Baker-Baumann of 5 Elements Wellness\, this all-levels class focuses on balance\, flexibility\, strength\, and endurance -no experience needed! Bring a mat or chair and join us in the sand.
URL:https://theboardwalkgrill.com/event/yoga-in-the-sand-3
LOCATION:Boardwalk Village\, 901 W Bank Rd\, Celina\, OH\, United States
CATEGORIES:Boardwalk Marketplace
GEO:40.542642;-84.571525
X-APPLE-STRUCTURED-LOCATION;VALUE=URI;X-ADDRESS=Boardwalk Village 901 W Bank Rd Celina OH United States;X-APPLE-RADIUS=500;X-TITLE=901 W Bank Rd:geo:-84.571525,40.542642
END:VEVENT
BEGIN:VEVENT
DTSTART;TZID=America/New_York:20260617T180000
DTEND;TZID=America/New_York:20260617T210000
DTSTAMP:20260424T210551
CREATED:20260127T213431Z
LAST-MODIFIED:20260424T161936Z
UID:10001118-1781719200-1781730000@theboardwalkgrill.com
SUMMARY:Sand Volleyball League
DESCRIPTION:CLICK HERE TO REGISTER \nWednesday Night – June LeagueDates: June 3\, 10\, 17\, 24 (Championship)Game Times: 6:15\, 7:15\, 8:15 PM
URL:https://theboardwalkgrill.com/event/sand-volleyball-league-13
LOCATION:Boardwalk Village\, 901 W Bank Rd\, Celina\, OH\, United States
CATEGORIES:Boardwalk Marketplace
GEO:40.542642;-84.571525
X-APPLE-STRUCTURED-LOCATION;VALUE=URI;X-ADDRESS=Boardwalk Village 901 W Bank Rd Celina OH United States;X-APPLE-RADIUS=500;X-TITLE=901 W Bank Rd:geo:-84.571525,40.542642
END:VEVENT
BEGIN:VEVENT
DTSTART;TZID=America/New_York:20260617T180000
DTEND;TZID=America/New_York:20260617T210000
DTSTAMP:20260424T210551
CREATED:20260128T213538Z
LAST-MODIFIED:20260424T161936Z
UID:10001195-1781719200-1781730000@theboardwalkgrill.com
SUMMARY:Live Music at Coconut Hut:
DESCRIPTION:CLICK HERE TO LEARN MORE
URL:https://theboardwalkgrill.com/event/music-at-the-marketplace-27
LOCATION:Boardwalk Village\, 901 W Bank Rd\, Celina\, OH\, United States
CATEGORIES:Boardwalk Marketplace
GEO:40.542642;-84.571525
X-APPLE-STRUCTURED-LOCATION;VALUE=URI;X-ADDRESS=Boardwalk Village 901 W Bank Rd Celina OH United States;X-APPLE-RADIUS=500;X-TITLE=901 W Bank Rd:geo:-84.571525,40.542642
END:VEVENT
BEGIN:VEVENT
DTSTART;TZID=America/New_York:20260618T180000
DTEND;TZID=America/New_York:20260618T210000
DTSTAMP:20260424T210551
CREATED:20260127T213432Z
LAST-MODIFIED:20260424T161936Z
UID:10001119-1781805600-1781816400@theboardwalkgrill.com
SUMMARY:Pickleball League
DESCRIPTION:CLICK HERE TO REGISTER \nThursday Night – June League Dates: June 4\, 11\, 18\, 25 (Championship) Game Times: 6:00 PM\, 6:45 PM\, 7:30 PM\, 8:15 PM
URL:https://theboardwalkgrill.com/event/pickleball-league-7
LOCATION:Boardwalk Village\, 901 W Bank Rd\, Celina\, OH\, United States
CATEGORIES:Boardwalk Marketplace
GEO:40.542642;-84.571525
X-APPLE-STRUCTURED-LOCATION;VALUE=URI;X-ADDRESS=Boardwalk Village 901 W Bank Rd Celina OH United States;X-APPLE-RADIUS=500;X-TITLE=901 W Bank Rd:geo:-84.571525,40.542642
END:VEVENT
BEGIN:VEVENT
DTSTART;TZID=America/New_York:20260618T180000
DTEND;TZID=America/New_York:20260618T210000
DTSTAMP:20260424T210551
CREATED:20260127T213432Z
LAST-MODIFIED:20260424T161936Z
UID:10001120-1781805600-1781816400@theboardwalkgrill.com
SUMMARY:Sand Volleyball League
DESCRIPTION:CLICK HERE TO REGISTER \nThursday Night – June LeagueDates: June 4\, 11\, 18\, 25 (Championship)Game Times: 6:15\, 7:15\, 8:15 PM
URL:https://theboardwalkgrill.com/event/sand-volleyball-league-14
LOCATION:Boardwalk Village\, 901 W Bank Rd\, Celina\, OH\, United States
CATEGORIES:Boardwalk Marketplace
GEO:40.542642;-84.571525
X-APPLE-STRUCTURED-LOCATION;VALUE=URI;X-ADDRESS=Boardwalk Village 901 W Bank Rd Celina OH United States;X-APPLE-RADIUS=500;X-TITLE=901 W Bank Rd:geo:-84.571525,40.542642
END:VEVENT
BEGIN:VEVENT
DTSTART;VALUE=DATE:20260619
DTEND;VALUE=DATE:20260621
DTSTAMP:20260424T210551
CREATED:20260107T204924Z
LAST-MODIFIED:20260424T161936Z
UID:10001062-1781827200-1781999999@theboardwalkgrill.com
SUMMARY:Boardwalk Fest
DESCRIPTION:Boardwalk Fest 2026 | June 19-20Join us for a full weekend of lakeside fun at Boardwalk Fest! ☀️🌊  \n🎶 Live Music All Weekend🍔 Food Trucks + Boardwalk Eats🍹 Drinks & Summer Vibes🎈 Bounce houses\, games\, kids dance party & more \nNEW THIS YEAR – $35\,000 raffle prizes up for grabs! Only 650 tickets available for your chance to win:🚙 2026 Polaris Ranger 1000 Premium🛺 Denago EV Rover XL Golf Cart💵 $2\,000 Cash (x2)💵 $500 Cash (x2) \n$100 per ticket | Need not be present to win | Sales tax coveredProceeds benefit the Future Champions Foundation\, supporting local youth athletes. \nCLICK HERE TO LEARN MORE ABOUT THE RAFFLE & BUY TICKETS \nFree Admission – Bring your family & friends and spend the day (or the whole weekend) at the lake! \nCLICK HERE TO LEARN MORE ABOUT THE EVENT
URL:https://theboardwalkgrill.com/event/boardwalk-fest-2
LOCATION:Boardwalk Village\, 901 W Bank Rd\, Celina\, OH\, United States
CATEGORIES:Boardwalk Marketplace
GEO:40.542642;-84.571525
X-APPLE-STRUCTURED-LOCATION;VALUE=URI;X-ADDRESS=Boardwalk Village 901 W Bank Rd Celina OH United States;X-APPLE-RADIUS=500;X-TITLE=901 W Bank Rd:geo:-84.571525,40.542642
END:VEVENT
BEGIN:VEVENT
DTSTART;TZID=America/New_York:20260619T170000
DTEND;TZID=America/New_York:20260619T200000
DTSTAMP:20260424T210551
CREATED:20260128T213539Z
LAST-MODIFIED:20260424T161936Z
UID:10001196-1781888400-1781899200@theboardwalkgrill.com
SUMMARY:Live Music at Coconut Hut:
DESCRIPTION:CLICK HERE TO LEARN MORE
URL:https://theboardwalkgrill.com/event/music-at-the-marketplace-28
LOCATION:Boardwalk Village\, 901 W Bank Rd\, Celina\, OH\, United States
CATEGORIES:Boardwalk Marketplace
GEO:40.542642;-84.571525
X-APPLE-STRUCTURED-LOCATION;VALUE=URI;X-ADDRESS=Boardwalk Village 901 W Bank Rd Celina OH United States;X-APPLE-RADIUS=500;X-TITLE=901 W Bank Rd:geo:-84.571525,40.542642
END:VEVENT
BEGIN:VEVENT
DTSTART;TZID=America/New_York:20260620T070000
DTEND;TZID=America/New_York:20260620T120000
DTSTAMP:20260424T210551
CREATED:20260403T151940Z
LAST-MODIFIED:20260424T161937Z
UID:10001447-1781938800-1781956800@theboardwalkgrill.com
SUMMARY:Coffee Truck
DESCRIPTION:More information coming soon!
URL:https://theboardwalkgrill.com/event/coffee-truck-16
LOCATION:Boardwalk Village\, 901 W Bank Rd\, Celina\, OH\, United States
CATEGORIES:Boardwalk Marketplace
GEO:40.542642;-84.571525
X-APPLE-STRUCTURED-LOCATION;VALUE=URI;X-ADDRESS=Boardwalk Village 901 W Bank Rd Celina OH United States;X-APPLE-RADIUS=500;X-TITLE=901 W Bank Rd:geo:-84.571525,40.542642
END:VEVENT
BEGIN:VEVENT
DTSTART;TZID=America/New_York:20260620T091500
DTEND;TZID=America/New_York:20260620T100000
DTSTAMP:20260424T210551
CREATED:20260326T144945Z
LAST-MODIFIED:20260424T161937Z
UID:10001404-1781946900-1781949600@theboardwalkgrill.com
SUMMARY:Pilates In The Sand
DESCRIPTION:Join Aura Align on the Boardwalk Marketplace Sand Volleyball Court for Pilates lakeside! A dynamic outdoor class that enhances core strength\, flexibility\, and tones the body as a whole while embracing the natural resistance of the sandy surface. This low impact yet highly effective workout focuses on controlled movements\, breath work\, and alignment\, making it perfect for all fitness levels. This class requires you to BRING YOUR OWN MAT\, Aura Align will NOT have any extra at Boardwalk.  This class is beginner friendly! \nSign Up Now! \nCLICK HERE FOR MORE INFO
URL:https://theboardwalkgrill.com/event/pilates-in-the-sand-3
LOCATION:Boardwalk Village\, 901 W Bank Rd\, Celina\, OH\, United States
CATEGORIES:Boardwalk Marketplace
GEO:40.542642;-84.571525
X-APPLE-STRUCTURED-LOCATION;VALUE=URI;X-ADDRESS=Boardwalk Village 901 W Bank Rd Celina OH United States;X-APPLE-RADIUS=500;X-TITLE=901 W Bank Rd:geo:-84.571525,40.542642
END:VEVENT
BEGIN:VEVENT
DTSTART;TZID=America/New_York:20260620T160000
DTEND;TZID=America/New_York:20260620T190000
DTSTAMP:20260424T210551
CREATED:20260128T213540Z
LAST-MODIFIED:20260424T161937Z
UID:10001197-1781971200-1781982000@theboardwalkgrill.com
SUMMARY:Live Music at Coconut Hut:
DESCRIPTION:CLICK HERE TO LEARN MORE
URL:https://theboardwalkgrill.com/event/music-at-the-marketplace-29
LOCATION:Boardwalk Village\, 901 W Bank Rd\, Celina\, OH\, United States
CATEGORIES:Boardwalk Marketplace
GEO:40.542642;-84.571525
X-APPLE-STRUCTURED-LOCATION;VALUE=URI;X-ADDRESS=Boardwalk Village 901 W Bank Rd Celina OH United States;X-APPLE-RADIUS=500;X-TITLE=901 W Bank Rd:geo:-84.571525,40.542642
END:VEVENT
BEGIN:VEVENT
DTSTART;TZID=America/New_York:20260621T070000
DTEND;TZID=America/New_York:20260621T120000
DTSTAMP:20260424T210551
CREATED:20260403T151941Z
LAST-MODIFIED:20260424T161937Z
UID:10001448-1782025200-1782043200@theboardwalkgrill.com
SUMMARY:Coffee Truck
DESCRIPTION:More information coming soon!
URL:https://theboardwalkgrill.com/event/coffee-truck-17
LOCATION:Boardwalk Village\, 901 W Bank Rd\, Celina\, OH\, United States
CATEGORIES:Boardwalk Marketplace
GEO:40.542642;-84.571525
X-APPLE-STRUCTURED-LOCATION;VALUE=URI;X-ADDRESS=Boardwalk Village 901 W Bank Rd Celina OH United States;X-APPLE-RADIUS=500;X-TITLE=901 W Bank Rd:geo:-84.571525,40.542642
END:VEVENT
BEGIN:VEVENT
DTSTART;TZID=America/New_York:20260621T160000
DTEND;TZID=America/New_York:20260621T190000
DTSTAMP:20260424T210551
CREATED:20260128T213540Z
LAST-MODIFIED:20260424T161937Z
UID:10001198-1782057600-1782068400@theboardwalkgrill.com
SUMMARY:Live Music at Coconut Hut:
DESCRIPTION:CLICK HERE TO LEARN MORE
URL:https://theboardwalkgrill.com/event/music-at-the-marketplace-30
LOCATION:Boardwalk Village\, 901 W Bank Rd\, Celina\, OH\, United States
CATEGORIES:Boardwalk Marketplace
GEO:40.542642;-84.571525
X-APPLE-STRUCTURED-LOCATION;VALUE=URI;X-ADDRESS=Boardwalk Village 901 W Bank Rd Celina OH United States;X-APPLE-RADIUS=500;X-TITLE=901 W Bank Rd:geo:-84.571525,40.542642
END:VEVENT
BEGIN:VEVENT
DTSTART;TZID=America/New_York:20260622T070000
DTEND;TZID=America/New_York:20260622T120000
DTSTAMP:20260424T210551
CREATED:20260403T151941Z
LAST-MODIFIED:20260424T161937Z
UID:10001449-1782111600-1782129600@theboardwalkgrill.com
SUMMARY:Coffee Truck
DESCRIPTION:More information coming soon!
URL:https://theboardwalkgrill.com/event/coffee-truck-18
LOCATION:Boardwalk Village\, 901 W Bank Rd\, Celina\, OH\, United States
CATEGORIES:Boardwalk Marketplace
GEO:40.542642;-84.571525
X-APPLE-STRUCTURED-LOCATION;VALUE=URI;X-ADDRESS=Boardwalk Village 901 W Bank Rd Celina OH United States;X-APPLE-RADIUS=500;X-TITLE=901 W Bank Rd:geo:-84.571525,40.542642
END:VEVENT
BEGIN:VEVENT
DTSTART;TZID=America/New_York:20260622T160000
DTEND;TZID=America/New_York:20260622T200000
DTSTAMP:20260424T210551
CREATED:20260326T083451Z
LAST-MODIFIED:20260424T161938Z
UID:10001387-1782144000-1782158400@theboardwalkgrill.com
SUMMARY:Food Truck: J's Lip Smacking Wings
DESCRIPTION:Monday Night Food Truck at Boardwalk Village📅 Mondays | 🕓 4:00 PM – 8:00 PM \nA new food truck every week serving up great eats by the lake. Grab dinner\, hang out\, and enjoy your Monday at the Boardwalk! \n \n👉 https://www.facebook.com/profile.php?id=61565957205028
URL:https://theboardwalkgrill.com/event/food-truck-js-lip-smacking-wings
LOCATION:Boardwalk Village\, 901 W Bank Rd\, Celina\, OH\, United States
CATEGORIES:Boardwalk Marketplace
GEO:40.542642;-84.571525
X-APPLE-STRUCTURED-LOCATION;VALUE=URI;X-ADDRESS=Boardwalk Village 901 W Bank Rd Celina OH United States;X-APPLE-RADIUS=500;X-TITLE=901 W Bank Rd:geo:-84.571525,40.542642
END:VEVENT
BEGIN:VEVENT
DTSTART;TZID=America/New_York:20260622T190000
DTEND;TZID=America/New_York:20260622T193000
DTSTAMP:20260424T210551
CREATED:20260209T230435Z
LAST-MODIFIED:20260424T161937Z
UID:10001353-1782154800-1782156600@theboardwalkgrill.com
SUMMARY:Queen Of Hearts
DESCRIPTION:Queen of Hearts – Every Monday at 7 PM @ Coconut Hut **Runs weekly until the Queen of Hearts is drawn \nJoin us Monday nights for our Queen of Hearts drawing! Tickets are just $1 each and can be purchased all week long during Coconut Hut hours (Tuesday 3PM through Monday at 6:30PM). \nHow it works: \n\nBuy a ticket… or 10 and pick which card # you believe is the Queen of Hearts\nOne ticket is drawn every Monday at 7 PM at the Coconut Hut\nIf your ticket is drawn\, we flip the card number you chose\nReveal the Queen of Hearts → you win the jackpot\nReveal a Joker → you win a percentage of the pot\nIf the Queen of Hearts is not drawn\, all other tickets are removed and the pot rolls over to the next week\n\nYou do NOT need to be present to win\, but payouts are higher for those who are. \nPayout Structure: \n\nQueen of Hearts – Winner Present: 90% to winner / 10% rolls to next game\nQueen of Hearts – Not Present: 50% to winner / 50% rolls\nJoker – Winner Present: 10% to winner / 90% rolls to next gameJoker – Not Present: 5% to winner / 95% rolls to next game\n\nThe pot can grow fast – come grab tickets\, enjoy drinks\, and be part of the excitement every Monday night! \nCLICK HERE FOR MORE INFORMATION
URL:https://theboardwalkgrill.com/event/queen-of-hearts-6
LOCATION:Boardwalk Village\, 901 W Bank Rd\, Celina\, OH\, United States
CATEGORIES:Boardwalk Marketplace
GEO:40.542642;-84.571525
X-APPLE-STRUCTURED-LOCATION;VALUE=URI;X-ADDRESS=Boardwalk Village 901 W Bank Rd Celina OH United States;X-APPLE-RADIUS=500;X-TITLE=901 W Bank Rd:geo:-84.571525,40.542642
END:VEVENT
BEGIN:VEVENT
DTSTART;TZID=America/New_York:20260623T183000
DTEND;TZID=America/New_York:20260623T203000
DTSTAMP:20260424T210551
CREATED:20260127T213432Z
LAST-MODIFIED:20260405T151941Z
UID:10001121-1782239400-1782246600@theboardwalkgrill.com
SUMMARY:SINGO / Trivia
DESCRIPTION:Join in on the SINGO & Trivia fun at the Coconut Hut with Hemmelgarn Entertainment!  \nSINGO and trivia will rotate every week.  \nCLICK HERE FOR MORE INFORMATION
URL:https://theboardwalkgrill.com/event/singo-trivia-6
LOCATION:Boardwalk Village\, 901 W Bank Rd\, Celina\, OH\, United States
CATEGORIES:Boardwalk Marketplace
GEO:40.542642;-84.571525
X-APPLE-STRUCTURED-LOCATION;VALUE=URI;X-ADDRESS=Boardwalk Village 901 W Bank Rd Celina OH United States;X-APPLE-RADIUS=500;X-TITLE=901 W Bank Rd:geo:-84.571525,40.542642
END:VEVENT
BEGIN:VEVENT
DTSTART;TZID=America/New_York:20260623T183000
DTEND;TZID=America/New_York:20260623T203000
DTSTAMP:20260424T210551
CREATED:20260406T151937Z
LAST-MODIFIED:20260424T161938Z
UID:10001497-1782239400-1782246600@theboardwalkgrill.com
SUMMARY:Trivia
DESCRIPTION:Join in on the trivia fun at the Coconut Hut with Hemmelgarn Entertainment!  \nSINGO and trivia will rotate every week on Tuesdays.  \nCLICK HERE FOR MORE INFORMATION
URL:https://theboardwalkgrill.com/event/trivia-3
LOCATION:Boardwalk Village\, 901 W Bank Rd\, Celina\, OH\, United States
CATEGORIES:Boardwalk Marketplace
GEO:40.542642;-84.571525
X-APPLE-STRUCTURED-LOCATION;VALUE=URI;X-ADDRESS=Boardwalk Village 901 W Bank Rd Celina OH United States;X-APPLE-RADIUS=500;X-TITLE=901 W Bank Rd:geo:-84.571525,40.542642
END:VEVENT
BEGIN:VEVENT
DTSTART;TZID=America/New_York:20260624T090000
DTEND;TZID=America/New_York:20260624T100000
DTSTAMP:20260424T210551
CREATED:20260326T144946Z
LAST-MODIFIED:20260424T161938Z
UID:10001405-1782291600-1782295200@theboardwalkgrill.com
SUMMARY:Yoga In The Sand
DESCRIPTION:Start your Wednesday mornings with movement\, sunshine\, and lake vibes ☀️ \n📍 Where: Boardwalk Marketplace – Sand Volleyball Court📅 When: Wednesdays\, 9:00-10:00 AM💲 Cost: $15/class \n📝 Sign Up: https://www.wttcore.com/ or drop in & pay in person \nLed by Ty Baker-Baumann of 5 Elements Wellness\, this all-levels class focuses on balance\, flexibility\, strength\, and endurance -no experience needed! Bring a mat or chair and join us in the sand.
URL:https://theboardwalkgrill.com/event/yoga-in-the-sand-4
LOCATION:Boardwalk Village\, 901 W Bank Rd\, Celina\, OH\, United States
CATEGORIES:Boardwalk Marketplace
GEO:40.542642;-84.571525
X-APPLE-STRUCTURED-LOCATION;VALUE=URI;X-ADDRESS=Boardwalk Village 901 W Bank Rd Celina OH United States;X-APPLE-RADIUS=500;X-TITLE=901 W Bank Rd:geo:-84.571525,40.542642
END:VEVENT
BEGIN:VEVENT
DTSTART;TZID=America/New_York:20260624T180000
DTEND;TZID=America/New_York:20260624T210000
DTSTAMP:20260424T210551
CREATED:20260127T213433Z
LAST-MODIFIED:20260424T161938Z
UID:10001122-1782324000-1782334800@theboardwalkgrill.com
SUMMARY:Sand Volleyball League
DESCRIPTION:CLICK HERE TO REGISTER \nWednesday Night – June LeagueDates: June 3\, 10\, 17\, 24 (Championship)Game Times: 6:15\, 7:15\, 8:15 PM
URL:https://theboardwalkgrill.com/event/sand-volleyball-league-15
LOCATION:Boardwalk Village\, 901 W Bank Rd\, Celina\, OH\, United States
CATEGORIES:Boardwalk Marketplace
GEO:40.542642;-84.571525
X-APPLE-STRUCTURED-LOCATION;VALUE=URI;X-ADDRESS=Boardwalk Village 901 W Bank Rd Celina OH United States;X-APPLE-RADIUS=500;X-TITLE=901 W Bank Rd:geo:-84.571525,40.542642
END:VEVENT
BEGIN:VEVENT
DTSTART;TZID=America/New_York:20260624T180000
DTEND;TZID=America/New_York:20260624T210000
DTSTAMP:20260424T210551
CREATED:20260128T213541Z
LAST-MODIFIED:20260424T161938Z
UID:10001199-1782324000-1782334800@theboardwalkgrill.com
SUMMARY:Live Music at Coconut Hut:
DESCRIPTION:CLICK HERE TO LEARN MORE
URL:https://theboardwalkgrill.com/event/music-at-the-marketplace-31
LOCATION:Boardwalk Village\, 901 W Bank Rd\, Celina\, OH\, United States
CATEGORIES:Boardwalk Marketplace
GEO:40.542642;-84.571525
X-APPLE-STRUCTURED-LOCATION;VALUE=URI;X-ADDRESS=Boardwalk Village 901 W Bank Rd Celina OH United States;X-APPLE-RADIUS=500;X-TITLE=901 W Bank Rd:geo:-84.571525,40.542642
END:VEVENT
BEGIN:VEVENT
DTSTART;TZID=America/New_York:20260625T180000
DTEND;TZID=America/New_York:20260625T210000
DTSTAMP:20260424T210551
CREATED:20260127T213433Z
LAST-MODIFIED:20260424T161938Z
UID:10001123-1782410400-1782421200@theboardwalkgrill.com
SUMMARY:Sand Volleyball League
DESCRIPTION:CLICK HERE TO REGISTER \nThursday Night – June LeagueDates: June 4\, 11\, 18\, 25 (Championship)Game Times: 6:15\, 7:15\, 8:15 PM
URL:https://theboardwalkgrill.com/event/sand-volleyball-league-16
LOCATION:Boardwalk Village\, 901 W Bank Rd\, Celina\, OH\, United States
CATEGORIES:Boardwalk Marketplace
GEO:40.542642;-84.571525
X-APPLE-STRUCTURED-LOCATION;VALUE=URI;X-ADDRESS=Boardwalk Village 901 W Bank Rd Celina OH United States;X-APPLE-RADIUS=500;X-TITLE=901 W Bank Rd:geo:-84.571525,40.542642
END:VEVENT
BEGIN:VEVENT
DTSTART;TZID=America/New_York:20260625T180000
DTEND;TZID=America/New_York:20260625T210000
DTSTAMP:20260424T210551
CREATED:20260127T213433Z
LAST-MODIFIED:20260424T161939Z
UID:10001124-1782410400-1782421200@theboardwalkgrill.com
SUMMARY:Pickleball League
DESCRIPTION:CLICK HERE TO REGISTER \nThursday Night – June League Dates: June 4\, 11\, 18\, 25 (Championship) Game Times: 6:00 PM\, 6:45 PM\, 7:30 PM\, 8:15 PM
URL:https://theboardwalkgrill.com/event/pickleball-league-8
LOCATION:Boardwalk Village\, 901 W Bank Rd\, Celina\, OH\, United States
CATEGORIES:Boardwalk Marketplace
GEO:40.542642;-84.571525
X-APPLE-STRUCTURED-LOCATION;VALUE=URI;X-ADDRESS=Boardwalk Village 901 W Bank Rd Celina OH United States;X-APPLE-RADIUS=500;X-TITLE=901 W Bank Rd:geo:-84.571525,40.542642
END:VEVENT
BEGIN:VEVENT
DTSTART;TZID=America/New_York:20260626T170000
DTEND;TZID=America/New_York:20260626T200000
DTSTAMP:20260424T210551
CREATED:20260128T213542Z
LAST-MODIFIED:20260424T161939Z
UID:10001200-1782493200-1782504000@theboardwalkgrill.com
SUMMARY:Live Music at Coconut Hut:
DESCRIPTION:CLICK HERE TO LEARN MORE
URL:https://theboardwalkgrill.com/event/music-at-the-marketplace-32
LOCATION:Boardwalk Village\, 901 W Bank Rd\, Celina\, OH\, United States
CATEGORIES:Boardwalk Marketplace
GEO:40.542642;-84.571525
X-APPLE-STRUCTURED-LOCATION;VALUE=URI;X-ADDRESS=Boardwalk Village 901 W Bank Rd Celina OH United States;X-APPLE-RADIUS=500;X-TITLE=901 W Bank Rd:geo:-84.571525,40.542642
END:VEVENT
BEGIN:VEVENT
DTSTART;TZID=America/New_York:20260627T070000
DTEND;TZID=America/New_York:20260627T120000
DTSTAMP:20260424T210551
CREATED:20260403T151942Z
LAST-MODIFIED:20260424T161939Z
UID:10001450-1782543600-1782561600@theboardwalkgrill.com
SUMMARY:Coffee Truck
DESCRIPTION:More information coming soon!
URL:https://theboardwalkgrill.com/event/coffee-truck-19
LOCATION:Boardwalk Village\, 901 W Bank Rd\, Celina\, OH\, United States
CATEGORIES:Boardwalk Marketplace
GEO:40.542642;-84.571525
X-APPLE-STRUCTURED-LOCATION;VALUE=URI;X-ADDRESS=Boardwalk Village 901 W Bank Rd Celina OH United States;X-APPLE-RADIUS=500;X-TITLE=901 W Bank Rd:geo:-84.571525,40.542642
END:VEVENT
BEGIN:VEVENT
DTSTART;TZID=America/New_York:20260627T103000
DTEND;TZID=America/New_York:20260627T111500
DTSTAMP:20260424T210551
CREATED:20260326T144947Z
LAST-MODIFIED:20260424T161939Z
UID:10001406-1782556200-1782558900@theboardwalkgrill.com
SUMMARY:Pilates In The Sand
DESCRIPTION:Join Aura Align on the Boardwalk Marketplace Sand Volleyball Court for Pilates lakeside! A dynamic outdoor class that enhances core strength\, flexibility\, and tones the body as a whole while embracing the natural resistance of the sandy surface. This low impact yet highly effective workout focuses on controlled movements\, breath work\, and alignment\, making it perfect for all fitness levels. This class requires you to BRING YOUR OWN MAT\, Aura Align will NOT have any extra at Boardwalk.  This class is beginner friendly! \nSign Up Now! \nCLICK HERE FOR MORE INFO
URL:https://theboardwalkgrill.com/event/pilates-in-the-sand-4
LOCATION:Boardwalk Village\, 901 W Bank Rd\, Celina\, OH\, United States
CATEGORIES:Boardwalk Marketplace
GEO:40.542642;-84.571525
X-APPLE-STRUCTURED-LOCATION;VALUE=URI;X-ADDRESS=Boardwalk Village 901 W Bank Rd Celina OH United States;X-APPLE-RADIUS=500;X-TITLE=901 W Bank Rd:geo:-84.571525,40.542642
END:VEVENT
BEGIN:VEVENT
DTSTART;TZID=America/New_York:20260627T160000
DTEND;TZID=America/New_York:20260627T190000
DTSTAMP:20260424T210551
CREATED:20260128T213542Z
LAST-MODIFIED:20260424T161939Z
UID:10001201-1782576000-1782586800@theboardwalkgrill.com
SUMMARY:Live Music at Coconut Hut:
DESCRIPTION:CLICK HERE TO LEARN MORE
URL:https://theboardwalkgrill.com/event/music-at-the-marketplace-33
LOCATION:Boardwalk Village\, 901 W Bank Rd\, Celina\, OH\, United States
CATEGORIES:Boardwalk Marketplace
GEO:40.542642;-84.571525
X-APPLE-STRUCTURED-LOCATION;VALUE=URI;X-ADDRESS=Boardwalk Village 901 W Bank Rd Celina OH United States;X-APPLE-RADIUS=500;X-TITLE=901 W Bank Rd:geo:-84.571525,40.542642
END:VEVENT
BEGIN:VEVENT
DTSTART;TZID=America/New_York:20260628T070000
DTEND;TZID=America/New_York:20260628T120000
DTSTAMP:20260424T210551
CREATED:20260403T151943Z
LAST-MODIFIED:20260424T161939Z
UID:10001451-1782630000-1782648000@theboardwalkgrill.com
SUMMARY:Coffee Truck
DESCRIPTION:More information coming soon!
URL:https://theboardwalkgrill.com/event/coffee-truck-20
LOCATION:Boardwalk Village\, 901 W Bank Rd\, Celina\, OH\, United States
CATEGORIES:Boardwalk Marketplace
GEO:40.542642;-84.571525
X-APPLE-STRUCTURED-LOCATION;VALUE=URI;X-ADDRESS=Boardwalk Village 901 W Bank Rd Celina OH United States;X-APPLE-RADIUS=500;X-TITLE=901 W Bank Rd:geo:-84.571525,40.542642
END:VEVENT
BEGIN:VEVENT
DTSTART;TZID=America/New_York:20260628T160000
DTEND;TZID=America/New_York:20260628T190000
DTSTAMP:20260424T210551
CREATED:20260128T213542Z
LAST-MODIFIED:20260424T161939Z
UID:10001202-1782662400-1782673200@theboardwalkgrill.com
SUMMARY:Live Music at Coconut Hut:
DESCRIPTION:CLICK HERE TO LEARN MORE
URL:https://theboardwalkgrill.com/event/music-at-the-marketplace-34
LOCATION:Boardwalk Village\, 901 W Bank Rd\, Celina\, OH\, United States
CATEGORIES:Boardwalk Marketplace
GEO:40.542642;-84.571525
X-APPLE-STRUCTURED-LOCATION;VALUE=URI;X-ADDRESS=Boardwalk Village 901 W Bank Rd Celina OH United States;X-APPLE-RADIUS=500;X-TITLE=901 W Bank Rd:geo:-84.571525,40.542642
END:VEVENT
BEGIN:VEVENT
DTSTART;TZID=America/New_York:20260629T070000
DTEND;TZID=America/New_York:20260629T120000
DTSTAMP:20260424T210551
CREATED:20260403T151943Z
LAST-MODIFIED:20260424T161939Z
UID:10001452-1782716400-1782734400@theboardwalkgrill.com
SUMMARY:Coffee Truck
DESCRIPTION:More information coming soon!
URL:https://theboardwalkgrill.com/event/coffee-truck-21
LOCATION:Boardwalk Village\, 901 W Bank Rd\, Celina\, OH\, United States
CATEGORIES:Boardwalk Marketplace
GEO:40.542642;-84.571525
X-APPLE-STRUCTURED-LOCATION;VALUE=URI;X-ADDRESS=Boardwalk Village 901 W Bank Rd Celina OH United States;X-APPLE-RADIUS=500;X-TITLE=901 W Bank Rd:geo:-84.571525,40.542642
END:VEVENT
BEGIN:VEVENT
DTSTART;TZID=America/New_York:20260629T160000
DTEND;TZID=America/New_York:20260629T200000
DTSTAMP:20260424T210551
CREATED:20260326T083452Z
LAST-MODIFIED:20260424T161940Z
UID:10001388-1782748800-1782763200@theboardwalkgrill.com
SUMMARY:Food Truck: Meats-A-Movin LLC
DESCRIPTION:Monday Night Food Truck at Boardwalk Village📅 Mondays | 🕓 4:00 PM – 8:00 PM \nA new food truck every week serving up great eats by the lake. Grab dinner\, hang out\, and enjoy your Monday at the Boardwalk! \n \n👉 CLICK HERE FOR FOOD TRUCK FACEBOOK PAGE
URL:https://theboardwalkgrill.com/event/food-truck-4
LOCATION:Boardwalk Village\, 901 W Bank Rd\, Celina\, OH\, United States
CATEGORIES:Boardwalk Marketplace
GEO:40.542642;-84.571525
X-APPLE-STRUCTURED-LOCATION;VALUE=URI;X-ADDRESS=Boardwalk Village 901 W Bank Rd Celina OH United States;X-APPLE-RADIUS=500;X-TITLE=901 W Bank Rd:geo:-84.571525,40.542642
END:VEVENT
END:VCALENDAR