BEGIN:VCALENDAR
VERSION:2.0
PRODID:-//Boardwalk Grill - ECPv6.15.13.1//NONSGML v1.0//EN
CALSCALE:GREGORIAN
METHOD:PUBLISH
X-WR-CALNAME:Boardwalk Grill
X-ORIGINAL-URL:https://theboardwalkgrill.com
X-WR-CALDESC:Events for Boardwalk Grill
REFRESH-INTERVAL;VALUE=DURATION:PT1H
X-Robots-Tag:noindex
X-PUBLISHED-TTL:PT1H
BEGIN:VTIMEZONE
TZID:America/New_York
BEGIN:DAYLIGHT
TZOFFSETFROM:-0500
TZOFFSETTO:-0400
TZNAME:EDT
DTSTART:20250309T070000
END:DAYLIGHT
BEGIN:STANDARD
TZOFFSETFROM:-0400
TZOFFSETTO:-0500
TZNAME:EST
DTSTART:20251102T060000
END:STANDARD
BEGIN:DAYLIGHT
TZOFFSETFROM:-0500
TZOFFSETTO:-0400
TZNAME:EDT
DTSTART:20260308T070000
END:DAYLIGHT
BEGIN:STANDARD
TZOFFSETFROM:-0400
TZOFFSETTO:-0500
TZNAME:EST
DTSTART:20261101T060000
END:STANDARD
BEGIN:DAYLIGHT
TZOFFSETFROM:-0500
TZOFFSETTO:-0400
TZNAME:EDT
DTSTART:20270314T070000
END:DAYLIGHT
BEGIN:STANDARD
TZOFFSETFROM:-0400
TZOFFSETTO:-0500
TZNAME:EST
DTSTART:20271107T060000
END:STANDARD
END:VTIMEZONE
BEGIN:VEVENT
DTSTART;TZID=America/New_York:20260519T183000
DTEND;TZID=America/New_York:20260519T203000
DTSTAMP:20260424T124242
CREATED:20260127T213424Z
LAST-MODIFIED:20260423T161953Z
UID:10001101-1779215400-1779222600@theboardwalkgrill.com
SUMMARY:SINGO
DESCRIPTION:Join in on the SINGO fun at the Coconut Hut with Hemmelgarn Entertainment!  \nSINGO and trivia will rotate every week on Tuesdays.  \nCLICK HERE FOR MORE INFORMATION
URL:https://theboardwalkgrill.com/event/singo-trivia
LOCATION:Boardwalk Village\, 901 W Bank Rd\, Celina\, OH\, United States
CATEGORIES:Boardwalk Marketplace
GEO:40.542642;-84.571525
X-APPLE-STRUCTURED-LOCATION;VALUE=URI;X-ADDRESS=Boardwalk Village 901 W Bank Rd Celina OH United States;X-APPLE-RADIUS=500;X-TITLE=901 W Bank Rd:geo:-84.571525,40.542642
END:VEVENT
BEGIN:VEVENT
DTSTART;TZID=America/New_York:20260520T180000
DTEND;TZID=America/New_York:20260520T210000
DTSTAMP:20260424T124242
CREATED:20260127T213424Z
LAST-MODIFIED:20260423T161953Z
UID:10001102-1779300000-1779310800@theboardwalkgrill.com
SUMMARY:Sand Volleyball League
DESCRIPTION:CLICK HERE TO REGISTER \nWednesday Night – May LeagueDates: May 6\, 13\, 20\, 27 (Championship)Game Times: 6:15\, 7:15\, 8:15 PM
URL:https://theboardwalkgrill.com/event/sand-volleyball-league-5
LOCATION:Boardwalk Village\, 901 W Bank Rd\, Celina\, OH\, United States
CATEGORIES:Boardwalk Marketplace
GEO:40.542642;-84.571525
X-APPLE-STRUCTURED-LOCATION;VALUE=URI;X-ADDRESS=Boardwalk Village 901 W Bank Rd Celina OH United States;X-APPLE-RADIUS=500;X-TITLE=901 W Bank Rd:geo:-84.571525,40.542642
END:VEVENT
BEGIN:VEVENT
DTSTART;TZID=America/New_York:20260520T180000
DTEND;TZID=America/New_York:20260520T210000
DTSTAMP:20260424T124242
CREATED:20260128T213528Z
LAST-MODIFIED:20260423T161953Z
UID:10001179-1779300000-1779310800@theboardwalkgrill.com
SUMMARY:Live Music at Coconut Hut: Hunter Wainscott
DESCRIPTION:CLICK HERE TO LEARN MORE
URL:https://theboardwalkgrill.com/event/music-at-the-marketplace-11
LOCATION:Boardwalk Village\, 901 W Bank Rd\, Celina\, OH\, United States
CATEGORIES:Boardwalk Marketplace
GEO:40.542642;-84.571525
X-APPLE-STRUCTURED-LOCATION;VALUE=URI;X-ADDRESS=Boardwalk Village 901 W Bank Rd Celina OH United States;X-APPLE-RADIUS=500;X-TITLE=901 W Bank Rd:geo:-84.571525,40.542642
END:VEVENT
BEGIN:VEVENT
DTSTART;TZID=America/New_York:20260521T180000
DTEND;TZID=America/New_York:20260521T210000
DTSTAMP:20260424T124242
CREATED:20260127T213425Z
LAST-MODIFIED:20260423T161953Z
UID:10001103-1779386400-1779397200@theboardwalkgrill.com
SUMMARY:Pickleball League
DESCRIPTION:CLICK HERE TO REGISTER \nThursday Night – May League Dates: May 7\, 14\, 21\, 28 (Championship) Game Times: 6:00 PM\, 6:45 PM\, 7:30 PM\, 8:15 PM
URL:https://theboardwalkgrill.com/event/pickleball-league-3
LOCATION:Boardwalk Village\, 901 W Bank Rd\, Celina\, OH\, United States
CATEGORIES:Boardwalk Marketplace
GEO:40.542642;-84.571525
X-APPLE-STRUCTURED-LOCATION;VALUE=URI;X-ADDRESS=Boardwalk Village 901 W Bank Rd Celina OH United States;X-APPLE-RADIUS=500;X-TITLE=901 W Bank Rd:geo:-84.571525,40.542642
END:VEVENT
BEGIN:VEVENT
DTSTART;TZID=America/New_York:20260521T180000
DTEND;TZID=America/New_York:20260521T210000
DTSTAMP:20260424T124242
CREATED:20260127T213425Z
LAST-MODIFIED:20260423T161953Z
UID:10001104-1779386400-1779397200@theboardwalkgrill.com
SUMMARY:Sand Volleyball League
DESCRIPTION:CLICK HERE TO REGISTER \nThursday Night – May LeagueDates: May 7\, 14\, 21\, 28 (Championship)Game Times: 6:15\, 7:15\, 8:15 PM
URL:https://theboardwalkgrill.com/event/sand-volleyball-league-6
LOCATION:Boardwalk Village\, 901 W Bank Rd\, Celina\, OH\, United States
CATEGORIES:Boardwalk Marketplace
GEO:40.542642;-84.571525
X-APPLE-STRUCTURED-LOCATION;VALUE=URI;X-ADDRESS=Boardwalk Village 901 W Bank Rd Celina OH United States;X-APPLE-RADIUS=500;X-TITLE=901 W Bank Rd:geo:-84.571525,40.542642
END:VEVENT
BEGIN:VEVENT
DTSTART;TZID=America/New_York:20260522T170000
DTEND;TZID=America/New_York:20260522T200000
DTSTAMP:20260424T124242
CREATED:20260128T213529Z
LAST-MODIFIED:20260423T161954Z
UID:10001180-1779469200-1779480000@theboardwalkgrill.com
SUMMARY:Live Music at Coconut Hut: Lauren Rismiller
DESCRIPTION:CLICK HERE TO LEARN MORE
URL:https://theboardwalkgrill.com/event/music-at-the-marketplace-12
LOCATION:Boardwalk Village\, 901 W Bank Rd\, Celina\, OH\, United States
CATEGORIES:Boardwalk Marketplace
GEO:40.542642;-84.571525
X-APPLE-STRUCTURED-LOCATION;VALUE=URI;X-ADDRESS=Boardwalk Village 901 W Bank Rd Celina OH United States;X-APPLE-RADIUS=500;X-TITLE=901 W Bank Rd:geo:-84.571525,40.542642
END:VEVENT
BEGIN:VEVENT
DTSTART;TZID=America/New_York:20260523T070000
DTEND;TZID=America/New_York:20260523T120000
DTSTAMP:20260424T124242
CREATED:20260403T151932Z
LAST-MODIFIED:20260423T161954Z
UID:10001435-1779519600-1779537600@theboardwalkgrill.com
SUMMARY:Coffee Truck
DESCRIPTION:More information coming soon!
URL:https://theboardwalkgrill.com/event/coffee-truck-4
LOCATION:Boardwalk Village\, 901 W Bank Rd\, Celina\, OH\, United States
CATEGORIES:Boardwalk Marketplace
GEO:40.542642;-84.571525
X-APPLE-STRUCTURED-LOCATION;VALUE=URI;X-ADDRESS=Boardwalk Village 901 W Bank Rd Celina OH United States;X-APPLE-RADIUS=500;X-TITLE=901 W Bank Rd:geo:-84.571525,40.542642
END:VEVENT
BEGIN:VEVENT
DTSTART;TZID=America/New_York:20260523T160000
DTEND;TZID=America/New_York:20260523T190000
DTSTAMP:20260424T124242
CREATED:20260128T213529Z
LAST-MODIFIED:20260423T162006Z
UID:10001181-1779552000-1779562800@theboardwalkgrill.com
SUMMARY:Live Music at Coconut Hut: Isaac Buschur
DESCRIPTION:CLICK HERE TO LEARN MORE
URL:https://theboardwalkgrill.com/event/music-at-the-marketplace-13
LOCATION:Boardwalk Village\, 901 W Bank Rd\, Celina\, OH\, United States
CATEGORIES:Boardwalk Marketplace
GEO:40.542642;-84.571525
X-APPLE-STRUCTURED-LOCATION;VALUE=URI;X-ADDRESS=Boardwalk Village 901 W Bank Rd Celina OH United States;X-APPLE-RADIUS=500;X-TITLE=901 W Bank Rd:geo:-84.571525,40.542642
END:VEVENT
BEGIN:VEVENT
DTSTART;TZID=America/New_York:20260524T070000
DTEND;TZID=America/New_York:20260524T120000
DTSTAMP:20260424T124242
CREATED:20260403T151932Z
LAST-MODIFIED:20260423T162007Z
UID:10001436-1779606000-1779624000@theboardwalkgrill.com
SUMMARY:Coffee Truck
DESCRIPTION:More information coming soon!
URL:https://theboardwalkgrill.com/event/coffee-truck-5
LOCATION:Boardwalk Village\, 901 W Bank Rd\, Celina\, OH\, United States
CATEGORIES:Boardwalk Marketplace
GEO:40.542642;-84.571525
X-APPLE-STRUCTURED-LOCATION;VALUE=URI;X-ADDRESS=Boardwalk Village 901 W Bank Rd Celina OH United States;X-APPLE-RADIUS=500;X-TITLE=901 W Bank Rd:geo:-84.571525,40.542642
END:VEVENT
BEGIN:VEVENT
DTSTART;TZID=America/New_York:20260524T160000
DTEND;TZID=America/New_York:20260524T190000
DTSTAMP:20260424T124242
CREATED:20260128T213530Z
LAST-MODIFIED:20260423T162007Z
UID:10001182-1779638400-1779649200@theboardwalkgrill.com
SUMMARY:Live Music at Coconut Hut: Jon Ranly
DESCRIPTION:CLICK HERE TO LEARN MORE
URL:https://theboardwalkgrill.com/event/music-at-the-marketplace-14
LOCATION:Boardwalk Village\, 901 W Bank Rd\, Celina\, OH\, United States
CATEGORIES:Boardwalk Marketplace
GEO:40.542642;-84.571525
X-APPLE-STRUCTURED-LOCATION;VALUE=URI;X-ADDRESS=Boardwalk Village 901 W Bank Rd Celina OH United States;X-APPLE-RADIUS=500;X-TITLE=901 W Bank Rd:geo:-84.571525,40.542642
END:VEVENT
BEGIN:VEVENT
DTSTART;TZID=America/New_York:20260525T070000
DTEND;TZID=America/New_York:20260525T120000
DTSTAMP:20260424T124242
CREATED:20260403T151933Z
LAST-MODIFIED:20260423T162007Z
UID:10001437-1779692400-1779710400@theboardwalkgrill.com
SUMMARY:Coffee Truck
DESCRIPTION:More information coming soon!
URL:https://theboardwalkgrill.com/event/coffee-truck-6
LOCATION:Boardwalk Village\, 901 W Bank Rd\, Celina\, OH\, United States
CATEGORIES:Boardwalk Marketplace
GEO:40.542642;-84.571525
X-APPLE-STRUCTURED-LOCATION;VALUE=URI;X-ADDRESS=Boardwalk Village 901 W Bank Rd Celina OH United States;X-APPLE-RADIUS=500;X-TITLE=901 W Bank Rd:geo:-84.571525,40.542642
END:VEVENT
BEGIN:VEVENT
DTSTART;TZID=America/New_York:20260525T130000
DTEND;TZID=America/New_York:20260525T160000
DTSTAMP:20260424T124242
CREATED:20260423T161933Z
LAST-MODIFIED:20260423T162007Z
UID:10001522-1779714000-1779724800@theboardwalkgrill.com
SUMMARY:Live Music at Coconut Hut: Jay Schultze
DESCRIPTION:CLICK HERE TO LEARN MORE
URL:https://theboardwalkgrill.com/event/live-music-at-coconut-hut-jay-schultze
LOCATION:Boardwalk Village\, 901 W Bank Rd\, Celina\, OH\, United States
CATEGORIES:Boardwalk Marketplace
GEO:40.542642;-84.571525
X-APPLE-STRUCTURED-LOCATION;VALUE=URI;X-ADDRESS=Boardwalk Village 901 W Bank Rd Celina OH United States;X-APPLE-RADIUS=500;X-TITLE=901 W Bank Rd:geo:-84.571525,40.542642
END:VEVENT
BEGIN:VEVENT
DTSTART;TZID=America/New_York:20260525T160000
DTEND;TZID=America/New_York:20260525T200000
DTSTAMP:20260424T124242
CREATED:20260326T083446Z
LAST-MODIFIED:20260423T162007Z
UID:10001383-1779724800-1779739200@theboardwalkgrill.com
SUMMARY:Food Truck: TwoDads
DESCRIPTION:Monday Night Food Truck at Boardwalk Village📅 Mondays | 🕓 4:00 PM – 8:00 PM \nA new food truck every week serving up great eats by the lake. Grab dinner\, hang out\, and enjoy your Monday at the Boardwalk! \n \n👉 CLICK HERE FOR FOOD TRUCK FACEBOOK PAGE
URL:https://theboardwalkgrill.com/event/food-truck-2
LOCATION:Boardwalk Village\, 901 W Bank Rd\, Celina\, OH\, United States
CATEGORIES:Boardwalk Marketplace
GEO:40.542642;-84.571525
X-APPLE-STRUCTURED-LOCATION;VALUE=URI;X-ADDRESS=Boardwalk Village 901 W Bank Rd Celina OH United States;X-APPLE-RADIUS=500;X-TITLE=901 W Bank Rd:geo:-84.571525,40.542642
END:VEVENT
BEGIN:VEVENT
DTSTART;TZID=America/New_York:20260525T190000
DTEND;TZID=America/New_York:20260525T193000
DTSTAMP:20260424T124242
CREATED:20260209T230429Z
LAST-MODIFIED:20260423T162007Z
UID:10001349-1779735600-1779737400@theboardwalkgrill.com
SUMMARY:Queen Of Hearts
DESCRIPTION:Queen of Hearts – Every Monday at 7 PM @ Coconut Hut **Runs weekly until the Queen of Hearts is drawn \nJoin us Monday nights for our Queen of Hearts drawing! Tickets are just $1 each and can be purchased all week long during Coconut Hut hours (Tuesday 3PM through Monday at 6:30PM). \nHow it works: \n\nBuy a ticket… or 10 and pick which card # you believe is the Queen of Hearts\nOne ticket is drawn every Monday at 7 PM at the Coconut Hut\nIf your ticket is drawn\, we flip the card number you chose\nReveal the Queen of Hearts → you win the jackpot\nReveal a Joker → you win a percentage of the pot\nIf the Queen of Hearts is not drawn\, all other tickets are removed and the pot rolls over to the next week\n\nYou do NOT need to be present to win\, but payouts are higher for those who are. \nPayout Structure: \n\nQueen of Hearts – Winner Present: 90% to winner / 10% rolls to next game\nQueen of Hearts – Not Present: 50% to winner / 50% rolls\nJoker – Winner Present: 10% to winner / 90% rolls to next gameJoker – Not Present: 5% to winner / 95% rolls to next game\n\nThe pot can grow fast – come grab tickets\, enjoy drinks\, and be part of the excitement every Monday night! \nCLICK HERE FOR MORE INFORMATION
URL:https://theboardwalkgrill.com/event/queen-of-hearts-2
LOCATION:Boardwalk Village\, 901 W Bank Rd\, Celina\, OH\, United States
CATEGORIES:Boardwalk Marketplace
GEO:40.542642;-84.571525
X-APPLE-STRUCTURED-LOCATION;VALUE=URI;X-ADDRESS=Boardwalk Village 901 W Bank Rd Celina OH United States;X-APPLE-RADIUS=500;X-TITLE=901 W Bank Rd:geo:-84.571525,40.542642
END:VEVENT
BEGIN:VEVENT
DTSTART;TZID=America/New_York:20260526T183000
DTEND;TZID=America/New_York:20260526T203000
DTSTAMP:20260424T124242
CREATED:20260127T213426Z
LAST-MODIFIED:20260405T151934Z
UID:10001105-1779820200-1779827400@theboardwalkgrill.com
SUMMARY:SINGO / Trivia
DESCRIPTION:Join in on the SINGO & Trivia fun at the Coconut Hut with Hemmelgarn Entertainment!  \nSINGO and trivia will rotate every week.  \nCLICK HERE FOR MORE INFORMATION
URL:https://theboardwalkgrill.com/event/singo-trivia-2
LOCATION:Boardwalk Village\, 901 W Bank Rd\, Celina\, OH\, United States
CATEGORIES:Boardwalk Marketplace
GEO:40.542642;-84.571525
X-APPLE-STRUCTURED-LOCATION;VALUE=URI;X-ADDRESS=Boardwalk Village 901 W Bank Rd Celina OH United States;X-APPLE-RADIUS=500;X-TITLE=901 W Bank Rd:geo:-84.571525,40.542642
END:VEVENT
BEGIN:VEVENT
DTSTART;TZID=America/New_York:20260526T183000
DTEND;TZID=America/New_York:20260526T203000
DTSTAMP:20260424T124242
CREATED:20260406T151929Z
LAST-MODIFIED:20260423T162007Z
UID:10001494-1779820200-1779827400@theboardwalkgrill.com
SUMMARY:Trivia
DESCRIPTION:Join in on the trivia fun at the Coconut Hut with Hemmelgarn Entertainment!  \nSINGO and trivia will rotate every week on Tuesdays.  \nCLICK HERE FOR MORE INFORMATION
URL:https://theboardwalkgrill.com/event/trivia
LOCATION:Boardwalk Village\, 901 W Bank Rd\, Celina\, OH\, United States
CATEGORIES:Boardwalk Marketplace
GEO:40.542642;-84.571525
X-APPLE-STRUCTURED-LOCATION;VALUE=URI;X-ADDRESS=Boardwalk Village 901 W Bank Rd Celina OH United States;X-APPLE-RADIUS=500;X-TITLE=901 W Bank Rd:geo:-84.571525,40.542642
END:VEVENT
BEGIN:VEVENT
DTSTART;TZID=America/New_York:20260527T180000
DTEND;TZID=America/New_York:20260527T210000
DTSTAMP:20260424T124242
CREATED:20260127T213427Z
LAST-MODIFIED:20260423T162007Z
UID:10001106-1779904800-1779915600@theboardwalkgrill.com
SUMMARY:Sand Volleyball League
DESCRIPTION:CLICK HERE TO REGISTER \nWednesday Night – May LeagueDates: May 6\, 13\, 20\, 27 (Championship)Game Times: 6:15\, 7:15\, 8:15 PM
URL:https://theboardwalkgrill.com/event/sand-volleyball-league-7
LOCATION:Boardwalk Village\, 901 W Bank Rd\, Celina\, OH\, United States
CATEGORIES:Boardwalk Marketplace
GEO:40.542642;-84.571525
X-APPLE-STRUCTURED-LOCATION;VALUE=URI;X-ADDRESS=Boardwalk Village 901 W Bank Rd Celina OH United States;X-APPLE-RADIUS=500;X-TITLE=901 W Bank Rd:geo:-84.571525,40.542642
END:VEVENT
BEGIN:VEVENT
DTSTART;TZID=America/New_York:20260527T180000
DTEND;TZID=America/New_York:20260527T210000
DTSTAMP:20260424T124242
CREATED:20260128T213531Z
LAST-MODIFIED:20260423T162008Z
UID:10001183-1779904800-1779915600@theboardwalkgrill.com
SUMMARY:Live Music at Coconut Hut: Amanda Livingston
DESCRIPTION:CLICK HERE TO LEARN MORE
URL:https://theboardwalkgrill.com/event/music-at-the-marketplace-15
LOCATION:Boardwalk Village\, 901 W Bank Rd\, Celina\, OH\, United States
CATEGORIES:Boardwalk Marketplace
GEO:40.542642;-84.571525
X-APPLE-STRUCTURED-LOCATION;VALUE=URI;X-ADDRESS=Boardwalk Village 901 W Bank Rd Celina OH United States;X-APPLE-RADIUS=500;X-TITLE=901 W Bank Rd:geo:-84.571525,40.542642
END:VEVENT
BEGIN:VEVENT
DTSTART;TZID=America/New_York:20260528T180000
DTEND;TZID=America/New_York:20260528T210000
DTSTAMP:20260424T124242
CREATED:20260127T213427Z
LAST-MODIFIED:20260423T162020Z
UID:10001107-1779991200-1780002000@theboardwalkgrill.com
SUMMARY:Sand Volleyball League
DESCRIPTION:CLICK HERE TO REGISTER \nThursday Night – May LeagueDates: May 7\, 14\, 21\, 28 (Championship)Game Times: 6:15\, 7:15\, 8:15 PM
URL:https://theboardwalkgrill.com/event/sand-volleyball-league-8
LOCATION:Boardwalk Village\, 901 W Bank Rd\, Celina\, OH\, United States
CATEGORIES:Boardwalk Marketplace
GEO:40.542642;-84.571525
X-APPLE-STRUCTURED-LOCATION;VALUE=URI;X-ADDRESS=Boardwalk Village 901 W Bank Rd Celina OH United States;X-APPLE-RADIUS=500;X-TITLE=901 W Bank Rd:geo:-84.571525,40.542642
END:VEVENT
BEGIN:VEVENT
DTSTART;TZID=America/New_York:20260528T180000
DTEND;TZID=America/New_York:20260528T210000
DTSTAMP:20260424T124242
CREATED:20260127T213427Z
LAST-MODIFIED:20260423T162020Z
UID:10001108-1779991200-1780002000@theboardwalkgrill.com
SUMMARY:Pickleball League
DESCRIPTION:CLICK HERE TO REGISTER \nThursday Night – May League Dates: May 7\, 14\, 21\, 28 (Championship) Game Times: 6:00 PM\, 6:45 PM\, 7:30 PM\, 8:15 PM
URL:https://theboardwalkgrill.com/event/pickleball-league-4
LOCATION:Boardwalk Village\, 901 W Bank Rd\, Celina\, OH\, United States
CATEGORIES:Boardwalk Marketplace
GEO:40.542642;-84.571525
X-APPLE-STRUCTURED-LOCATION;VALUE=URI;X-ADDRESS=Boardwalk Village 901 W Bank Rd Celina OH United States;X-APPLE-RADIUS=500;X-TITLE=901 W Bank Rd:geo:-84.571525,40.542642
END:VEVENT
BEGIN:VEVENT
DTSTART;TZID=America/New_York:20260529T170000
DTEND;TZID=America/New_York:20260529T200000
DTSTAMP:20260424T124242
CREATED:20260128T213532Z
LAST-MODIFIED:20260423T162020Z
UID:10001184-1780074000-1780084800@theboardwalkgrill.com
SUMMARY:Live Music at Coconut Hut: Steve Lewis
DESCRIPTION:CLICK HERE TO LEARN MORE
URL:https://theboardwalkgrill.com/event/music-at-the-marketplace-16
LOCATION:Boardwalk Village\, 901 W Bank Rd\, Celina\, OH\, United States
CATEGORIES:Boardwalk Marketplace
GEO:40.542642;-84.571525
X-APPLE-STRUCTURED-LOCATION;VALUE=URI;X-ADDRESS=Boardwalk Village 901 W Bank Rd Celina OH United States;X-APPLE-RADIUS=500;X-TITLE=901 W Bank Rd:geo:-84.571525,40.542642
END:VEVENT
BEGIN:VEVENT
DTSTART;TZID=America/New_York:20260530T070000
DTEND;TZID=America/New_York:20260530T120000
DTSTAMP:20260424T124242
CREATED:20260403T151934Z
LAST-MODIFIED:20260423T162020Z
UID:10001438-1780124400-1780142400@theboardwalkgrill.com
SUMMARY:Coffee Truck
DESCRIPTION:More information coming soon!
URL:https://theboardwalkgrill.com/event/coffee-truck-7
LOCATION:Boardwalk Village\, 901 W Bank Rd\, Celina\, OH\, United States
CATEGORIES:Boardwalk Marketplace
GEO:40.542642;-84.571525
X-APPLE-STRUCTURED-LOCATION;VALUE=URI;X-ADDRESS=Boardwalk Village 901 W Bank Rd Celina OH United States;X-APPLE-RADIUS=500;X-TITLE=901 W Bank Rd:geo:-84.571525,40.542642
END:VEVENT
BEGIN:VEVENT
DTSTART;TZID=America/New_York:20260530T160000
DTEND;TZID=America/New_York:20260530T190000
DTSTAMP:20260424T124242
CREATED:20260128T213532Z
LAST-MODIFIED:20260423T162020Z
UID:10001185-1780156800-1780167600@theboardwalkgrill.com
SUMMARY:Live Music at Coconut Hut: Sean McSwain
DESCRIPTION:CLICK HERE TO LEARN MORE
URL:https://theboardwalkgrill.com/event/music-at-the-marketplace-17
LOCATION:Boardwalk Village\, 901 W Bank Rd\, Celina\, OH\, United States
CATEGORIES:Boardwalk Marketplace
GEO:40.542642;-84.571525
X-APPLE-STRUCTURED-LOCATION;VALUE=URI;X-ADDRESS=Boardwalk Village 901 W Bank Rd Celina OH United States;X-APPLE-RADIUS=500;X-TITLE=901 W Bank Rd:geo:-84.571525,40.542642
END:VEVENT
BEGIN:VEVENT
DTSTART;TZID=America/New_York:20260531T070000
DTEND;TZID=America/New_York:20260531T120000
DTSTAMP:20260424T124242
CREATED:20260403T151934Z
LAST-MODIFIED:20260423T162020Z
UID:10001439-1780210800-1780228800@theboardwalkgrill.com
SUMMARY:Coffee Truck
DESCRIPTION:More information coming soon!
URL:https://theboardwalkgrill.com/event/coffee-truck-8
LOCATION:Boardwalk Village\, 901 W Bank Rd\, Celina\, OH\, United States
CATEGORIES:Boardwalk Marketplace
GEO:40.542642;-84.571525
X-APPLE-STRUCTURED-LOCATION;VALUE=URI;X-ADDRESS=Boardwalk Village 901 W Bank Rd Celina OH United States;X-APPLE-RADIUS=500;X-TITLE=901 W Bank Rd:geo:-84.571525,40.542642
END:VEVENT
BEGIN:VEVENT
DTSTART;TZID=America/New_York:20260531T160000
DTEND;TZID=America/New_York:20260531T190000
DTSTAMP:20260424T124242
CREATED:20260128T213532Z
LAST-MODIFIED:20260423T162021Z
UID:10001186-1780243200-1780254000@theboardwalkgrill.com
SUMMARY:Live Music at Coconut Hut: Conner Raines
DESCRIPTION:CLICK HERE TO LEARN MORE
URL:https://theboardwalkgrill.com/event/music-at-the-marketplace-18
LOCATION:Boardwalk Village\, 901 W Bank Rd\, Celina\, OH\, United States
CATEGORIES:Boardwalk Marketplace
GEO:40.542642;-84.571525
X-APPLE-STRUCTURED-LOCATION;VALUE=URI;X-ADDRESS=Boardwalk Village 901 W Bank Rd Celina OH United States;X-APPLE-RADIUS=500;X-TITLE=901 W Bank Rd:geo:-84.571525,40.542642
END:VEVENT
BEGIN:VEVENT
DTSTART;TZID=America/New_York:20260601T070000
DTEND;TZID=America/New_York:20260601T120000
DTSTAMP:20260424T124242
CREATED:20260403T151935Z
LAST-MODIFIED:20260423T162021Z
UID:10001440-1780297200-1780315200@theboardwalkgrill.com
SUMMARY:Coffee Truck
DESCRIPTION:More information coming soon!
URL:https://theboardwalkgrill.com/event/coffee-truck-9
LOCATION:Boardwalk Village\, 901 W Bank Rd\, Celina\, OH\, United States
CATEGORIES:Boardwalk Marketplace
GEO:40.542642;-84.571525
X-APPLE-STRUCTURED-LOCATION;VALUE=URI;X-ADDRESS=Boardwalk Village 901 W Bank Rd Celina OH United States;X-APPLE-RADIUS=500;X-TITLE=901 W Bank Rd:geo:-84.571525,40.542642
END:VEVENT
BEGIN:VEVENT
DTSTART;TZID=America/New_York:20260601T160000
DTEND;TZID=America/New_York:20260601T200000
DTSTAMP:20260424T124242
CREATED:20260326T083447Z
LAST-MODIFIED:20260423T162021Z
UID:10001384-1780329600-1780344000@theboardwalkgrill.com
SUMMARY:Food Truck: Frog Sneeze Mac & Cheese
DESCRIPTION:Monday Night Food Truck at Boardwalk Village📅 Mondays | 🕓 4:00 PM – 8:00 PM \nA new food truck every week serving up great eats by the lake. Grab dinner\, hang out\, and enjoy your Monday at the Boardwalk! \n \n👉 CLICK HERE FOR FOOD TRUCK FACEBOOK PAGE
URL:https://theboardwalkgrill.com/event/food-truck-3
LOCATION:Boardwalk Village\, 901 W Bank Rd\, Celina\, OH\, United States
CATEGORIES:Boardwalk Marketplace
GEO:40.542642;-84.571525
X-APPLE-STRUCTURED-LOCATION;VALUE=URI;X-ADDRESS=Boardwalk Village 901 W Bank Rd Celina OH United States;X-APPLE-RADIUS=500;X-TITLE=901 W Bank Rd:geo:-84.571525,40.542642
END:VEVENT
BEGIN:VEVENT
DTSTART;TZID=America/New_York:20260601T190000
DTEND;TZID=America/New_York:20260601T193000
DTSTAMP:20260424T124242
CREATED:20260209T230431Z
LAST-MODIFIED:20260423T162021Z
UID:10001350-1780340400-1780342200@theboardwalkgrill.com
SUMMARY:Queen Of Hearts
DESCRIPTION:Queen of Hearts – Every Monday at 7 PM @ Coconut Hut **Runs weekly until the Queen of Hearts is drawn \nJoin us Monday nights for our Queen of Hearts drawing! Tickets are just $1 each and can be purchased all week long during Coconut Hut hours (Tuesday 3PM through Monday at 6:30PM). \nHow it works: \n\nBuy a ticket… or 10 and pick which card # you believe is the Queen of Hearts\nOne ticket is drawn every Monday at 7 PM at the Coconut Hut\nIf your ticket is drawn\, we flip the card number you chose\nReveal the Queen of Hearts → you win the jackpot\nReveal a Joker → you win a percentage of the pot\nIf the Queen of Hearts is not drawn\, all other tickets are removed and the pot rolls over to the next week\n\nYou do NOT need to be present to win\, but payouts are higher for those who are. \nPayout Structure: \n\nQueen of Hearts – Winner Present: 90% to winner / 10% rolls to next game\nQueen of Hearts – Not Present: 50% to winner / 50% rolls\nJoker – Winner Present: 10% to winner / 90% rolls to next gameJoker – Not Present: 5% to winner / 95% rolls to next game\n\nThe pot can grow fast – come grab tickets\, enjoy drinks\, and be part of the excitement every Monday night! \nCLICK HERE FOR MORE INFORMATION
URL:https://theboardwalkgrill.com/event/queen-of-hearts-3
LOCATION:Boardwalk Village\, 901 W Bank Rd\, Celina\, OH\, United States
CATEGORIES:Boardwalk Marketplace
GEO:40.542642;-84.571525
X-APPLE-STRUCTURED-LOCATION;VALUE=URI;X-ADDRESS=Boardwalk Village 901 W Bank Rd Celina OH United States;X-APPLE-RADIUS=500;X-TITLE=901 W Bank Rd:geo:-84.571525,40.542642
END:VEVENT
BEGIN:VEVENT
DTSTART;TZID=America/New_York:20260602T183000
DTEND;TZID=America/New_York:20260602T203000
DTSTAMP:20260424T124242
CREATED:20260127T213428Z
LAST-MODIFIED:20260423T161938Z
UID:10001109-1780425000-1780432200@theboardwalkgrill.com
SUMMARY:SINGO
DESCRIPTION:Join in on the SINGO fun at the Coconut Hut with Hemmelgarn Entertainment!  \nSINGO and trivia will rotate every week on Tuesdays.  \nCLICK HERE FOR MORE INFORMATION
URL:https://theboardwalkgrill.com/event/singo-trivia-3
LOCATION:Boardwalk Village\, 901 W Bank Rd\, Celina\, OH\, United States
CATEGORIES:Boardwalk Marketplace
GEO:40.542642;-84.571525
X-APPLE-STRUCTURED-LOCATION;VALUE=URI;X-ADDRESS=Boardwalk Village 901 W Bank Rd Celina OH United States;X-APPLE-RADIUS=500;X-TITLE=901 W Bank Rd:geo:-84.571525,40.542642
END:VEVENT
BEGIN:VEVENT
DTSTART;TZID=America/New_York:20260603T090000
DTEND;TZID=America/New_York:20260603T100000
DTSTAMP:20260424T124242
CREATED:20260326T144941Z
LAST-MODIFIED:20260423T161938Z
UID:10001399-1780477200-1780480800@theboardwalkgrill.com
SUMMARY:Yoga In The Sand
DESCRIPTION:Start your Wednesday mornings with movement\, sunshine\, and lake vibes ☀️ \n📍 Where: Boardwalk Marketplace – Sand Volleyball Court📅 When: Wednesdays\, 9:00-10:00 AM💲 Cost: $15/class \n📝 Sign Up: https://www.wttcore.com/ or drop in & pay in person \nLed by Ty Baker-Baumann of 5 Elements Wellness\, this all-levels class focuses on balance\, flexibility\, strength\, and endurance -no experience needed! Bring a mat or chair and join us in the sand.
URL:https://theboardwalkgrill.com/event/yoga-in-the-sand
LOCATION:Boardwalk Village\, 901 W Bank Rd\, Celina\, OH\, United States
CATEGORIES:Boardwalk Marketplace
GEO:40.542642;-84.571525
X-APPLE-STRUCTURED-LOCATION;VALUE=URI;X-ADDRESS=Boardwalk Village 901 W Bank Rd Celina OH United States;X-APPLE-RADIUS=500;X-TITLE=901 W Bank Rd:geo:-84.571525,40.542642
END:VEVENT
END:VCALENDAR