BEGIN:VCALENDAR
VERSION:2.0
PRODID:-//Boardwalk Grill - ECPv6.15.13.1//NONSGML v1.0//EN
CALSCALE:GREGORIAN
METHOD:PUBLISH
X-ORIGINAL-URL:https://theboardwalkgrill.com
X-WR-CALDESC:Events for Boardwalk Grill
REFRESH-INTERVAL;VALUE=DURATION:PT1H
X-Robots-Tag:noindex
X-PUBLISHED-TTL:PT1H
BEGIN:VTIMEZONE
TZID:America/New_York
BEGIN:DAYLIGHT
TZOFFSETFROM:-0500
TZOFFSETTO:-0400
TZNAME:EDT
DTSTART:20250309T070000
END:DAYLIGHT
BEGIN:STANDARD
TZOFFSETFROM:-0400
TZOFFSETTO:-0500
TZNAME:EST
DTSTART:20251102T060000
END:STANDARD
BEGIN:DAYLIGHT
TZOFFSETFROM:-0500
TZOFFSETTO:-0400
TZNAME:EDT
DTSTART:20260308T070000
END:DAYLIGHT
BEGIN:STANDARD
TZOFFSETFROM:-0400
TZOFFSETTO:-0500
TZNAME:EST
DTSTART:20261101T060000
END:STANDARD
BEGIN:DAYLIGHT
TZOFFSETFROM:-0500
TZOFFSETTO:-0400
TZNAME:EDT
DTSTART:20270314T070000
END:DAYLIGHT
BEGIN:STANDARD
TZOFFSETFROM:-0400
TZOFFSETTO:-0500
TZNAME:EST
DTSTART:20271107T060000
END:STANDARD
END:VTIMEZONE
BEGIN:VEVENT
DTSTART;TZID=America/New_York:20260821T190000
DTEND;TZID=America/New_York:20260821T230000
DTSTAMP:20260424T165908
CREATED:20260128T233503Z
LAST-MODIFIED:20260424T080447Z
UID:10001309-1787338800-1787353200@theboardwalkgrill.com
SUMMARY:Live Music:
DESCRIPTION:CLICK TO LEARN MORE
URL:https://theboardwalkgrill.com/event/live-music-74
LOCATION:Boardwalk Grill\, 901 W Bank Rd\, Celina\, OH\, United States
CATEGORIES:Boardwalk Grill
GEO:40.542642;-84.571525
X-APPLE-STRUCTURED-LOCATION;VALUE=URI;X-ADDRESS=Boardwalk Grill 901 W Bank Rd Celina OH United States;X-APPLE-RADIUS=500;X-TITLE=901 W Bank Rd:geo:-84.571525,40.542642
END:VEVENT
BEGIN:VEVENT
DTSTART;TZID=America/New_York:20260822T130000
DTEND;TZID=America/New_York:20260822T170000
DTSTAMP:20260424T165908
CREATED:20260128T233504Z
LAST-MODIFIED:20260424T080447Z
UID:10001310-1787403600-1787418000@theboardwalkgrill.com
SUMMARY:Live Music:
DESCRIPTION:CLICK TO LEARN MORE
URL:https://theboardwalkgrill.com/event/live-music-75
LOCATION:Boardwalk Grill\, 901 W Bank Rd\, Celina\, OH\, United States
CATEGORIES:Boardwalk Grill
GEO:40.542642;-84.571525
X-APPLE-STRUCTURED-LOCATION;VALUE=URI;X-ADDRESS=Boardwalk Grill 901 W Bank Rd Celina OH United States;X-APPLE-RADIUS=500;X-TITLE=901 W Bank Rd:geo:-84.571525,40.542642
END:VEVENT
BEGIN:VEVENT
DTSTART;TZID=America/New_York:20260822T190000
DTEND;TZID=America/New_York:20260822T230000
DTSTAMP:20260424T165908
CREATED:20260128T233504Z
LAST-MODIFIED:20260424T080447Z
UID:10001311-1787425200-1787439600@theboardwalkgrill.com
SUMMARY:Live Music:
DESCRIPTION:CLICK TO LEARN MORE
URL:https://theboardwalkgrill.com/event/live-music-76
LOCATION:Boardwalk Grill\, 901 W Bank Rd\, Celina\, OH\, United States
CATEGORIES:Boardwalk Grill
GEO:40.542642;-84.571525
X-APPLE-STRUCTURED-LOCATION;VALUE=URI;X-ADDRESS=Boardwalk Grill 901 W Bank Rd Celina OH United States;X-APPLE-RADIUS=500;X-TITLE=901 W Bank Rd:geo:-84.571525,40.542642
END:VEVENT
BEGIN:VEVENT
DTSTART;TZID=America/New_York:20260823T140000
DTEND;TZID=America/New_York:20260823T180000
DTSTAMP:20260424T165908
CREATED:20260128T233504Z
LAST-MODIFIED:20260424T080447Z
UID:10001312-1787493600-1787508000@theboardwalkgrill.com
SUMMARY:Live Music:
DESCRIPTION:CLICK TO LEARN MORE
URL:https://theboardwalkgrill.com/event/live-music-77
LOCATION:Boardwalk Grill\, 901 W Bank Rd\, Celina\, OH\, United States
CATEGORIES:Boardwalk Grill
GEO:40.542642;-84.571525
X-APPLE-STRUCTURED-LOCATION;VALUE=URI;X-ADDRESS=Boardwalk Grill 901 W Bank Rd Celina OH United States;X-APPLE-RADIUS=500;X-TITLE=901 W Bank Rd:geo:-84.571525,40.542642
END:VEVENT
BEGIN:VEVENT
DTSTART;TZID=America/New_York:20260827T190000
DTEND;TZID=America/New_York:20260827T220000
DTSTAMP:20260424T165908
CREATED:20260202T233719Z
LAST-MODIFIED:20260424T080447Z
UID:10001345-1787857200-1787868000@theboardwalkgrill.com
SUMMARY:Boardwalk Grill: Karaoke
DESCRIPTION:Karaoke in the Boardwalk Grill Tent with DJ Terence. Pick your favorite song and get ready to sing your heart out! \nCLICK HERE FOR MORE INFORMATION
URL:https://theboardwalkgrill.com/event/boardwalk-grill-karaoke-30
LOCATION:Boardwalk Grill\, 901 W Bank Rd\, Celina\, OH\, United States
CATEGORIES:Boardwalk Grill
GEO:40.542642;-84.571525
X-APPLE-STRUCTURED-LOCATION;VALUE=URI;X-ADDRESS=Boardwalk Grill 901 W Bank Rd Celina OH United States;X-APPLE-RADIUS=500;X-TITLE=901 W Bank Rd:geo:-84.571525,40.542642
END:VEVENT
BEGIN:VEVENT
DTSTART;TZID=America/New_York:20260828T190000
DTEND;TZID=America/New_York:20260828T230000
DTSTAMP:20260424T165908
CREATED:20260128T233505Z
LAST-MODIFIED:20260424T080448Z
UID:10001313-1787943600-1787958000@theboardwalkgrill.com
SUMMARY:Live Music:
DESCRIPTION:CLICK TO LEARN MORE
URL:https://theboardwalkgrill.com/event/live-music-78
LOCATION:Boardwalk Grill\, 901 W Bank Rd\, Celina\, OH\, United States
CATEGORIES:Boardwalk Grill
GEO:40.542642;-84.571525
X-APPLE-STRUCTURED-LOCATION;VALUE=URI;X-ADDRESS=Boardwalk Grill 901 W Bank Rd Celina OH United States;X-APPLE-RADIUS=500;X-TITLE=901 W Bank Rd:geo:-84.571525,40.542642
END:VEVENT
BEGIN:VEVENT
DTSTART;TZID=America/New_York:20260829T130000
DTEND;TZID=America/New_York:20260829T170000
DTSTAMP:20260424T165908
CREATED:20260128T233505Z
LAST-MODIFIED:20260424T080448Z
UID:10001314-1788008400-1788022800@theboardwalkgrill.com
SUMMARY:Live Music:
DESCRIPTION:CLICK TO LEARN MORE
URL:https://theboardwalkgrill.com/event/live-music-79
LOCATION:Boardwalk Grill\, 901 W Bank Rd\, Celina\, OH\, United States
CATEGORIES:Boardwalk Grill
GEO:40.542642;-84.571525
X-APPLE-STRUCTURED-LOCATION;VALUE=URI;X-ADDRESS=Boardwalk Grill 901 W Bank Rd Celina OH United States;X-APPLE-RADIUS=500;X-TITLE=901 W Bank Rd:geo:-84.571525,40.542642
END:VEVENT
BEGIN:VEVENT
DTSTART;TZID=America/New_York:20260829T190000
DTEND;TZID=America/New_York:20260829T230000
DTSTAMP:20260424T165908
CREATED:20260128T233506Z
LAST-MODIFIED:20260424T080448Z
UID:10001315-1788030000-1788044400@theboardwalkgrill.com
SUMMARY:Live Music:
DESCRIPTION:CLICK TO LEARN MORE
URL:https://theboardwalkgrill.com/event/live-music-80
LOCATION:Boardwalk Grill\, 901 W Bank Rd\, Celina\, OH\, United States
CATEGORIES:Boardwalk Grill
GEO:40.542642;-84.571525
X-APPLE-STRUCTURED-LOCATION;VALUE=URI;X-ADDRESS=Boardwalk Grill 901 W Bank Rd Celina OH United States;X-APPLE-RADIUS=500;X-TITLE=901 W Bank Rd:geo:-84.571525,40.542642
END:VEVENT
BEGIN:VEVENT
DTSTART;TZID=America/New_York:20260830T140000
DTEND;TZID=America/New_York:20260830T180000
DTSTAMP:20260424T165908
CREATED:20260128T233506Z
LAST-MODIFIED:20260424T080448Z
UID:10001316-1788098400-1788112800@theboardwalkgrill.com
SUMMARY:Live Music:
DESCRIPTION:CLICK TO LEARN MORE
URL:https://theboardwalkgrill.com/event/live-music-81
LOCATION:Boardwalk Grill\, 901 W Bank Rd\, Celina\, OH\, United States
CATEGORIES:Boardwalk Grill
GEO:40.542642;-84.571525
X-APPLE-STRUCTURED-LOCATION;VALUE=URI;X-ADDRESS=Boardwalk Grill 901 W Bank Rd Celina OH United States;X-APPLE-RADIUS=500;X-TITLE=901 W Bank Rd:geo:-84.571525,40.542642
END:VEVENT
BEGIN:VEVENT
DTSTART;TZID=America/New_York:20260904T190000
DTEND;TZID=America/New_York:20260904T230000
DTSTAMP:20260424T165908
CREATED:20260128T233507Z
LAST-MODIFIED:20260424T080448Z
UID:10001317-1788548400-1788562800@theboardwalkgrill.com
SUMMARY:Live Music:
DESCRIPTION:CLICK TO LEARN MORE
URL:https://theboardwalkgrill.com/event/live-music-82
LOCATION:Boardwalk Grill\, 901 W Bank Rd\, Celina\, OH\, United States
CATEGORIES:Boardwalk Grill
GEO:40.542642;-84.571525
X-APPLE-STRUCTURED-LOCATION;VALUE=URI;X-ADDRESS=Boardwalk Grill 901 W Bank Rd Celina OH United States;X-APPLE-RADIUS=500;X-TITLE=901 W Bank Rd:geo:-84.571525,40.542642
END:VEVENT
BEGIN:VEVENT
DTSTART;TZID=America/New_York:20260905T130000
DTEND;TZID=America/New_York:20260905T170000
DTSTAMP:20260424T165908
CREATED:20260128T233507Z
LAST-MODIFIED:20260424T080448Z
UID:10001318-1788613200-1788627600@theboardwalkgrill.com
SUMMARY:Live Music:
DESCRIPTION:CLICK TO LEARN MORE
URL:https://theboardwalkgrill.com/event/live-music-83
LOCATION:Boardwalk Grill\, 901 W Bank Rd\, Celina\, OH\, United States
CATEGORIES:Boardwalk Grill
GEO:40.542642;-84.571525
X-APPLE-STRUCTURED-LOCATION;VALUE=URI;X-ADDRESS=Boardwalk Grill 901 W Bank Rd Celina OH United States;X-APPLE-RADIUS=500;X-TITLE=901 W Bank Rd:geo:-84.571525,40.542642
END:VEVENT
BEGIN:VEVENT
DTSTART;TZID=America/New_York:20260905T190000
DTEND;TZID=America/New_York:20260905T230000
DTSTAMP:20260424T165908
CREATED:20260128T233507Z
LAST-MODIFIED:20260424T080449Z
UID:10001319-1788634800-1788649200@theboardwalkgrill.com
SUMMARY:Live Music:
DESCRIPTION:CLICK TO LEARN MORE
URL:https://theboardwalkgrill.com/event/live-music-84
LOCATION:Boardwalk Grill\, 901 W Bank Rd\, Celina\, OH\, United States
CATEGORIES:Boardwalk Grill
GEO:40.542642;-84.571525
X-APPLE-STRUCTURED-LOCATION;VALUE=URI;X-ADDRESS=Boardwalk Grill 901 W Bank Rd Celina OH United States;X-APPLE-RADIUS=500;X-TITLE=901 W Bank Rd:geo:-84.571525,40.542642
END:VEVENT
BEGIN:VEVENT
DTSTART;TZID=America/New_York:20260906T130000
DTEND;TZID=America/New_York:20260906T170000
DTSTAMP:20260424T165908
CREATED:20260128T233508Z
LAST-MODIFIED:20260424T080449Z
UID:10001320-1788699600-1788714000@theboardwalkgrill.com
SUMMARY:Live Music:
DESCRIPTION:CLICK TO LEARN MORE
URL:https://theboardwalkgrill.com/event/live-music-85
LOCATION:Boardwalk Grill\, 901 W Bank Rd\, Celina\, OH\, United States
CATEGORIES:Boardwalk Grill
GEO:40.542642;-84.571525
X-APPLE-STRUCTURED-LOCATION;VALUE=URI;X-ADDRESS=Boardwalk Grill 901 W Bank Rd Celina OH United States;X-APPLE-RADIUS=500;X-TITLE=901 W Bank Rd:geo:-84.571525,40.542642
END:VEVENT
BEGIN:VEVENT
DTSTART;TZID=America/New_York:20260906T190000
DTEND;TZID=America/New_York:20260906T230000
DTSTAMP:20260424T165908
CREATED:20260128T233508Z
LAST-MODIFIED:20260424T080449Z
UID:10001321-1788721200-1788735600@theboardwalkgrill.com
SUMMARY:Live Music:
DESCRIPTION:CLICK TO LEARN MORE
URL:https://theboardwalkgrill.com/event/live-music-86
LOCATION:Boardwalk Grill\, 901 W Bank Rd\, Celina\, OH\, United States
CATEGORIES:Boardwalk Grill
GEO:40.542642;-84.571525
X-APPLE-STRUCTURED-LOCATION;VALUE=URI;X-ADDRESS=Boardwalk Grill 901 W Bank Rd Celina OH United States;X-APPLE-RADIUS=500;X-TITLE=901 W Bank Rd:geo:-84.571525,40.542642
END:VEVENT
BEGIN:VEVENT
DTSTART;TZID=America/New_York:20260907T130000
DTEND;TZID=America/New_York:20260907T170000
DTSTAMP:20260424T165908
CREATED:20260128T233509Z
LAST-MODIFIED:20260424T080449Z
UID:10001322-1788786000-1788800400@theboardwalkgrill.com
SUMMARY:Live Music:
DESCRIPTION:CLICK TO LEARN MORE
URL:https://theboardwalkgrill.com/event/live-music-87
LOCATION:Boardwalk Grill\, 901 W Bank Rd\, Celina\, OH\, United States
CATEGORIES:Boardwalk Grill
GEO:40.542642;-84.571525
X-APPLE-STRUCTURED-LOCATION;VALUE=URI;X-ADDRESS=Boardwalk Grill 901 W Bank Rd Celina OH United States;X-APPLE-RADIUS=500;X-TITLE=901 W Bank Rd:geo:-84.571525,40.542642
END:VEVENT
BEGIN:VEVENT
DTSTART;TZID=America/New_York:20260911T190000
DTEND;TZID=America/New_York:20260911T230000
DTSTAMP:20260424T165908
CREATED:20260128T233509Z
LAST-MODIFIED:20260424T080449Z
UID:10001323-1789153200-1789167600@theboardwalkgrill.com
SUMMARY:Live Music:
DESCRIPTION:CLICK TO LEARN MORE
URL:https://theboardwalkgrill.com/event/live-music-88
LOCATION:Boardwalk Grill\, 901 W Bank Rd\, Celina\, OH\, United States
CATEGORIES:Boardwalk Grill
GEO:40.542642;-84.571525
X-APPLE-STRUCTURED-LOCATION;VALUE=URI;X-ADDRESS=Boardwalk Grill 901 W Bank Rd Celina OH United States;X-APPLE-RADIUS=500;X-TITLE=901 W Bank Rd:geo:-84.571525,40.542642
END:VEVENT
BEGIN:VEVENT
DTSTART;TZID=America/New_York:20260912T190000
DTEND;TZID=America/New_York:20260912T230000
DTSTAMP:20260424T165908
CREATED:20260128T233510Z
LAST-MODIFIED:20260424T080449Z
UID:10001324-1789239600-1789254000@theboardwalkgrill.com
SUMMARY:Live Music:
DESCRIPTION:CLICK TO LEARN MORE
URL:https://theboardwalkgrill.com/event/live-music-89
LOCATION:Boardwalk Grill\, 901 W Bank Rd\, Celina\, OH\, United States
CATEGORIES:Boardwalk Grill
GEO:40.542642;-84.571525
X-APPLE-STRUCTURED-LOCATION;VALUE=URI;X-ADDRESS=Boardwalk Grill 901 W Bank Rd Celina OH United States;X-APPLE-RADIUS=500;X-TITLE=901 W Bank Rd:geo:-84.571525,40.542642
END:VEVENT
BEGIN:VEVENT
DTSTART;TZID=America/New_York:20260918T190000
DTEND;TZID=America/New_York:20260918T230000
DTSTAMP:20260424T165908
CREATED:20260128T233510Z
LAST-MODIFIED:20260424T080449Z
UID:10001325-1789758000-1789772400@theboardwalkgrill.com
SUMMARY:Live Music:
DESCRIPTION:CLICK TO LEARN MORE
URL:https://theboardwalkgrill.com/event/live-music-90
LOCATION:Boardwalk Grill\, 901 W Bank Rd\, Celina\, OH\, United States
CATEGORIES:Boardwalk Grill
GEO:40.542642;-84.571525
X-APPLE-STRUCTURED-LOCATION;VALUE=URI;X-ADDRESS=Boardwalk Grill 901 W Bank Rd Celina OH United States;X-APPLE-RADIUS=500;X-TITLE=901 W Bank Rd:geo:-84.571525,40.542642
END:VEVENT
BEGIN:VEVENT
DTSTART;TZID=America/New_York:20260919T190000
DTEND;TZID=America/New_York:20260919T230000
DTSTAMP:20260424T165908
CREATED:20260128T233511Z
LAST-MODIFIED:20260424T080449Z
UID:10001326-1789844400-1789858800@theboardwalkgrill.com
SUMMARY:Live Music:
DESCRIPTION:CLICK TO LEARN MORE
URL:https://theboardwalkgrill.com/event/live-music-91
LOCATION:Boardwalk Grill\, 901 W Bank Rd\, Celina\, OH\, United States
CATEGORIES:Boardwalk Grill
GEO:40.542642;-84.571525
X-APPLE-STRUCTURED-LOCATION;VALUE=URI;X-ADDRESS=Boardwalk Grill 901 W Bank Rd Celina OH United States;X-APPLE-RADIUS=500;X-TITLE=901 W Bank Rd:geo:-84.571525,40.542642
END:VEVENT
BEGIN:VEVENT
DTSTART;TZID=America/New_York:20260925T190000
DTEND;TZID=America/New_York:20260925T230000
DTSTAMP:20260424T165908
CREATED:20260128T233511Z
LAST-MODIFIED:20260424T080450Z
UID:10001327-1790362800-1790377200@theboardwalkgrill.com
SUMMARY:Live Music:
DESCRIPTION:CLICK TO LEARN MORE
URL:https://theboardwalkgrill.com/event/live-music-92
LOCATION:Boardwalk Grill\, 901 W Bank Rd\, Celina\, OH\, United States
CATEGORIES:Boardwalk Grill
GEO:40.542642;-84.571525
X-APPLE-STRUCTURED-LOCATION;VALUE=URI;X-ADDRESS=Boardwalk Grill 901 W Bank Rd Celina OH United States;X-APPLE-RADIUS=500;X-TITLE=901 W Bank Rd:geo:-84.571525,40.542642
END:VEVENT
BEGIN:VEVENT
DTSTART;TZID=America/New_York:20260926T190000
DTEND;TZID=America/New_York:20260926T230000
DTSTAMP:20260424T165908
CREATED:20260128T233511Z
LAST-MODIFIED:20260424T080450Z
UID:10001328-1790449200-1790463600@theboardwalkgrill.com
SUMMARY:Live Music:
DESCRIPTION:CLICK TO LEARN MORE
URL:https://theboardwalkgrill.com/event/live-music-93
LOCATION:Boardwalk Grill\, 901 W Bank Rd\, Celina\, OH\, United States
CATEGORIES:Boardwalk Grill
GEO:40.542642;-84.571525
X-APPLE-STRUCTURED-LOCATION;VALUE=URI;X-ADDRESS=Boardwalk Grill 901 W Bank Rd Celina OH United States;X-APPLE-RADIUS=500;X-TITLE=901 W Bank Rd:geo:-84.571525,40.542642
END:VEVENT
END:VCALENDAR