BEGIN:VCALENDAR
VERSION:2.0
PRODID:-//Boardwalk Grill - ECPv6.15.13.1//NONSGML v1.0//EN
CALSCALE:GREGORIAN
METHOD:PUBLISH
X-ORIGINAL-URL:https://theboardwalkgrill.com
X-WR-CALDESC:Events for Boardwalk Grill
REFRESH-INTERVAL;VALUE=DURATION:PT1H
X-Robots-Tag:noindex
X-PUBLISHED-TTL:PT1H
BEGIN:VTIMEZONE
TZID:America/New_York
BEGIN:DAYLIGHT
TZOFFSETFROM:-0500
TZOFFSETTO:-0400
TZNAME:EDT
DTSTART:20250309T070000
END:DAYLIGHT
BEGIN:STANDARD
TZOFFSETFROM:-0400
TZOFFSETTO:-0500
TZNAME:EST
DTSTART:20251102T060000
END:STANDARD
BEGIN:DAYLIGHT
TZOFFSETFROM:-0500
TZOFFSETTO:-0400
TZNAME:EDT
DTSTART:20260308T070000
END:DAYLIGHT
BEGIN:STANDARD
TZOFFSETFROM:-0400
TZOFFSETTO:-0500
TZNAME:EST
DTSTART:20261101T060000
END:STANDARD
BEGIN:DAYLIGHT
TZOFFSETFROM:-0500
TZOFFSETTO:-0400
TZNAME:EDT
DTSTART:20270314T070000
END:DAYLIGHT
BEGIN:STANDARD
TZOFFSETFROM:-0400
TZOFFSETTO:-0500
TZNAME:EST
DTSTART:20271107T060000
END:STANDARD
END:VTIMEZONE
BEGIN:VEVENT
DTSTART;TZID=America/New_York:20260718T130000
DTEND;TZID=America/New_York:20260718T170000
DTSTAMP:20260424T140501
CREATED:20260128T233454Z
LAST-MODIFIED:20260424T080444Z
UID:10001290-1784379600-1784394000@theboardwalkgrill.com
SUMMARY:Live Music:
DESCRIPTION:CLICK TO LEARN MORE
URL:https://theboardwalkgrill.com/event/live-music-55
LOCATION:Boardwalk Grill\, 901 W Bank Rd\, Celina\, OH\, United States
CATEGORIES:Boardwalk Grill
GEO:40.542642;-84.571525
X-APPLE-STRUCTURED-LOCATION;VALUE=URI;X-ADDRESS=Boardwalk Grill 901 W Bank Rd Celina OH United States;X-APPLE-RADIUS=500;X-TITLE=901 W Bank Rd:geo:-84.571525,40.542642
END:VEVENT
BEGIN:VEVENT
DTSTART;TZID=America/New_York:20260718T190000
DTEND;TZID=America/New_York:20260718T230000
DTSTAMP:20260424T140501
CREATED:20260128T233455Z
LAST-MODIFIED:20260424T080444Z
UID:10001291-1784401200-1784415600@theboardwalkgrill.com
SUMMARY:Live Music:
DESCRIPTION:CLICK TO LEARN MORE
URL:https://theboardwalkgrill.com/event/live-music-56
LOCATION:Boardwalk Grill\, 901 W Bank Rd\, Celina\, OH\, United States
CATEGORIES:Boardwalk Grill
GEO:40.542642;-84.571525
X-APPLE-STRUCTURED-LOCATION;VALUE=URI;X-ADDRESS=Boardwalk Grill 901 W Bank Rd Celina OH United States;X-APPLE-RADIUS=500;X-TITLE=901 W Bank Rd:geo:-84.571525,40.542642
END:VEVENT
BEGIN:VEVENT
DTSTART;TZID=America/New_York:20260719T140000
DTEND;TZID=America/New_York:20260719T180000
DTSTAMP:20260424T140501
CREATED:20260128T233455Z
LAST-MODIFIED:20260424T080444Z
UID:10001292-1784469600-1784484000@theboardwalkgrill.com
SUMMARY:Live Music:
DESCRIPTION:CLICK TO LEARN MORE
URL:https://theboardwalkgrill.com/event/live-music-57
LOCATION:Boardwalk Grill\, 901 W Bank Rd\, Celina\, OH\, United States
CATEGORIES:Boardwalk Grill
GEO:40.542642;-84.571525
X-APPLE-STRUCTURED-LOCATION;VALUE=URI;X-ADDRESS=Boardwalk Grill 901 W Bank Rd Celina OH United States;X-APPLE-RADIUS=500;X-TITLE=901 W Bank Rd:geo:-84.571525,40.542642
END:VEVENT
BEGIN:VEVENT
DTSTART;TZID=America/New_York:20260723T190000
DTEND;TZID=America/New_York:20260723T220000
DTSTAMP:20260424T140501
CREATED:20260202T233637Z
LAST-MODIFIED:20260424T080444Z
UID:10001340-1784833200-1784844000@theboardwalkgrill.com
SUMMARY:Boardwalk Grill: Karaoke
DESCRIPTION:Karaoke in the Boardwalk Grill Tent with DJ Terence. Pick your favorite song and get ready to sing your heart out! \nCLICK HERE FOR MORE INFORMATION
URL:https://theboardwalkgrill.com/event/boardwalk-grill-karaoke-29
LOCATION:Boardwalk Grill\, 901 W Bank Rd\, Celina\, OH\, United States
CATEGORIES:Boardwalk Grill
GEO:40.542642;-84.571525
X-APPLE-STRUCTURED-LOCATION;VALUE=URI;X-ADDRESS=Boardwalk Grill 901 W Bank Rd Celina OH United States;X-APPLE-RADIUS=500;X-TITLE=901 W Bank Rd:geo:-84.571525,40.542642
END:VEVENT
BEGIN:VEVENT
DTSTART;TZID=America/New_York:20260724T190000
DTEND;TZID=America/New_York:20260724T230000
DTSTAMP:20260424T140501
CREATED:20260128T233455Z
LAST-MODIFIED:20260424T080444Z
UID:10001293-1784919600-1784934000@theboardwalkgrill.com
SUMMARY:Live Music:
DESCRIPTION:CLICK TO LEARN MORE
URL:https://theboardwalkgrill.com/event/live-music-58
LOCATION:Boardwalk Grill\, 901 W Bank Rd\, Celina\, OH\, United States
CATEGORIES:Boardwalk Grill
GEO:40.542642;-84.571525
X-APPLE-STRUCTURED-LOCATION;VALUE=URI;X-ADDRESS=Boardwalk Grill 901 W Bank Rd Celina OH United States;X-APPLE-RADIUS=500;X-TITLE=901 W Bank Rd:geo:-84.571525,40.542642
END:VEVENT
BEGIN:VEVENT
DTSTART;TZID=America/New_York:20260725T130000
DTEND;TZID=America/New_York:20260725T170000
DTSTAMP:20260424T140501
CREATED:20260128T233456Z
LAST-MODIFIED:20260424T080444Z
UID:10001294-1784984400-1784998800@theboardwalkgrill.com
SUMMARY:Live Music:
DESCRIPTION:CLICK TO LEARN MORE
URL:https://theboardwalkgrill.com/event/live-music-59
LOCATION:Boardwalk Grill\, 901 W Bank Rd\, Celina\, OH\, United States
CATEGORIES:Boardwalk Grill
GEO:40.542642;-84.571525
X-APPLE-STRUCTURED-LOCATION;VALUE=URI;X-ADDRESS=Boardwalk Grill 901 W Bank Rd Celina OH United States;X-APPLE-RADIUS=500;X-TITLE=901 W Bank Rd:geo:-84.571525,40.542642
END:VEVENT
BEGIN:VEVENT
DTSTART;TZID=America/New_York:20260725T190000
DTEND;TZID=America/New_York:20260725T230000
DTSTAMP:20260424T140501
CREATED:20260128T233456Z
LAST-MODIFIED:20260424T080444Z
UID:10001295-1785006000-1785020400@theboardwalkgrill.com
SUMMARY:Live Music:
DESCRIPTION:CLICK TO LEARN MORE
URL:https://theboardwalkgrill.com/event/live-music-60
LOCATION:Boardwalk Grill\, 901 W Bank Rd\, Celina\, OH\, United States
CATEGORIES:Boardwalk Grill
GEO:40.542642;-84.571525
X-APPLE-STRUCTURED-LOCATION;VALUE=URI;X-ADDRESS=Boardwalk Grill 901 W Bank Rd Celina OH United States;X-APPLE-RADIUS=500;X-TITLE=901 W Bank Rd:geo:-84.571525,40.542642
END:VEVENT
BEGIN:VEVENT
DTSTART;TZID=America/New_York:20260726T140000
DTEND;TZID=America/New_York:20260726T180000
DTSTAMP:20260424T140501
CREATED:20260128T233457Z
LAST-MODIFIED:20260424T080444Z
UID:10001296-1785074400-1785088800@theboardwalkgrill.com
SUMMARY:Live Music:
DESCRIPTION:CLICK TO LEARN MORE
URL:https://theboardwalkgrill.com/event/live-music-61
LOCATION:Boardwalk Grill\, 901 W Bank Rd\, Celina\, OH\, United States
CATEGORIES:Boardwalk Grill
GEO:40.542642;-84.571525
X-APPLE-STRUCTURED-LOCATION;VALUE=URI;X-ADDRESS=Boardwalk Grill 901 W Bank Rd Celina OH United States;X-APPLE-RADIUS=500;X-TITLE=901 W Bank Rd:geo:-84.571525,40.542642
END:VEVENT
BEGIN:VEVENT
DTSTART;TZID=America/New_York:20260730T190000
DTEND;TZID=America/New_York:20260730T220000
DTSTAMP:20260424T140501
CREATED:20260202T233650Z
LAST-MODIFIED:20260424T080445Z
UID:10001341-1785438000-1785448800@theboardwalkgrill.com
SUMMARY:Boardwalk Grill: Karaoke Contest
DESCRIPTION:Karaoke Contest in the Boardwalk Grill Tent with DJ Terence. Pick your favorite song and get ready to sing your heart out! \nPreliminary Dates: May 28th\, June 25th\, July 30thA maximum of 3 contestants will be able to qualify for the final karaoke contest on August 20th. The judges will make the final decision based on scoring who will make the cut and who will not.  \nFinal Date: August 20thAll contestant qualifiers from the preliminary rounds will be able to participate in the Karaoke Summer Contest Finale. Again judges will have the final decision on 1st place\, 2nd place and 3rd place.Prizes1st Place: $1\,000 Cash\, $250 Boardwalk Grill Gift Card & Golden Microphone Trophy2nd Place: $250 Cash\, $250 Boardwalk Grill Gift Card3rd Place: $150 Boardwalk Grill Gift Card \nRules \n\nNo charge for participating.\n  No pre-registration required – just show up and sing!  \nContestants must be 21 years of age at the time they compete.\nContestants will be judged on any or all of the following items: Appearance\, Professionalism\, Preparedness\, Material\, Audience Interaction\, Stage Presence & Vocal Ability.\nContestants will compete in random or signup order from 7PM-10PM. A warm up round will be available at 7PM.\nEach contestant will participate in 2 rounds. Must pick 3 songs with 1 as a backup song. Must be willing to use a song stocked by the house karaoke system.\nContestant agrees to abide by all judges decisions and hold Local Contest Venue\, Boardwalk Grill\, harmless from any and all actions\, legal or other resulting from participating in contest.\n\nEligibility Guidelines  \n\nThis contest is designed for community members who enjoy singing for fun.\nPerformers whose primary income comes from singing\, or who regularly perform as paid vocalists\, may be deemed ineligible at the discretion of event organizers.\nIndividuals who tour\, hold contracts\, or regularly perform as paid vocalists are not eligible to compete.\nBy participating\, contestants agree to hold Boardwalk Grill\, the event venue\, and affiliated parties harmless from any claims or actions resulting from participation.\n\nCLICK HERE FOR MORE INFORMATION
URL:https://theboardwalkgrill.com/event/boardwalk-grill-karaoke-contest-6
LOCATION:Boardwalk Grill\, 901 W Bank Rd\, Celina\, OH\, United States
CATEGORIES:Boardwalk Grill
GEO:40.542642;-84.571525
X-APPLE-STRUCTURED-LOCATION;VALUE=URI;X-ADDRESS=Boardwalk Grill 901 W Bank Rd Celina OH United States;X-APPLE-RADIUS=500;X-TITLE=901 W Bank Rd:geo:-84.571525,40.542642
END:VEVENT
BEGIN:VEVENT
DTSTART;TZID=America/New_York:20260731T190000
DTEND;TZID=America/New_York:20260731T230000
DTSTAMP:20260424T140501
CREATED:20260128T233457Z
LAST-MODIFIED:20260424T080445Z
UID:10001297-1785524400-1785538800@theboardwalkgrill.com
SUMMARY:Live Music:
DESCRIPTION:CLICK TO LEARN MORE
URL:https://theboardwalkgrill.com/event/live-music-62
LOCATION:Boardwalk Grill\, 901 W Bank Rd\, Celina\, OH\, United States
CATEGORIES:Boardwalk Grill
GEO:40.542642;-84.571525
X-APPLE-STRUCTURED-LOCATION;VALUE=URI;X-ADDRESS=Boardwalk Grill 901 W Bank Rd Celina OH United States;X-APPLE-RADIUS=500;X-TITLE=901 W Bank Rd:geo:-84.571525,40.542642
END:VEVENT
BEGIN:VEVENT
DTSTART;TZID=America/New_York:20260801T130000
DTEND;TZID=America/New_York:20260801T170000
DTSTAMP:20260424T140501
CREATED:20260128T233457Z
LAST-MODIFIED:20260424T080445Z
UID:10001298-1785589200-1785603600@theboardwalkgrill.com
SUMMARY:Live Music:
DESCRIPTION:CLICK TO LEARN MORE
URL:https://theboardwalkgrill.com/event/live-music-63
LOCATION:Boardwalk Grill\, 901 W Bank Rd\, Celina\, OH\, United States
CATEGORIES:Boardwalk Grill
GEO:40.542642;-84.571525
X-APPLE-STRUCTURED-LOCATION;VALUE=URI;X-ADDRESS=Boardwalk Grill 901 W Bank Rd Celina OH United States;X-APPLE-RADIUS=500;X-TITLE=901 W Bank Rd:geo:-84.571525,40.542642
END:VEVENT
BEGIN:VEVENT
DTSTART;TZID=America/New_York:20260801T190000
DTEND;TZID=America/New_York:20260801T230000
DTSTAMP:20260424T140501
CREATED:20260128T233458Z
LAST-MODIFIED:20260424T080445Z
UID:10001299-1785610800-1785625200@theboardwalkgrill.com
SUMMARY:Live Music:
DESCRIPTION:CLICK TO LEARN MORE
URL:https://theboardwalkgrill.com/event/live-music-64
LOCATION:Boardwalk Grill\, 901 W Bank Rd\, Celina\, OH\, United States
CATEGORIES:Boardwalk Grill
GEO:40.542642;-84.571525
X-APPLE-STRUCTURED-LOCATION;VALUE=URI;X-ADDRESS=Boardwalk Grill 901 W Bank Rd Celina OH United States;X-APPLE-RADIUS=500;X-TITLE=901 W Bank Rd:geo:-84.571525,40.542642
END:VEVENT
BEGIN:VEVENT
DTSTART;TZID=America/New_York:20260802T140000
DTEND;TZID=America/New_York:20260802T180000
DTSTAMP:20260424T140501
CREATED:20260128T233458Z
LAST-MODIFIED:20260424T080445Z
UID:10001300-1785679200-1785693600@theboardwalkgrill.com
SUMMARY:Live Music:
DESCRIPTION:CLICK TO LEARN MORE
URL:https://theboardwalkgrill.com/event/live-music-65
LOCATION:Boardwalk Grill\, 901 W Bank Rd\, Celina\, OH\, United States
CATEGORIES:Boardwalk Grill
GEO:40.542642;-84.571525
X-APPLE-STRUCTURED-LOCATION;VALUE=URI;X-ADDRESS=Boardwalk Grill 901 W Bank Rd Celina OH United States;X-APPLE-RADIUS=500;X-TITLE=901 W Bank Rd:geo:-84.571525,40.542642
END:VEVENT
BEGIN:VEVENT
DTSTART;TZID=America/New_York:20260806T190000
DTEND;TZID=America/New_York:20260806T220000
DTSTAMP:20260424T140501
CREATED:20260202T233651Z
LAST-MODIFIED:20260424T080445Z
UID:10001342-1786042800-1786053600@theboardwalkgrill.com
SUMMARY:Boardwalk Grill: Karaoke - Ladies Night
DESCRIPTION:Karaoke in the Boardwalk Grill Tent with DJ Terence. Pick your favorite song and get ready to sing your heart out! \nCLICK HERE FOR MORE INFORMATION
URL:https://theboardwalkgrill.com/event/boardwalk-grill-karaoke-ladies-night-2
LOCATION:Boardwalk Grill\, 901 W Bank Rd\, Celina\, OH\, United States
CATEGORIES:Boardwalk Grill
GEO:40.542642;-84.571525
X-APPLE-STRUCTURED-LOCATION;VALUE=URI;X-ADDRESS=Boardwalk Grill 901 W Bank Rd Celina OH United States;X-APPLE-RADIUS=500;X-TITLE=901 W Bank Rd:geo:-84.571525,40.542642
END:VEVENT
BEGIN:VEVENT
DTSTART;TZID=America/New_York:20260807T190000
DTEND;TZID=America/New_York:20260807T230000
DTSTAMP:20260424T140501
CREATED:20260128T233459Z
LAST-MODIFIED:20260424T080445Z
UID:10001301-1786129200-1786143600@theboardwalkgrill.com
SUMMARY:Live Music:
DESCRIPTION:CLICK TO LEARN MORE
URL:https://theboardwalkgrill.com/event/live-music-66
LOCATION:Boardwalk Grill\, 901 W Bank Rd\, Celina\, OH\, United States
CATEGORIES:Boardwalk Grill
GEO:40.542642;-84.571525
X-APPLE-STRUCTURED-LOCATION;VALUE=URI;X-ADDRESS=Boardwalk Grill 901 W Bank Rd Celina OH United States;X-APPLE-RADIUS=500;X-TITLE=901 W Bank Rd:geo:-84.571525,40.542642
END:VEVENT
BEGIN:VEVENT
DTSTART;TZID=America/New_York:20260808T130000
DTEND;TZID=America/New_York:20260808T170000
DTSTAMP:20260424T140501
CREATED:20260128T233459Z
LAST-MODIFIED:20260424T080446Z
UID:10001302-1786194000-1786208400@theboardwalkgrill.com
SUMMARY:Live Music:
DESCRIPTION:CLICK TO LEARN MORE
URL:https://theboardwalkgrill.com/event/live-music-67
LOCATION:Boardwalk Grill\, 901 W Bank Rd\, Celina\, OH\, United States
CATEGORIES:Boardwalk Grill
GEO:40.542642;-84.571525
X-APPLE-STRUCTURED-LOCATION;VALUE=URI;X-ADDRESS=Boardwalk Grill 901 W Bank Rd Celina OH United States;X-APPLE-RADIUS=500;X-TITLE=901 W Bank Rd:geo:-84.571525,40.542642
END:VEVENT
BEGIN:VEVENT
DTSTART;TZID=America/New_York:20260808T190000
DTEND;TZID=America/New_York:20260808T230000
DTSTAMP:20260424T140501
CREATED:20260128T233459Z
LAST-MODIFIED:20260424T080446Z
UID:10001303-1786215600-1786230000@theboardwalkgrill.com
SUMMARY:Live Music:
DESCRIPTION:CLICK TO LEARN MORE
URL:https://theboardwalkgrill.com/event/live-music-68
LOCATION:Boardwalk Grill\, 901 W Bank Rd\, Celina\, OH\, United States
CATEGORIES:Boardwalk Grill
GEO:40.542642;-84.571525
X-APPLE-STRUCTURED-LOCATION;VALUE=URI;X-ADDRESS=Boardwalk Grill 901 W Bank Rd Celina OH United States;X-APPLE-RADIUS=500;X-TITLE=901 W Bank Rd:geo:-84.571525,40.542642
END:VEVENT
BEGIN:VEVENT
DTSTART;TZID=America/New_York:20260809T140000
DTEND;TZID=America/New_York:20260809T180000
DTSTAMP:20260424T140501
CREATED:20260128T233500Z
LAST-MODIFIED:20260424T080446Z
UID:10001304-1786284000-1786298400@theboardwalkgrill.com
SUMMARY:Live Music:
DESCRIPTION:CLICK TO LEARN MORE
URL:https://theboardwalkgrill.com/event/live-music-69
LOCATION:Boardwalk Grill\, 901 W Bank Rd\, Celina\, OH\, United States
CATEGORIES:Boardwalk Grill
GEO:40.542642;-84.571525
X-APPLE-STRUCTURED-LOCATION;VALUE=URI;X-ADDRESS=Boardwalk Grill 901 W Bank Rd Celina OH United States;X-APPLE-RADIUS=500;X-TITLE=901 W Bank Rd:geo:-84.571525,40.542642
END:VEVENT
BEGIN:VEVENT
DTSTART;TZID=America/New_York:20260813T190000
DTEND;TZID=America/New_York:20260813T220000
DTSTAMP:20260424T140501
CREATED:20260202T233704Z
LAST-MODIFIED:20260424T080446Z
UID:10001343-1786647600-1786658400@theboardwalkgrill.com
SUMMARY:Boardwalk Grill: Karaoke - Teachers Night
DESCRIPTION:Karaoke in the Boardwalk Grill Tent with DJ Terence. Pick your favorite song and get ready to sing your heart out! \nCLICK HERE FOR MORE INFORMATION
URL:https://theboardwalkgrill.com/event/boardwalk-grill-karaoke-teachers-night-2
LOCATION:Boardwalk Grill\, 901 W Bank Rd\, Celina\, OH\, United States
CATEGORIES:Boardwalk Grill
GEO:40.542642;-84.571525
X-APPLE-STRUCTURED-LOCATION;VALUE=URI;X-ADDRESS=Boardwalk Grill 901 W Bank Rd Celina OH United States;X-APPLE-RADIUS=500;X-TITLE=901 W Bank Rd:geo:-84.571525,40.542642
END:VEVENT
BEGIN:VEVENT
DTSTART;TZID=America/New_York:20260814T190000
DTEND;TZID=America/New_York:20260814T230000
DTSTAMP:20260424T140501
CREATED:20260128T233500Z
LAST-MODIFIED:20260424T080446Z
UID:10001305-1786734000-1786748400@theboardwalkgrill.com
SUMMARY:Live Music:
DESCRIPTION:CLICK TO LEARN MORE
URL:https://theboardwalkgrill.com/event/live-music-70
LOCATION:Boardwalk Grill\, 901 W Bank Rd\, Celina\, OH\, United States
CATEGORIES:Boardwalk Grill
GEO:40.542642;-84.571525
X-APPLE-STRUCTURED-LOCATION;VALUE=URI;X-ADDRESS=Boardwalk Grill 901 W Bank Rd Celina OH United States;X-APPLE-RADIUS=500;X-TITLE=901 W Bank Rd:geo:-84.571525,40.542642
END:VEVENT
BEGIN:VEVENT
DTSTART;TZID=America/New_York:20260815T130000
DTEND;TZID=America/New_York:20260815T170000
DTSTAMP:20260424T140501
CREATED:20260128T233501Z
LAST-MODIFIED:20260424T080446Z
UID:10001306-1786798800-1786813200@theboardwalkgrill.com
SUMMARY:Live Music:
DESCRIPTION:CLICK TO LEARN MORE
URL:https://theboardwalkgrill.com/event/live-music-71
LOCATION:Boardwalk Grill\, 901 W Bank Rd\, Celina\, OH\, United States
CATEGORIES:Boardwalk Grill
GEO:40.542642;-84.571525
X-APPLE-STRUCTURED-LOCATION;VALUE=URI;X-ADDRESS=Boardwalk Grill 901 W Bank Rd Celina OH United States;X-APPLE-RADIUS=500;X-TITLE=901 W Bank Rd:geo:-84.571525,40.542642
END:VEVENT
BEGIN:VEVENT
DTSTART;TZID=America/New_York:20260815T190000
DTEND;TZID=America/New_York:20260815T230000
DTSTAMP:20260424T140501
CREATED:20260128T233501Z
LAST-MODIFIED:20260424T080446Z
UID:10001307-1786820400-1786834800@theboardwalkgrill.com
SUMMARY:Live Music:
DESCRIPTION:CLICK TO LEARN MORE
URL:https://theboardwalkgrill.com/event/live-music-72
LOCATION:Boardwalk Grill\, 901 W Bank Rd\, Celina\, OH\, United States
CATEGORIES:Boardwalk Grill
GEO:40.542642;-84.571525
X-APPLE-STRUCTURED-LOCATION;VALUE=URI;X-ADDRESS=Boardwalk Grill 901 W Bank Rd Celina OH United States;X-APPLE-RADIUS=500;X-TITLE=901 W Bank Rd:geo:-84.571525,40.542642
END:VEVENT
BEGIN:VEVENT
DTSTART;TZID=America/New_York:20260816T140000
DTEND;TZID=America/New_York:20260816T180000
DTSTAMP:20260424T140501
CREATED:20260128T233503Z
LAST-MODIFIED:20260424T080446Z
UID:10001308-1786888800-1786903200@theboardwalkgrill.com
SUMMARY:Live Music:
DESCRIPTION:CLICK TO LEARN MORE
URL:https://theboardwalkgrill.com/event/live-music-73
LOCATION:Boardwalk Grill\, 901 W Bank Rd\, Celina\, OH\, United States
CATEGORIES:Boardwalk Grill
GEO:40.542642;-84.571525
X-APPLE-STRUCTURED-LOCATION;VALUE=URI;X-ADDRESS=Boardwalk Grill 901 W Bank Rd Celina OH United States;X-APPLE-RADIUS=500;X-TITLE=901 W Bank Rd:geo:-84.571525,40.542642
END:VEVENT
BEGIN:VEVENT
DTSTART;TZID=America/New_York:20260820T190000
DTEND;TZID=America/New_York:20260820T220000
DTSTAMP:20260424T140501
CREATED:20260202T233705Z
LAST-MODIFIED:20260424T080447Z
UID:10001344-1787252400-1787263200@theboardwalkgrill.com
SUMMARY:Boardwalk Grill: Karaoke Contest Finale
DESCRIPTION:Karaoke Contest in the Boardwalk Grill Tent with DJ Terence. Pick your favorite song and get ready to sing your heart out! \nPreliminary Dates: May 28th\, June 25th\, July 30thA maximum of 3 contestants will be able to qualify for the final karaoke contest on August 20th. The judges will make the final decision based on scoring who will make the cut and who will not.  \nFinal Date: August 20thAll contestant qualifiers from the preliminary rounds will be able to participate in the Karaoke Summer Contest Finale. Again judges will have the final decision on 1st place\, 2nd place and 3rd place.Prizes1st Place: $1\,000 Cash\, $250 Boardwalk Grill Gift Card & Golden Microphone Trophy2nd Place: $250 Cash\, $250 Boardwalk Grill Gift Card3rd Place: $150 Boardwalk Grill Gift Card \nRules \n\nNo charge for participating.\n  No pre-registration required – just show up and sing!  \nContestants must be 21 years of age at the time they compete.\nContestants will be judged on any or all of the following items: Appearance\, Professionalism\, Preparedness\, Material\, Audience Interaction\, Stage Presence & Vocal Ability.\nContestants will compete in random or signup order from 7PM-10PM. A warm up round will be available at 7PM.\nEach contestant will participate in 2 rounds. Must pick 3 songs with 1 as a backup song. Must be willing to use a song stocked by the house karaoke system.\nContestant agrees to abide by all judges decisions and hold Local Contest Venue\, Boardwalk Grill\, harmless from any and all actions\, legal or other resulting from participating in contest.\n\nEligibility Guidelines  \n\nThis contest is designed for community members who enjoy singing for fun.\nPerformers whose primary income comes from singing\, or who regularly perform as paid vocalists\, may be deemed ineligible at the discretion of event organizers.\nIndividuals who tour\, hold contracts\, or regularly perform as paid vocalists are not eligible to compete.\nBy participating\, contestants agree to hold Boardwalk Grill\, the event venue\, and affiliated parties harmless from any claims or actions resulting from participation.\n\nCLICK HERE FOR MORE INFORMATION
URL:https://theboardwalkgrill.com/event/boardwalk-grill-karaoke-contest-finale-2
LOCATION:Boardwalk Grill\, 901 W Bank Rd\, Celina\, OH\, United States
CATEGORIES:Boardwalk Grill
GEO:40.542642;-84.571525
X-APPLE-STRUCTURED-LOCATION;VALUE=URI;X-ADDRESS=Boardwalk Grill 901 W Bank Rd Celina OH United States;X-APPLE-RADIUS=500;X-TITLE=901 W Bank Rd:geo:-84.571525,40.542642
END:VEVENT
BEGIN:VEVENT
DTSTART;TZID=America/New_York:20260821T190000
DTEND;TZID=America/New_York:20260821T230000
DTSTAMP:20260424T140501
CREATED:20260128T233503Z
LAST-MODIFIED:20260424T080447Z
UID:10001309-1787338800-1787353200@theboardwalkgrill.com
SUMMARY:Live Music:
DESCRIPTION:CLICK TO LEARN MORE
URL:https://theboardwalkgrill.com/event/live-music-74
LOCATION:Boardwalk Grill\, 901 W Bank Rd\, Celina\, OH\, United States
CATEGORIES:Boardwalk Grill
GEO:40.542642;-84.571525
X-APPLE-STRUCTURED-LOCATION;VALUE=URI;X-ADDRESS=Boardwalk Grill 901 W Bank Rd Celina OH United States;X-APPLE-RADIUS=500;X-TITLE=901 W Bank Rd:geo:-84.571525,40.542642
END:VEVENT
BEGIN:VEVENT
DTSTART;TZID=America/New_York:20260822T130000
DTEND;TZID=America/New_York:20260822T170000
DTSTAMP:20260424T140501
CREATED:20260128T233504Z
LAST-MODIFIED:20260424T080447Z
UID:10001310-1787403600-1787418000@theboardwalkgrill.com
SUMMARY:Live Music:
DESCRIPTION:CLICK TO LEARN MORE
URL:https://theboardwalkgrill.com/event/live-music-75
LOCATION:Boardwalk Grill\, 901 W Bank Rd\, Celina\, OH\, United States
CATEGORIES:Boardwalk Grill
GEO:40.542642;-84.571525
X-APPLE-STRUCTURED-LOCATION;VALUE=URI;X-ADDRESS=Boardwalk Grill 901 W Bank Rd Celina OH United States;X-APPLE-RADIUS=500;X-TITLE=901 W Bank Rd:geo:-84.571525,40.542642
END:VEVENT
BEGIN:VEVENT
DTSTART;TZID=America/New_York:20260822T190000
DTEND;TZID=America/New_York:20260822T230000
DTSTAMP:20260424T140501
CREATED:20260128T233504Z
LAST-MODIFIED:20260424T080447Z
UID:10001311-1787425200-1787439600@theboardwalkgrill.com
SUMMARY:Live Music:
DESCRIPTION:CLICK TO LEARN MORE
URL:https://theboardwalkgrill.com/event/live-music-76
LOCATION:Boardwalk Grill\, 901 W Bank Rd\, Celina\, OH\, United States
CATEGORIES:Boardwalk Grill
GEO:40.542642;-84.571525
X-APPLE-STRUCTURED-LOCATION;VALUE=URI;X-ADDRESS=Boardwalk Grill 901 W Bank Rd Celina OH United States;X-APPLE-RADIUS=500;X-TITLE=901 W Bank Rd:geo:-84.571525,40.542642
END:VEVENT
BEGIN:VEVENT
DTSTART;TZID=America/New_York:20260823T140000
DTEND;TZID=America/New_York:20260823T180000
DTSTAMP:20260424T140501
CREATED:20260128T233504Z
LAST-MODIFIED:20260424T080447Z
UID:10001312-1787493600-1787508000@theboardwalkgrill.com
SUMMARY:Live Music:
DESCRIPTION:CLICK TO LEARN MORE
URL:https://theboardwalkgrill.com/event/live-music-77
LOCATION:Boardwalk Grill\, 901 W Bank Rd\, Celina\, OH\, United States
CATEGORIES:Boardwalk Grill
GEO:40.542642;-84.571525
X-APPLE-STRUCTURED-LOCATION;VALUE=URI;X-ADDRESS=Boardwalk Grill 901 W Bank Rd Celina OH United States;X-APPLE-RADIUS=500;X-TITLE=901 W Bank Rd:geo:-84.571525,40.542642
END:VEVENT
BEGIN:VEVENT
DTSTART;TZID=America/New_York:20260827T190000
DTEND;TZID=America/New_York:20260827T220000
DTSTAMP:20260424T140501
CREATED:20260202T233719Z
LAST-MODIFIED:20260424T080447Z
UID:10001345-1787857200-1787868000@theboardwalkgrill.com
SUMMARY:Boardwalk Grill: Karaoke
DESCRIPTION:Karaoke in the Boardwalk Grill Tent with DJ Terence. Pick your favorite song and get ready to sing your heart out! \nCLICK HERE FOR MORE INFORMATION
URL:https://theboardwalkgrill.com/event/boardwalk-grill-karaoke-30
LOCATION:Boardwalk Grill\, 901 W Bank Rd\, Celina\, OH\, United States
CATEGORIES:Boardwalk Grill
GEO:40.542642;-84.571525
X-APPLE-STRUCTURED-LOCATION;VALUE=URI;X-ADDRESS=Boardwalk Grill 901 W Bank Rd Celina OH United States;X-APPLE-RADIUS=500;X-TITLE=901 W Bank Rd:geo:-84.571525,40.542642
END:VEVENT
BEGIN:VEVENT
DTSTART;TZID=America/New_York:20260828T190000
DTEND;TZID=America/New_York:20260828T230000
DTSTAMP:20260424T140501
CREATED:20260128T233505Z
LAST-MODIFIED:20260424T080448Z
UID:10001313-1787943600-1787958000@theboardwalkgrill.com
SUMMARY:Live Music:
DESCRIPTION:CLICK TO LEARN MORE
URL:https://theboardwalkgrill.com/event/live-music-78
LOCATION:Boardwalk Grill\, 901 W Bank Rd\, Celina\, OH\, United States
CATEGORIES:Boardwalk Grill
GEO:40.542642;-84.571525
X-APPLE-STRUCTURED-LOCATION;VALUE=URI;X-ADDRESS=Boardwalk Grill 901 W Bank Rd Celina OH United States;X-APPLE-RADIUS=500;X-TITLE=901 W Bank Rd:geo:-84.571525,40.542642
END:VEVENT
END:VCALENDAR