BEGIN:VCALENDAR
VERSION:2.0
PRODID:-//Boardwalk Grill - ECPv6.15.13.1//NONSGML v1.0//EN
CALSCALE:GREGORIAN
METHOD:PUBLISH
X-WR-CALNAME:Boardwalk Grill
X-ORIGINAL-URL:https://theboardwalkgrill.com
X-WR-CALDESC:Events for Boardwalk Grill
REFRESH-INTERVAL;VALUE=DURATION:PT1H
X-Robots-Tag:noindex
X-PUBLISHED-TTL:PT1H
BEGIN:VTIMEZONE
TZID:America/New_York
BEGIN:DAYLIGHT
TZOFFSETFROM:-0500
TZOFFSETTO:-0400
TZNAME:EDT
DTSTART:20250309T070000
END:DAYLIGHT
BEGIN:STANDARD
TZOFFSETFROM:-0400
TZOFFSETTO:-0500
TZNAME:EST
DTSTART:20251102T060000
END:STANDARD
BEGIN:DAYLIGHT
TZOFFSETFROM:-0500
TZOFFSETTO:-0400
TZNAME:EDT
DTSTART:20260308T070000
END:DAYLIGHT
BEGIN:STANDARD
TZOFFSETFROM:-0400
TZOFFSETTO:-0500
TZNAME:EST
DTSTART:20261101T060000
END:STANDARD
BEGIN:DAYLIGHT
TZOFFSETFROM:-0500
TZOFFSETTO:-0400
TZNAME:EDT
DTSTART:20270314T070000
END:DAYLIGHT
BEGIN:STANDARD
TZOFFSETFROM:-0400
TZOFFSETTO:-0500
TZNAME:EST
DTSTART:20271107T060000
END:STANDARD
END:VTIMEZONE
BEGIN:VEVENT
DTSTART;TZID=America/New_York:20260516T130000
DTEND;TZID=America/New_York:20260516T170000
DTSTAMP:20260422T133528
CREATED:20260128T233440Z
LAST-MODIFIED:20260422T074936Z
UID:10001252-1778936400-1778950800@theboardwalkgrill.com
SUMMARY:Live Music:
DESCRIPTION:CLICK TO LEARN MORE
URL:https://theboardwalkgrill.com/event/live-music-17
LOCATION:Boardwalk Grill\, 901 W Bank Rd\, Celina\, OH\, United States
CATEGORIES:Boardwalk Grill
GEO:40.542642;-84.571525
X-APPLE-STRUCTURED-LOCATION;VALUE=URI;X-ADDRESS=Boardwalk Grill 901 W Bank Rd Celina OH United States;X-APPLE-RADIUS=500;X-TITLE=901 W Bank Rd:geo:-84.571525,40.542642
END:VEVENT
BEGIN:VEVENT
DTSTART;TZID=America/New_York:20260516T190000
DTEND;TZID=America/New_York:20260516T230000
DTSTAMP:20260422T133528
CREATED:20260128T233440Z
LAST-MODIFIED:20260422T074936Z
UID:10001253-1778958000-1778972400@theboardwalkgrill.com
SUMMARY:Live Music:
DESCRIPTION:CLICK TO LEARN MORE
URL:https://theboardwalkgrill.com/event/live-music-18
LOCATION:Boardwalk Grill\, 901 W Bank Rd\, Celina\, OH\, United States
CATEGORIES:Boardwalk Grill
GEO:40.542642;-84.571525
X-APPLE-STRUCTURED-LOCATION;VALUE=URI;X-ADDRESS=Boardwalk Grill 901 W Bank Rd Celina OH United States;X-APPLE-RADIUS=500;X-TITLE=901 W Bank Rd:geo:-84.571525,40.542642
END:VEVENT
BEGIN:VEVENT
DTSTART;TZID=America/New_York:20260517T140000
DTEND;TZID=America/New_York:20260517T180000
DTSTAMP:20260422T133528
CREATED:20260128T233441Z
LAST-MODIFIED:20260422T074936Z
UID:10001254-1779026400-1779040800@theboardwalkgrill.com
SUMMARY:Live Music:
DESCRIPTION:CLICK TO LEARN MORE
URL:https://theboardwalkgrill.com/event/live-music-19
LOCATION:Boardwalk Grill\, 901 W Bank Rd\, Celina\, OH\, United States
CATEGORIES:Boardwalk Grill
GEO:40.542642;-84.571525
X-APPLE-STRUCTURED-LOCATION;VALUE=URI;X-ADDRESS=Boardwalk Grill 901 W Bank Rd Celina OH United States;X-APPLE-RADIUS=500;X-TITLE=901 W Bank Rd:geo:-84.571525,40.542642
END:VEVENT
BEGIN:VEVENT
DTSTART;TZID=America/New_York:20260521T190000
DTEND;TZID=America/New_York:20260521T220000
DTSTAMP:20260422T133528
CREATED:20260202T233525Z
LAST-MODIFIED:20260422T074937Z
UID:10001331-1779390000-1779400800@theboardwalkgrill.com
SUMMARY:Boardwalk Grill: Karaoke
DESCRIPTION:Karaoke in the Boardwalk Grill Tent with DJ Terence. Pick your favorite song and get ready to sing your heart out! \nCLICK HERE FOR MORE INFORMATION
URL:https://theboardwalkgrill.com/event/boardwalk-grill-karaoke-23
LOCATION:Boardwalk Grill\, 901 W Bank Rd\, Celina\, OH\, United States
CATEGORIES:Boardwalk Grill
GEO:40.542642;-84.571525
X-APPLE-STRUCTURED-LOCATION;VALUE=URI;X-ADDRESS=Boardwalk Grill 901 W Bank Rd Celina OH United States;X-APPLE-RADIUS=500;X-TITLE=901 W Bank Rd:geo:-84.571525,40.542642
END:VEVENT
BEGIN:VEVENT
DTSTART;TZID=America/New_York:20260522T190000
DTEND;TZID=America/New_York:20260522T230000
DTSTAMP:20260422T133528
CREATED:20260128T233441Z
LAST-MODIFIED:20260422T074937Z
UID:10001255-1779476400-1779490800@theboardwalkgrill.com
SUMMARY:Live Music:
DESCRIPTION:CLICK TO LEARN MORE
URL:https://theboardwalkgrill.com/event/live-music-20
LOCATION:Boardwalk Grill\, 901 W Bank Rd\, Celina\, OH\, United States
CATEGORIES:Boardwalk Grill
GEO:40.542642;-84.571525
X-APPLE-STRUCTURED-LOCATION;VALUE=URI;X-ADDRESS=Boardwalk Grill 901 W Bank Rd Celina OH United States;X-APPLE-RADIUS=500;X-TITLE=901 W Bank Rd:geo:-84.571525,40.542642
END:VEVENT
BEGIN:VEVENT
DTSTART;TZID=America/New_York:20260523T130000
DTEND;TZID=America/New_York:20260523T170000
DTSTAMP:20260422T133528
CREATED:20260128T233441Z
LAST-MODIFIED:20260422T074937Z
UID:10001256-1779541200-1779555600@theboardwalkgrill.com
SUMMARY:Live Music:
DESCRIPTION:CLICK TO LEARN MORE
URL:https://theboardwalkgrill.com/event/live-music-21
LOCATION:Boardwalk Grill\, 901 W Bank Rd\, Celina\, OH\, United States
CATEGORIES:Boardwalk Grill
GEO:40.542642;-84.571525
X-APPLE-STRUCTURED-LOCATION;VALUE=URI;X-ADDRESS=Boardwalk Grill 901 W Bank Rd Celina OH United States;X-APPLE-RADIUS=500;X-TITLE=901 W Bank Rd:geo:-84.571525,40.542642
END:VEVENT
BEGIN:VEVENT
DTSTART;TZID=America/New_York:20260523T190000
DTEND;TZID=America/New_York:20260523T230000
DTSTAMP:20260422T133528
CREATED:20260128T233442Z
LAST-MODIFIED:20260422T074937Z
UID:10001257-1779562800-1779577200@theboardwalkgrill.com
SUMMARY:Live Music:
DESCRIPTION:CLICK TO LEARN MORE
URL:https://theboardwalkgrill.com/event/live-music-22
LOCATION:Boardwalk Grill\, 901 W Bank Rd\, Celina\, OH\, United States
CATEGORIES:Boardwalk Grill
GEO:40.542642;-84.571525
X-APPLE-STRUCTURED-LOCATION;VALUE=URI;X-ADDRESS=Boardwalk Grill 901 W Bank Rd Celina OH United States;X-APPLE-RADIUS=500;X-TITLE=901 W Bank Rd:geo:-84.571525,40.542642
END:VEVENT
BEGIN:VEVENT
DTSTART;TZID=America/New_York:20260524T130000
DTEND;TZID=America/New_York:20260524T170000
DTSTAMP:20260422T133528
CREATED:20260128T233442Z
LAST-MODIFIED:20260422T074937Z
UID:10001258-1779627600-1779642000@theboardwalkgrill.com
SUMMARY:Live Music:
DESCRIPTION:CLICK TO LEARN MORE
URL:https://theboardwalkgrill.com/event/live-music-23
LOCATION:Boardwalk Grill\, 901 W Bank Rd\, Celina\, OH\, United States
CATEGORIES:Boardwalk Grill
GEO:40.542642;-84.571525
X-APPLE-STRUCTURED-LOCATION;VALUE=URI;X-ADDRESS=Boardwalk Grill 901 W Bank Rd Celina OH United States;X-APPLE-RADIUS=500;X-TITLE=901 W Bank Rd:geo:-84.571525,40.542642
END:VEVENT
BEGIN:VEVENT
DTSTART;TZID=America/New_York:20260524T190000
DTEND;TZID=America/New_York:20260524T230000
DTSTAMP:20260422T133528
CREATED:20260128T233442Z
LAST-MODIFIED:20260422T074928Z
UID:10001259-1779649200-1779663600@theboardwalkgrill.com
SUMMARY:Live Music:
DESCRIPTION:CLICK TO LEARN MORE
URL:https://theboardwalkgrill.com/event/live-music-24
LOCATION:Boardwalk Grill\, 901 W Bank Rd\, Celina\, OH\, United States
CATEGORIES:Boardwalk Grill
GEO:40.542642;-84.571525
X-APPLE-STRUCTURED-LOCATION;VALUE=URI;X-ADDRESS=Boardwalk Grill 901 W Bank Rd Celina OH United States;X-APPLE-RADIUS=500;X-TITLE=901 W Bank Rd:geo:-84.571525,40.542642
END:VEVENT
BEGIN:VEVENT
DTSTART;TZID=America/New_York:20260525T130000
DTEND;TZID=America/New_York:20260525T180000
DTSTAMP:20260422T133528
CREATED:20260128T233443Z
LAST-MODIFIED:20260422T074928Z
UID:10001260-1779714000-1779732000@theboardwalkgrill.com
SUMMARY:Live Music:
DESCRIPTION:CLICK TO LEARN MORE
URL:https://theboardwalkgrill.com/event/live-music-25
LOCATION:Boardwalk Grill\, 901 W Bank Rd\, Celina\, OH\, United States
CATEGORIES:Boardwalk Grill
GEO:40.542642;-84.571525
X-APPLE-STRUCTURED-LOCATION;VALUE=URI;X-ADDRESS=Boardwalk Grill 901 W Bank Rd Celina OH United States;X-APPLE-RADIUS=500;X-TITLE=901 W Bank Rd:geo:-84.571525,40.542642
END:VEVENT
BEGIN:VEVENT
DTSTART;TZID=America/New_York:20260528T190000
DTEND;TZID=America/New_York:20260528T220000
DTSTAMP:20260422T133528
CREATED:20260202T233539Z
LAST-MODIFIED:20260422T074928Z
UID:10001332-1779994800-1780005600@theboardwalkgrill.com
SUMMARY:Boardwalk Grill: Karaoke Contest
DESCRIPTION:Karaoke Contest in the Boardwalk Grill Tent with DJ Terence. Pick your favorite song and get ready to sing your heart out! \nPreliminary Dates: May 28th\, June 25th\, July 30thA maximum of 3 contestants will be able to qualify for the final karaoke contest on August 20th. The judges will make the final decision based on scoring who will make the cut and who will not.  \nFinal Date: August 20thAll contestant qualifiers from the preliminary rounds will be able to participate in the Karaoke Summer Contest Finale. Again judges will have the final decision on 1st place\, 2nd place and 3rd place.Prizes1st Place: $1\,000 Cash\, $250 Boardwalk Grill Gift Card & Golden Microphone Trophy2nd Place: $250 Cash\, $250 Boardwalk Grill Gift Card3rd Place: $150 Boardwalk Grill Gift Card \nRules \n\nNo charge for participating.\n  No pre-registration required – just show up and sing!  \nContestants must be 21 years of age at the time they compete.\nContestants will be judged on any or all of the following items: Appearance\, Professionalism\, Preparedness\, Material\, Audience Interaction\, Stage Presence & Vocal Ability.\nContestants will compete in random or signup order from 7PM-10PM. A warm up round will be available at 7PM.\nEach contestant will participate in 2 rounds. Must pick 3 songs with 1 as a backup song. Must be willing to use a song stocked by the house karaoke system.\nContestant agrees to abide by all judges decisions and hold Local Contest Venue\, Boardwalk Grill\, harmless from any and all actions\, legal or other resulting from participating in contest.\n\n Eligibility Guidelines  \n\nThis contest is designed for community members who enjoy singing for fun.\nPerformers whose primary income comes from singing\, or who regularly perform as paid vocalists\, may be deemed ineligible at the discretion of event organizers.\nIndividuals who tour\, hold contracts\, or regularly perform as paid vocalists are not eligible to compete.\nBy participating\, contestants agree to hold Boardwalk Grill\, the event venue\, and affiliated parties harmless from any claims or actions resulting from participation.\n\nCLICK HERE FOR MORE INFORMATION
URL:https://theboardwalkgrill.com/event/boardwalk-grill-karaoke-contest-4
LOCATION:Boardwalk Grill\, 901 W Bank Rd\, Celina\, OH\, United States
CATEGORIES:Boardwalk Grill
GEO:40.542642;-84.571525
X-APPLE-STRUCTURED-LOCATION;VALUE=URI;X-ADDRESS=Boardwalk Grill 901 W Bank Rd Celina OH United States;X-APPLE-RADIUS=500;X-TITLE=901 W Bank Rd:geo:-84.571525,40.542642
END:VEVENT
BEGIN:VEVENT
DTSTART;TZID=America/New_York:20260529T190000
DTEND;TZID=America/New_York:20260529T230000
DTSTAMP:20260422T133528
CREATED:20260128T233443Z
LAST-MODIFIED:20260422T074929Z
UID:10001261-1780081200-1780095600@theboardwalkgrill.com
SUMMARY:Live Music:
DESCRIPTION:CLICK TO LEARN MORE
URL:https://theboardwalkgrill.com/event/live-music-26
LOCATION:Boardwalk Grill\, 901 W Bank Rd\, Celina\, OH\, United States
CATEGORIES:Boardwalk Grill
GEO:40.542642;-84.571525
X-APPLE-STRUCTURED-LOCATION;VALUE=URI;X-ADDRESS=Boardwalk Grill 901 W Bank Rd Celina OH United States;X-APPLE-RADIUS=500;X-TITLE=901 W Bank Rd:geo:-84.571525,40.542642
END:VEVENT
BEGIN:VEVENT
DTSTART;TZID=America/New_York:20260530T130000
DTEND;TZID=America/New_York:20260530T170000
DTSTAMP:20260422T133528
CREATED:20260128T233443Z
LAST-MODIFIED:20260422T074929Z
UID:10001262-1780146000-1780160400@theboardwalkgrill.com
SUMMARY:Live Music:
DESCRIPTION:CLICK TO LEARN MORE
URL:https://theboardwalkgrill.com/event/live-music-27
LOCATION:Boardwalk Grill\, 901 W Bank Rd\, Celina\, OH\, United States
CATEGORIES:Boardwalk Grill
GEO:40.542642;-84.571525
X-APPLE-STRUCTURED-LOCATION;VALUE=URI;X-ADDRESS=Boardwalk Grill 901 W Bank Rd Celina OH United States;X-APPLE-RADIUS=500;X-TITLE=901 W Bank Rd:geo:-84.571525,40.542642
END:VEVENT
BEGIN:VEVENT
DTSTART;TZID=America/New_York:20260530T190000
DTEND;TZID=America/New_York:20260530T230000
DTSTAMP:20260422T133528
CREATED:20260128T233444Z
LAST-MODIFIED:20260422T074929Z
UID:10001263-1780167600-1780182000@theboardwalkgrill.com
SUMMARY:Live Music:
DESCRIPTION:CLICK TO LEARN MORE
URL:https://theboardwalkgrill.com/event/live-music-28
LOCATION:Boardwalk Grill\, 901 W Bank Rd\, Celina\, OH\, United States
CATEGORIES:Boardwalk Grill
GEO:40.542642;-84.571525
X-APPLE-STRUCTURED-LOCATION;VALUE=URI;X-ADDRESS=Boardwalk Grill 901 W Bank Rd Celina OH United States;X-APPLE-RADIUS=500;X-TITLE=901 W Bank Rd:geo:-84.571525,40.542642
END:VEVENT
BEGIN:VEVENT
DTSTART;TZID=America/New_York:20260531T140000
DTEND;TZID=America/New_York:20260531T180000
DTSTAMP:20260422T133528
CREATED:20260128T233444Z
LAST-MODIFIED:20260422T074929Z
UID:10001264-1780236000-1780250400@theboardwalkgrill.com
SUMMARY:Live Music:
DESCRIPTION:CLICK TO LEARN MORE
URL:https://theboardwalkgrill.com/event/live-music-29
LOCATION:Boardwalk Grill\, 901 W Bank Rd\, Celina\, OH\, United States
CATEGORIES:Boardwalk Grill
GEO:40.542642;-84.571525
X-APPLE-STRUCTURED-LOCATION;VALUE=URI;X-ADDRESS=Boardwalk Grill 901 W Bank Rd Celina OH United States;X-APPLE-RADIUS=500;X-TITLE=901 W Bank Rd:geo:-84.571525,40.542642
END:VEVENT
BEGIN:VEVENT
DTSTART;TZID=America/New_York:20260604T190000
DTEND;TZID=America/New_York:20260604T220000
DTSTAMP:20260422T133528
CREATED:20260202T233552Z
LAST-MODIFIED:20260422T074929Z
UID:10001333-1780599600-1780610400@theboardwalkgrill.com
SUMMARY:Boardwalk Grill: Karaoke & Kissing Cardinals Line Dancing
DESCRIPTION:Karaoke in the Boardwalk Grill Tent with DJ Terence. Pick your favorite song and get ready to sing your heart out! Kissing Cardinals will be here as well to do some Line Dancing from 7PM-8PM! \nCLICK HERE FOR MORE INFORMATION
URL:https://theboardwalkgrill.com/event/boardwalk-grill-karaoke-24
LOCATION:Boardwalk Grill\, 901 W Bank Rd\, Celina\, OH\, United States
CATEGORIES:Boardwalk Grill
GEO:40.542642;-84.571525
X-APPLE-STRUCTURED-LOCATION;VALUE=URI;X-ADDRESS=Boardwalk Grill 901 W Bank Rd Celina OH United States;X-APPLE-RADIUS=500;X-TITLE=901 W Bank Rd:geo:-84.571525,40.542642
END:VEVENT
BEGIN:VEVENT
DTSTART;TZID=America/New_York:20260605T190000
DTEND;TZID=America/New_York:20260605T230000
DTSTAMP:20260422T133528
CREATED:20260128T233444Z
LAST-MODIFIED:20260422T074930Z
UID:10001265-1780686000-1780700400@theboardwalkgrill.com
SUMMARY:Live Music:
DESCRIPTION:CLICK TO LEARN MORE
URL:https://theboardwalkgrill.com/event/live-music-30
LOCATION:Boardwalk Grill\, 901 W Bank Rd\, Celina\, OH\, United States
CATEGORIES:Boardwalk Grill
GEO:40.542642;-84.571525
X-APPLE-STRUCTURED-LOCATION;VALUE=URI;X-ADDRESS=Boardwalk Grill 901 W Bank Rd Celina OH United States;X-APPLE-RADIUS=500;X-TITLE=901 W Bank Rd:geo:-84.571525,40.542642
END:VEVENT
BEGIN:VEVENT
DTSTART;TZID=America/New_York:20260606T130000
DTEND;TZID=America/New_York:20260606T170000
DTSTAMP:20260422T133528
CREATED:20260128T233445Z
LAST-MODIFIED:20260422T074930Z
UID:10001266-1780750800-1780765200@theboardwalkgrill.com
SUMMARY:Live Music:
DESCRIPTION:CLICK TO LEARN MORE
URL:https://theboardwalkgrill.com/event/live-music-31
LOCATION:Boardwalk Grill\, 901 W Bank Rd\, Celina\, OH\, United States
CATEGORIES:Boardwalk Grill
GEO:40.542642;-84.571525
X-APPLE-STRUCTURED-LOCATION;VALUE=URI;X-ADDRESS=Boardwalk Grill 901 W Bank Rd Celina OH United States;X-APPLE-RADIUS=500;X-TITLE=901 W Bank Rd:geo:-84.571525,40.542642
END:VEVENT
BEGIN:VEVENT
DTSTART;TZID=America/New_York:20260606T190000
DTEND;TZID=America/New_York:20260606T230000
DTSTAMP:20260422T133528
CREATED:20260128T233445Z
LAST-MODIFIED:20260422T074930Z
UID:10001267-1780772400-1780786800@theboardwalkgrill.com
SUMMARY:Live Music:
DESCRIPTION:CLICK TO LEARN MORE
URL:https://theboardwalkgrill.com/event/live-music-32
LOCATION:Boardwalk Grill\, 901 W Bank Rd\, Celina\, OH\, United States
CATEGORIES:Boardwalk Grill
GEO:40.542642;-84.571525
X-APPLE-STRUCTURED-LOCATION;VALUE=URI;X-ADDRESS=Boardwalk Grill 901 W Bank Rd Celina OH United States;X-APPLE-RADIUS=500;X-TITLE=901 W Bank Rd:geo:-84.571525,40.542642
END:VEVENT
BEGIN:VEVENT
DTSTART;TZID=America/New_York:20260607T140000
DTEND;TZID=America/New_York:20260607T180000
DTSTAMP:20260422T133528
CREATED:20260128T233446Z
LAST-MODIFIED:20260422T074930Z
UID:10001268-1780840800-1780855200@theboardwalkgrill.com
SUMMARY:Live Music:
DESCRIPTION:CLICK TO LEARN MORE
URL:https://theboardwalkgrill.com/event/live-music-33
LOCATION:Boardwalk Grill\, 901 W Bank Rd\, Celina\, OH\, United States
CATEGORIES:Boardwalk Grill
GEO:40.542642;-84.571525
X-APPLE-STRUCTURED-LOCATION;VALUE=URI;X-ADDRESS=Boardwalk Grill 901 W Bank Rd Celina OH United States;X-APPLE-RADIUS=500;X-TITLE=901 W Bank Rd:geo:-84.571525,40.542642
END:VEVENT
BEGIN:VEVENT
DTSTART;TZID=America/New_York:20260611T190000
DTEND;TZID=America/New_York:20260611T220000
DTSTAMP:20260422T133528
CREATED:20260202T233554Z
LAST-MODIFIED:20260422T074930Z
UID:10001334-1781204400-1781215200@theboardwalkgrill.com
SUMMARY:Boardwalk Grill: Karaoke
DESCRIPTION:Karaoke in the Boardwalk Grill Tent with DJ Terence. Pick your favorite song and get ready to sing your heart out! \nCLICK HERE FOR MORE INFORMATION
URL:https://theboardwalkgrill.com/event/boardwalk-grill-karaoke-25
LOCATION:Boardwalk Grill\, 901 W Bank Rd\, Celina\, OH\, United States
CATEGORIES:Boardwalk Grill
GEO:40.542642;-84.571525
X-APPLE-STRUCTURED-LOCATION;VALUE=URI;X-ADDRESS=Boardwalk Grill 901 W Bank Rd Celina OH United States;X-APPLE-RADIUS=500;X-TITLE=901 W Bank Rd:geo:-84.571525,40.542642
END:VEVENT
BEGIN:VEVENT
DTSTART;TZID=America/New_York:20260612T190000
DTEND;TZID=America/New_York:20260612T230000
DTSTAMP:20260422T133528
CREATED:20260128T233446Z
LAST-MODIFIED:20260422T074930Z
UID:10001269-1781290800-1781305200@theboardwalkgrill.com
SUMMARY:Live Music:
DESCRIPTION:CLICK TO LEARN MORE
URL:https://theboardwalkgrill.com/event/live-music-34
LOCATION:Boardwalk Grill\, 901 W Bank Rd\, Celina\, OH\, United States
CATEGORIES:Boardwalk Grill
GEO:40.542642;-84.571525
X-APPLE-STRUCTURED-LOCATION;VALUE=URI;X-ADDRESS=Boardwalk Grill 901 W Bank Rd Celina OH United States;X-APPLE-RADIUS=500;X-TITLE=901 W Bank Rd:geo:-84.571525,40.542642
END:VEVENT
BEGIN:VEVENT
DTSTART;TZID=America/New_York:20260613T130000
DTEND;TZID=America/New_York:20260613T170000
DTSTAMP:20260422T133528
CREATED:20260128T233446Z
LAST-MODIFIED:20260422T074930Z
UID:10001270-1781355600-1781370000@theboardwalkgrill.com
SUMMARY:Live Music:
DESCRIPTION:CLICK TO LEARN MORE
URL:https://theboardwalkgrill.com/event/live-music-35
LOCATION:Boardwalk Grill\, 901 W Bank Rd\, Celina\, OH\, United States
CATEGORIES:Boardwalk Grill
GEO:40.542642;-84.571525
X-APPLE-STRUCTURED-LOCATION;VALUE=URI;X-ADDRESS=Boardwalk Grill 901 W Bank Rd Celina OH United States;X-APPLE-RADIUS=500;X-TITLE=901 W Bank Rd:geo:-84.571525,40.542642
END:VEVENT
BEGIN:VEVENT
DTSTART;TZID=America/New_York:20260613T190000
DTEND;TZID=America/New_York:20260613T230000
DTSTAMP:20260422T133528
CREATED:20260128T233447Z
LAST-MODIFIED:20260422T074931Z
UID:10001271-1781377200-1781391600@theboardwalkgrill.com
SUMMARY:Live Music:
DESCRIPTION:CLICK TO LEARN MORE
URL:https://theboardwalkgrill.com/event/live-music-36
LOCATION:Boardwalk Grill\, 901 W Bank Rd\, Celina\, OH\, United States
CATEGORIES:Boardwalk Grill
GEO:40.542642;-84.571525
X-APPLE-STRUCTURED-LOCATION;VALUE=URI;X-ADDRESS=Boardwalk Grill 901 W Bank Rd Celina OH United States;X-APPLE-RADIUS=500;X-TITLE=901 W Bank Rd:geo:-84.571525,40.542642
END:VEVENT
BEGIN:VEVENT
DTSTART;TZID=America/New_York:20260614T130000
DTEND;TZID=America/New_York:20260614T170000
DTSTAMP:20260422T133528
CREATED:20260128T233447Z
LAST-MODIFIED:20260422T074931Z
UID:10001272-1781442000-1781456400@theboardwalkgrill.com
SUMMARY:Live Music:
DESCRIPTION:CLICK TO LEARN MORE
URL:https://theboardwalkgrill.com/event/live-music-37
LOCATION:Boardwalk Grill\, 901 W Bank Rd\, Celina\, OH\, United States
CATEGORIES:Boardwalk Grill
GEO:40.542642;-84.571525
X-APPLE-STRUCTURED-LOCATION;VALUE=URI;X-ADDRESS=Boardwalk Grill 901 W Bank Rd Celina OH United States;X-APPLE-RADIUS=500;X-TITLE=901 W Bank Rd:geo:-84.571525,40.542642
END:VEVENT
BEGIN:VEVENT
DTSTART;TZID=America/New_York:20260618T190000
DTEND;TZID=America/New_York:20260618T220000
DTSTAMP:20260422T133528
CREATED:20260202T233607Z
LAST-MODIFIED:20260422T074931Z
UID:10001335-1781809200-1781820000@theboardwalkgrill.com
SUMMARY:Boardwalk Grill: Country Concert Karaoke Contest
DESCRIPTION:Country Concert Karaoke in the Boardwalk Grill Tent with DJ Terence. Pick your favorite song and get ready to sing your heart out! We will have 3 celebrity judges and the lucky winner will go on to sing at the semi finals to sing karaoke at Country Concert! \nCLICK HERE FOR MORE INFORMATION
URL:https://theboardwalkgrill.com/event/boardwalk-grill-country-concert-karaoke-contest-2
LOCATION:Boardwalk Grill\, 901 W Bank Rd\, Celina\, OH\, United States
CATEGORIES:Boardwalk Grill
GEO:40.542642;-84.571525
X-APPLE-STRUCTURED-LOCATION;VALUE=URI;X-ADDRESS=Boardwalk Grill 901 W Bank Rd Celina OH United States;X-APPLE-RADIUS=500;X-TITLE=901 W Bank Rd:geo:-84.571525,40.542642
END:VEVENT
BEGIN:VEVENT
DTSTART;TZID=America/New_York:20260619T190000
DTEND;TZID=America/New_York:20260619T230000
DTSTAMP:20260422T133528
CREATED:20260128T233447Z
LAST-MODIFIED:20260422T074931Z
UID:10001273-1781895600-1781910000@theboardwalkgrill.com
SUMMARY:Live Music:
DESCRIPTION:CLICK TO LEARN MORE
URL:https://theboardwalkgrill.com/event/live-music-38
LOCATION:Boardwalk Grill\, 901 W Bank Rd\, Celina\, OH\, United States
CATEGORIES:Boardwalk Grill
GEO:40.542642;-84.571525
X-APPLE-STRUCTURED-LOCATION;VALUE=URI;X-ADDRESS=Boardwalk Grill 901 W Bank Rd Celina OH United States;X-APPLE-RADIUS=500;X-TITLE=901 W Bank Rd:geo:-84.571525,40.542642
END:VEVENT
BEGIN:VEVENT
DTSTART;TZID=America/New_York:20260620T130000
DTEND;TZID=America/New_York:20260620T170000
DTSTAMP:20260422T133528
CREATED:20260128T233448Z
LAST-MODIFIED:20260422T074931Z
UID:10001274-1781960400-1781974800@theboardwalkgrill.com
SUMMARY:Live Music:
DESCRIPTION:CLICK TO LEARN MORE
URL:https://theboardwalkgrill.com/event/live-music-39
LOCATION:Boardwalk Grill\, 901 W Bank Rd\, Celina\, OH\, United States
CATEGORIES:Boardwalk Grill
GEO:40.542642;-84.571525
X-APPLE-STRUCTURED-LOCATION;VALUE=URI;X-ADDRESS=Boardwalk Grill 901 W Bank Rd Celina OH United States;X-APPLE-RADIUS=500;X-TITLE=901 W Bank Rd:geo:-84.571525,40.542642
END:VEVENT
BEGIN:VEVENT
DTSTART;TZID=America/New_York:20260620T190000
DTEND;TZID=America/New_York:20260620T230000
DTSTAMP:20260422T133528
CREATED:20260128T233448Z
LAST-MODIFIED:20260422T074931Z
UID:10001275-1781982000-1781996400@theboardwalkgrill.com
SUMMARY:Live Music:
DESCRIPTION:CLICK TO LEARN MORE
URL:https://theboardwalkgrill.com/event/live-music-40
LOCATION:Boardwalk Grill\, 901 W Bank Rd\, Celina\, OH\, United States
CATEGORIES:Boardwalk Grill
GEO:40.542642;-84.571525
X-APPLE-STRUCTURED-LOCATION;VALUE=URI;X-ADDRESS=Boardwalk Grill 901 W Bank Rd Celina OH United States;X-APPLE-RADIUS=500;X-TITLE=901 W Bank Rd:geo:-84.571525,40.542642
END:VEVENT
BEGIN:VEVENT
DTSTART;TZID=America/New_York:20260621T140000
DTEND;TZID=America/New_York:20260621T180000
DTSTAMP:20260422T133528
CREATED:20260128T233448Z
LAST-MODIFIED:20260422T074931Z
UID:10001276-1782050400-1782064800@theboardwalkgrill.com
SUMMARY:Live Music:
DESCRIPTION:CLICK TO LEARN MORE
URL:https://theboardwalkgrill.com/event/live-music-41
LOCATION:Boardwalk Grill\, 901 W Bank Rd\, Celina\, OH\, United States
CATEGORIES:Boardwalk Grill
GEO:40.542642;-84.571525
X-APPLE-STRUCTURED-LOCATION;VALUE=URI;X-ADDRESS=Boardwalk Grill 901 W Bank Rd Celina OH United States;X-APPLE-RADIUS=500;X-TITLE=901 W Bank Rd:geo:-84.571525,40.542642
END:VEVENT
END:VCALENDAR