BEGIN:VCALENDAR
VERSION:2.0
PRODID:-//Boardwalk Grill - ECPv6.15.13.1//NONSGML v1.0//EN
CALSCALE:GREGORIAN
METHOD:PUBLISH
X-ORIGINAL-URL:https://theboardwalkgrill.com
X-WR-CALDESC:Events for Boardwalk Grill
REFRESH-INTERVAL;VALUE=DURATION:PT1H
X-Robots-Tag:noindex
X-PUBLISHED-TTL:PT1H
BEGIN:VTIMEZONE
TZID:America/New_York
BEGIN:DAYLIGHT
TZOFFSETFROM:-0500
TZOFFSETTO:-0400
TZNAME:EDT
DTSTART:20250309T070000
END:DAYLIGHT
BEGIN:STANDARD
TZOFFSETFROM:-0400
TZOFFSETTO:-0500
TZNAME:EST
DTSTART:20251102T060000
END:STANDARD
BEGIN:DAYLIGHT
TZOFFSETFROM:-0500
TZOFFSETTO:-0400
TZNAME:EDT
DTSTART:20260308T070000
END:DAYLIGHT
BEGIN:STANDARD
TZOFFSETFROM:-0400
TZOFFSETTO:-0500
TZNAME:EST
DTSTART:20261101T060000
END:STANDARD
BEGIN:DAYLIGHT
TZOFFSETFROM:-0500
TZOFFSETTO:-0400
TZNAME:EDT
DTSTART:20270314T070000
END:DAYLIGHT
BEGIN:STANDARD
TZOFFSETFROM:-0400
TZOFFSETTO:-0500
TZNAME:EST
DTSTART:20271107T060000
END:STANDARD
END:VTIMEZONE
BEGIN:VEVENT
DTSTART;TZID=America/New_York:20260418T190000
DTEND;TZID=America/New_York:20260418T220000
DTSTAMP:20260422T133928
CREATED:20260324T020430Z
LAST-MODIFIED:20260418T074926Z
UID:10001377-1776538800-1776549600@theboardwalkgrill.com
SUMMARY:Live Music: Close to Home
DESCRIPTION:CLICK TO LEARN MORE
URL:https://theboardwalkgrill.com/event/live-music-close-to-home-2
LOCATION:Boardwalk Grill\, 901 W Bank Rd\, Celina\, OH\, United States
CATEGORIES:Boardwalk Grill
GEO:40.542642;-84.571525
X-APPLE-STRUCTURED-LOCATION;VALUE=URI;X-ADDRESS=Boardwalk Grill 901 W Bank Rd Celina OH United States;X-APPLE-RADIUS=500;X-TITLE=901 W Bank Rd:geo:-84.571525,40.542642
END:VEVENT
BEGIN:VEVENT
DTSTART;TZID=America/New_York:20260417T190000
DTEND;TZID=America/New_York:20260417T230000
DTSTAMP:20260422T133928
CREATED:20260324T020430Z
LAST-MODIFIED:20260417T073425Z
UID:10001376-1776452400-1776466800@theboardwalkgrill.com
SUMMARY:Live Music: Mark Cantwil
DESCRIPTION:CLICK TO LEARN MORE
URL:https://theboardwalkgrill.com/event/live-music-mark-cantwil-6
LOCATION:Boardwalk Grill\, 901 W Bank Rd\, Celina\, OH\, United States
CATEGORIES:Boardwalk Grill
GEO:40.542642;-84.571525
X-APPLE-STRUCTURED-LOCATION;VALUE=URI;X-ADDRESS=Boardwalk Grill 901 W Bank Rd Celina OH United States;X-APPLE-RADIUS=500;X-TITLE=901 W Bank Rd:geo:-84.571525,40.542642
END:VEVENT
BEGIN:VEVENT
DTSTART;TZID=America/New_York:20260411T190000
DTEND;TZID=America/New_York:20260411T220000
DTSTAMP:20260422T133928
CREATED:20260324T020429Z
LAST-MODIFIED:20260411T070424Z
UID:10001375-1775934000-1775944800@theboardwalkgrill.com
SUMMARY:Live Music: Dalton & Delaney
DESCRIPTION:CLICK TO LEARN MORE
URL:https://theboardwalkgrill.com/event/live-music-dalton-delaney
LOCATION:Boardwalk Grill\, 901 W Bank Rd\, Celina\, OH\, United States
CATEGORIES:Boardwalk Grill
GEO:40.542642;-84.571525
X-APPLE-STRUCTURED-LOCATION;VALUE=URI;X-ADDRESS=Boardwalk Grill 901 W Bank Rd Celina OH United States;X-APPLE-RADIUS=500;X-TITLE=901 W Bank Rd:geo:-84.571525,40.542642
END:VEVENT
BEGIN:VEVENT
DTSTART;TZID=America/New_York:20260410T190000
DTEND;TZID=America/New_York:20260410T230000
DTSTAMP:20260422T133928
CREATED:20260324T020429Z
LAST-MODIFIED:20260410T064931Z
UID:10001374-1775847600-1775862000@theboardwalkgrill.com
SUMMARY:Live Music: Jason Grieshop
DESCRIPTION:CLICK TO LEARN MORE
URL:https://theboardwalkgrill.com/event/live-music-jason-grieshop-2
LOCATION:Boardwalk Grill\, 901 W Bank Rd\, Celina\, OH\, United States
CATEGORIES:Boardwalk Grill
GEO:40.542642;-84.571525
X-APPLE-STRUCTURED-LOCATION;VALUE=URI;X-ADDRESS=Boardwalk Grill 901 W Bank Rd Celina OH United States;X-APPLE-RADIUS=500;X-TITLE=901 W Bank Rd:geo:-84.571525,40.542642
END:VEVENT
BEGIN:VEVENT
DTSTART;TZID=America/New_York:20260404T190000
DTEND;TZID=America/New_York:20260404T220000
DTSTAMP:20260422T133928
CREATED:20260324T020429Z
LAST-MODIFIED:20260403T063427Z
UID:10001372-1775329200-1775340000@theboardwalkgrill.com
SUMMARY:Live Music: Hunter Wainscott
DESCRIPTION:CLICK TO LEARN MORE
URL:https://theboardwalkgrill.com/event/live-music-hunter-wainscott-7
LOCATION:Boardwalk Grill\, 901 W Bank Rd\, Celina\, OH\, United States
CATEGORIES:Boardwalk Grill
GEO:40.542642;-84.571525
X-APPLE-STRUCTURED-LOCATION;VALUE=URI;X-ADDRESS=Boardwalk Grill 901 W Bank Rd Celina OH United States;X-APPLE-RADIUS=500;X-TITLE=901 W Bank Rd:geo:-84.571525,40.542642
END:VEVENT
BEGIN:VEVENT
DTSTART;TZID=America/New_York:20260404T190000
DTEND;TZID=America/New_York:20260404T220000
DTSTAMP:20260422T133928
CREATED:20260324T020429Z
LAST-MODIFIED:20260404T063439Z
UID:10001373-1775329200-1775340000@theboardwalkgrill.com
SUMMARY:Live Music:
DESCRIPTION:CLICK TO LEARN MORE
URL:https://theboardwalkgrill.com/event/live-music-95
LOCATION:Boardwalk Grill\, 901 W Bank Rd\, Celina\, OH\, United States
CATEGORIES:Boardwalk Grill
GEO:40.542642;-84.571525
X-APPLE-STRUCTURED-LOCATION;VALUE=URI;X-ADDRESS=Boardwalk Grill 901 W Bank Rd Celina OH United States;X-APPLE-RADIUS=500;X-TITLE=901 W Bank Rd:geo:-84.571525,40.542642
END:VEVENT
BEGIN:VEVENT
DTSTART;TZID=America/New_York:20260403T190000
DTEND;TZID=America/New_York:20260403T230000
DTSTAMP:20260422T133928
CREATED:20260324T020429Z
LAST-MODIFIED:20260402T062004Z
UID:10001371-1775242800-1775257200@theboardwalkgrill.com
SUMMARY:Live Music: Roger DeMange
DESCRIPTION:CLICK TO LEARN MORE
URL:https://theboardwalkgrill.com/event/live-music-roger-demange-7
LOCATION:Boardwalk Grill\, 901 W Bank Rd\, Celina\, OH\, United States
CATEGORIES:Boardwalk Grill
GEO:40.542642;-84.571525
X-APPLE-STRUCTURED-LOCATION;VALUE=URI;X-ADDRESS=Boardwalk Grill 901 W Bank Rd Celina OH United States;X-APPLE-RADIUS=500;X-TITLE=901 W Bank Rd:geo:-84.571525,40.542642
END:VEVENT
BEGIN:VEVENT
DTSTART;TZID=America/New_York:20260403T190000
DTEND;TZID=America/New_York:20260403T230000
DTSTAMP:20260422T133928
CREATED:20260324T020428Z
LAST-MODIFIED:20260403T063426Z
UID:10001370-1775242800-1775257200@theboardwalkgrill.com
SUMMARY:Live Music:
DESCRIPTION:CLICK TO LEARN MORE
URL:https://theboardwalkgrill.com/event/live-music-94
LOCATION:Boardwalk Grill\, 901 W Bank Rd\, Celina\, OH\, United States
CATEGORIES:Boardwalk Grill
GEO:40.542642;-84.571525
X-APPLE-STRUCTURED-LOCATION;VALUE=URI;X-ADDRESS=Boardwalk Grill 901 W Bank Rd Celina OH United States;X-APPLE-RADIUS=500;X-TITLE=901 W Bank Rd:geo:-84.571525,40.542642
END:VEVENT
BEGIN:VEVENT
DTSTART;TZID=America/New_York:20260328T190000
DTEND;TZID=America/New_York:20260328T220000
DTSTAMP:20260422T133928
CREATED:20260107T214927Z
LAST-MODIFIED:20260328T054936Z
UID:10001079-1774724400-1774735200@theboardwalkgrill.com
SUMMARY:Live Music: Carl Green
DESCRIPTION:CLICK TO LEARN MORE
URL:https://theboardwalkgrill.com/event/live-music-carl-green-4
LOCATION:Boardwalk Grill\, 901 W Bank Rd\, Celina\, OH\, United States
CATEGORIES:Boardwalk Grill
GEO:40.542642;-84.571525
X-APPLE-STRUCTURED-LOCATION;VALUE=URI;X-ADDRESS=Boardwalk Grill 901 W Bank Rd Celina OH United States;X-APPLE-RADIUS=500;X-TITLE=901 W Bank Rd:geo:-84.571525,40.542642
END:VEVENT
BEGIN:VEVENT
DTSTART;TZID=America/New_York:20260327T190000
DTEND;TZID=America/New_York:20260327T220000
DTSTAMP:20260422T133928
CREATED:20260107T214927Z
LAST-MODIFIED:20260327T054927Z
UID:10001078-1774638000-1774648800@theboardwalkgrill.com
SUMMARY:Live Music: Jordan Ross
DESCRIPTION:CLICK TO LEARN MORE
URL:https://theboardwalkgrill.com/event/live-music-jordan-ross-6
LOCATION:Boardwalk Grill\, 901 W Bank Rd\, Celina\, OH\, United States
CATEGORIES:Boardwalk Grill
GEO:40.542642;-84.571525
X-APPLE-STRUCTURED-LOCATION;VALUE=URI;X-ADDRESS=Boardwalk Grill 901 W Bank Rd Celina OH United States;X-APPLE-RADIUS=500;X-TITLE=901 W Bank Rd:geo:-84.571525,40.542642
END:VEVENT
BEGIN:VEVENT
DTSTART;TZID=America/New_York:20260321T190000
DTEND;TZID=America/New_York:20260321T220000
DTSTAMP:20260422T133928
CREATED:20260107T214927Z
LAST-MODIFIED:20260322T014928Z
UID:10001077-1774119600-1774130400@theboardwalkgrill.com
SUMMARY:Live Music: Toby Leach
DESCRIPTION:CLICK TO LEARN MORE
URL:https://theboardwalkgrill.com/event/live-music-toby-leach-6
LOCATION:Boardwalk Grill\, 901 W Bank Rd\, Celina\, OH\, United States
CATEGORIES:Boardwalk Grill
GEO:40.542642;-84.571525
X-APPLE-STRUCTURED-LOCATION;VALUE=URI;X-ADDRESS=Boardwalk Grill 901 W Bank Rd Celina OH United States;X-APPLE-RADIUS=500;X-TITLE=901 W Bank Rd:geo:-84.571525,40.542642
END:VEVENT
BEGIN:VEVENT
DTSTART;TZID=America/New_York:20260320T190000
DTEND;TZID=America/New_York:20260320T220000
DTSTAMP:20260422T133928
CREATED:20260107T214927Z
LAST-MODIFIED:20260321T014957Z
UID:10001076-1774033200-1774044000@theboardwalkgrill.com
SUMMARY:Live Music: Close to Home
DESCRIPTION:CLICK TO LEARN MORE
URL:https://theboardwalkgrill.com/event/live-music-close-to-home
LOCATION:Boardwalk Grill\, 901 W Bank Rd\, Celina\, OH\, United States
CATEGORIES:Boardwalk Grill
GEO:40.542642;-84.571525
X-APPLE-STRUCTURED-LOCATION;VALUE=URI;X-ADDRESS=Boardwalk Grill 901 W Bank Rd Celina OH United States;X-APPLE-RADIUS=500;X-TITLE=901 W Bank Rd:geo:-84.571525,40.542642
END:VEVENT
BEGIN:VEVENT
DTSTART;TZID=America/New_York:20260314T190000
DTEND;TZID=America/New_York:20260314T220000
DTSTAMP:20260422T133928
CREATED:20260107T214926Z
LAST-MODIFIED:20260315T013425Z
UID:10001075-1773514800-1773525600@theboardwalkgrill.com
SUMMARY:Live Music: Erastus Family
DESCRIPTION:CLICK TO LEARN MORE
URL:https://theboardwalkgrill.com/event/live-music-erastus-family
LOCATION:Boardwalk Grill\, 901 W Bank Rd\, Celina\, OH\, United States
CATEGORIES:Boardwalk Grill
GEO:40.542642;-84.571525
X-APPLE-STRUCTURED-LOCATION;VALUE=URI;X-ADDRESS=Boardwalk Grill 901 W Bank Rd Celina OH United States;X-APPLE-RADIUS=500;X-TITLE=901 W Bank Rd:geo:-84.571525,40.542642
END:VEVENT
BEGIN:VEVENT
DTSTART;TZID=America/New_York:20260313T190000
DTEND;TZID=America/New_York:20260313T220000
DTSTAMP:20260422T133928
CREATED:20260107T214926Z
LAST-MODIFIED:20260314T013425Z
UID:10001074-1773428400-1773439200@theboardwalkgrill.com
SUMMARY:Live Music: Brothers in Law
DESCRIPTION:CLICK TO LEARN MORE
URL:https://theboardwalkgrill.com/event/live-music-brothers-in-law-4
LOCATION:Boardwalk Grill\, 901 W Bank Rd\, Celina\, OH\, United States
CATEGORIES:Boardwalk Grill
GEO:40.542642;-84.571525
X-APPLE-STRUCTURED-LOCATION;VALUE=URI;X-ADDRESS=Boardwalk Grill 901 W Bank Rd Celina OH United States;X-APPLE-RADIUS=500;X-TITLE=901 W Bank Rd:geo:-84.571525,40.542642
END:VEVENT
BEGIN:VEVENT
DTSTART;TZID=America/New_York:20260307T190000
DTEND;TZID=America/New_York:20260307T220000
DTSTAMP:20260422T133928
CREATED:20260107T214926Z
LAST-MODIFIED:20260308T013524Z
UID:10001073-1772910000-1772920800@theboardwalkgrill.com
SUMMARY:Live Music: Jenn Shook Duo
DESCRIPTION:CLICK TO LEARN MORE
URL:https://theboardwalkgrill.com/event/live-music-jenn-shook-duo-4
LOCATION:Boardwalk Grill\, 901 W Bank Rd\, Celina\, OH\, United States
CATEGORIES:Boardwalk Grill
GEO:40.542642;-84.571525
X-APPLE-STRUCTURED-LOCATION;VALUE=URI;X-ADDRESS=Boardwalk Grill 901 W Bank Rd Celina OH United States;X-APPLE-RADIUS=500;X-TITLE=901 W Bank Rd:geo:-84.571525,40.542642
END:VEVENT
BEGIN:VEVENT
DTSTART;TZID=America/New_York:20260306T190000
DTEND;TZID=America/New_York:20260306T220000
DTSTAMP:20260422T133928
CREATED:20260107T214926Z
LAST-MODIFIED:20260307T013453Z
UID:10001072-1772823600-1772834400@theboardwalkgrill.com
SUMMARY:Live Music: Conner Albers
DESCRIPTION:CLICK TO LEARN MORE
URL:https://theboardwalkgrill.com/event/live-music-conner-albers-5
LOCATION:Boardwalk Grill\, 901 W Bank Rd\, Celina\, OH\, United States
CATEGORIES:Boardwalk Grill
GEO:40.542642;-84.571525
X-APPLE-STRUCTURED-LOCATION;VALUE=URI;X-ADDRESS=Boardwalk Grill 901 W Bank Rd Celina OH United States;X-APPLE-RADIUS=500;X-TITLE=901 W Bank Rd:geo:-84.571525,40.542642
END:VEVENT
BEGIN:VEVENT
DTSTART;TZID=America/New_York:20260228T190000
DTEND;TZID=America/New_York:20260228T220000
DTSTAMP:20260422T133928
CREATED:20260107T214926Z
LAST-MODIFIED:20260301T013423Z
UID:10001071-1772305200-1772316000@theboardwalkgrill.com
SUMMARY:Live Music: Zach Rosenbeck
DESCRIPTION:CLICK TO LEARN MORE
URL:https://theboardwalkgrill.com/event/live-music-zach-rosenbeck-3
LOCATION:Boardwalk Grill\, 901 W Bank Rd\, Celina\, OH\, United States
CATEGORIES:Boardwalk Grill
GEO:40.542642;-84.571525
X-APPLE-STRUCTURED-LOCATION;VALUE=URI;X-ADDRESS=Boardwalk Grill 901 W Bank Rd Celina OH United States;X-APPLE-RADIUS=500;X-TITLE=901 W Bank Rd:geo:-84.571525,40.542642
END:VEVENT
BEGIN:VEVENT
DTSTART;TZID=America/New_York:20260227T190000
DTEND;TZID=America/New_York:20260227T220000
DTSTAMP:20260422T133928
CREATED:20260107T214925Z
LAST-MODIFIED:20260228T012015Z
UID:10001070-1772218800-1772229600@theboardwalkgrill.com
SUMMARY:Live Music: Jon Ranly
DESCRIPTION:CLICK TO LEARN MORE
URL:https://theboardwalkgrill.com/event/live-music-jon-ranly-3
LOCATION:Boardwalk Grill\, 901 W Bank Rd\, Celina\, OH\, United States
CATEGORIES:Boardwalk Grill
GEO:40.542642;-84.571525
X-APPLE-STRUCTURED-LOCATION;VALUE=URI;X-ADDRESS=Boardwalk Grill 901 W Bank Rd Celina OH United States;X-APPLE-RADIUS=500;X-TITLE=901 W Bank Rd:geo:-84.571525,40.542642
END:VEVENT
BEGIN:VEVENT
DTSTART;TZID=America/New_York:20260221T190000
DTEND;TZID=America/New_York:20260221T220000
DTSTAMP:20260422T133928
CREATED:20260107T214925Z
LAST-MODIFIED:20260222T010423Z
UID:10001069-1771700400-1771711200@theboardwalkgrill.com
SUMMARY:Live Music: Jason Grieshop
DESCRIPTION:CLICK TO LEARN MORE
URL:https://theboardwalkgrill.com/event/live-music-jason-grieshop
LOCATION:Boardwalk Grill\, 901 W Bank Rd\, Celina\, OH\, United States
CATEGORIES:Boardwalk Grill
GEO:40.542642;-84.571525
X-APPLE-STRUCTURED-LOCATION;VALUE=URI;X-ADDRESS=Boardwalk Grill 901 W Bank Rd Celina OH United States;X-APPLE-RADIUS=500;X-TITLE=901 W Bank Rd:geo:-84.571525,40.542642
END:VEVENT
BEGIN:VEVENT
DTSTART;TZID=America/New_York:20260220T190000
DTEND;TZID=America/New_York:20260220T220000
DTSTAMP:20260422T133928
CREATED:20260107T214925Z
LAST-MODIFIED:20260221T010423Z
UID:10001068-1771614000-1771624800@theboardwalkgrill.com
SUMMARY:Live Music: Tom Koenig
DESCRIPTION:CLICK TO LEARN MORE
URL:https://theboardwalkgrill.com/event/live-music-tom-koenig-5
LOCATION:Boardwalk Grill\, 901 W Bank Rd\, Celina\, OH\, United States
CATEGORIES:Boardwalk Grill
GEO:40.542642;-84.571525
X-APPLE-STRUCTURED-LOCATION;VALUE=URI;X-ADDRESS=Boardwalk Grill 901 W Bank Rd Celina OH United States;X-APPLE-RADIUS=500;X-TITLE=901 W Bank Rd:geo:-84.571525,40.542642
END:VEVENT
BEGIN:VEVENT
DTSTART;TZID=America/New_York:20260214T190000
DTEND;TZID=America/New_York:20260214T220000
DTSTAMP:20260422T133928
CREATED:20260107T214925Z
LAST-MODIFIED:20260215T010455Z
UID:10001067-1771095600-1771106400@theboardwalkgrill.com
SUMMARY:Live Music: Gabe Bailey & Rocksteady
DESCRIPTION:CLICK TO LEARN MORE
URL:https://theboardwalkgrill.com/event/live-music-gabe-bailey-rocksteady-4
LOCATION:Boardwalk Grill\, 901 W Bank Rd\, Celina\, OH\, United States
CATEGORIES:Boardwalk Grill
GEO:40.542642;-84.571525
X-APPLE-STRUCTURED-LOCATION;VALUE=URI;X-ADDRESS=Boardwalk Grill 901 W Bank Rd Celina OH United States;X-APPLE-RADIUS=500;X-TITLE=901 W Bank Rd:geo:-84.571525,40.542642
END:VEVENT
BEGIN:VEVENT
DTSTART;TZID=America/New_York:20260213T190000
DTEND;TZID=America/New_York:20260213T220000
DTSTAMP:20260422T133928
CREATED:20260107T214925Z
LAST-MODIFIED:20260214T010422Z
UID:10001066-1771009200-1771020000@theboardwalkgrill.com
SUMMARY:Live Music: Hunter Wainscott
DESCRIPTION:CLICK TO LEARN MORE
URL:https://theboardwalkgrill.com/event/live-music-hunter-wainscott-6
LOCATION:Boardwalk Grill\, 901 W Bank Rd\, Celina\, OH\, United States
CATEGORIES:Boardwalk Grill
GEO:40.542642;-84.571525
X-APPLE-STRUCTURED-LOCATION;VALUE=URI;X-ADDRESS=Boardwalk Grill 901 W Bank Rd Celina OH United States;X-APPLE-RADIUS=500;X-TITLE=901 W Bank Rd:geo:-84.571525,40.542642
END:VEVENT
BEGIN:VEVENT
DTSTART;TZID=America/New_York:20260207T190000
DTEND;TZID=America/New_York:20260207T220000
DTSTAMP:20260422T133928
CREATED:20260107T214923Z
LAST-MODIFIED:20260208T003423Z
UID:10001065-1770490800-1770501600@theboardwalkgrill.com
SUMMARY:Live Music: Dalton & Delane
DESCRIPTION:CLICK TO LEARN MORE
URL:https://theboardwalkgrill.com/event/live-music-dalton-hesson
LOCATION:Boardwalk Grill\, 901 W Bank Rd\, Celina\, OH\, United States
CATEGORIES:Boardwalk Grill
GEO:40.542642;-84.571525
X-APPLE-STRUCTURED-LOCATION;VALUE=URI;X-ADDRESS=Boardwalk Grill 901 W Bank Rd Celina OH United States;X-APPLE-RADIUS=500;X-TITLE=901 W Bank Rd:geo:-84.571525,40.542642
END:VEVENT
BEGIN:VEVENT
DTSTART;TZID=America/New_York:20260206T190000
DTEND;TZID=America/New_York:20260206T220000
DTSTAMP:20260422T133928
CREATED:20260107T214923Z
LAST-MODIFIED:20260207T003422Z
UID:10001064-1770404400-1770415200@theboardwalkgrill.com
SUMMARY:Live Music: Josh Taylor
DESCRIPTION:CLICK TO LEARN MORE
URL:https://theboardwalkgrill.com/event/live-music-josh-taylor-7
LOCATION:Boardwalk Grill\, 901 W Bank Rd\, Celina\, OH\, United States
CATEGORIES:Boardwalk Grill
GEO:40.542642;-84.571525
X-APPLE-STRUCTURED-LOCATION;VALUE=URI;X-ADDRESS=Boardwalk Grill 901 W Bank Rd Celina OH United States;X-APPLE-RADIUS=500;X-TITLE=901 W Bank Rd:geo:-84.571525,40.542642
END:VEVENT
BEGIN:VEVENT
DTSTART;TZID=America/New_York:20260131T190000
DTEND;TZID=America/New_York:20260131T220000
DTSTAMP:20260422T133928
CREATED:20251210T061929Z
LAST-MODIFIED:20260131T233440Z
UID:10001053-1769886000-1769896800@theboardwalkgrill.com
SUMMARY:Live Music: Carl Green
DESCRIPTION:CLICK TO LEARN MORE
URL:https://theboardwalkgrill.com/event/live-music-carl-green-3
LOCATION:Boardwalk Grill\, 901 W Bank Rd\, Celina\, OH\, United States
CATEGORIES:Boardwalk Grill
GEO:40.542642;-84.571525
X-APPLE-STRUCTURED-LOCATION;VALUE=URI;X-ADDRESS=Boardwalk Grill 901 W Bank Rd Celina OH United States;X-APPLE-RADIUS=500;X-TITLE=901 W Bank Rd:geo:-84.571525,40.542642
END:VEVENT
BEGIN:VEVENT
DTSTART;TZID=America/New_York:20260130T190000
DTEND;TZID=America/New_York:20260130T220000
DTSTAMP:20260422T133928
CREATED:20251210T061929Z
LAST-MODIFIED:20260130T233423Z
UID:10001052-1769799600-1769810400@theboardwalkgrill.com
SUMMARY:Live Music: DeMange Brothers
DESCRIPTION:CLICK TO LEARN MORE
URL:https://theboardwalkgrill.com/event/live-music-demange-brothers-4
LOCATION:Boardwalk Grill\, 901 W Bank Rd\, Celina\, OH\, United States
CATEGORIES:Boardwalk Grill
GEO:40.542642;-84.571525
X-APPLE-STRUCTURED-LOCATION;VALUE=URI;X-ADDRESS=Boardwalk Grill 901 W Bank Rd Celina OH United States;X-APPLE-RADIUS=500;X-TITLE=901 W Bank Rd:geo:-84.571525,40.542642
END:VEVENT
BEGIN:VEVENT
DTSTART;TZID=America/New_York:20260124T190000
DTEND;TZID=America/New_York:20260124T220000
DTSTAMP:20260422T133928
CREATED:20251210T061929Z
LAST-MODIFIED:20260124T224923Z
UID:10001051-1769281200-1769292000@theboardwalkgrill.com
SUMMARY:Live Music: Toby Leach
DESCRIPTION:CLICK TO LEARN MORE
URL:https://theboardwalkgrill.com/event/live-music-toby-leach-5
LOCATION:Boardwalk Grill\, 901 W Bank Rd\, Celina\, OH\, United States
CATEGORIES:Boardwalk Grill
GEO:40.542642;-84.571525
X-APPLE-STRUCTURED-LOCATION;VALUE=URI;X-ADDRESS=Boardwalk Grill 901 W Bank Rd Celina OH United States;X-APPLE-RADIUS=500;X-TITLE=901 W Bank Rd:geo:-84.571525,40.542642
END:VEVENT
BEGIN:VEVENT
DTSTART;TZID=America/New_York:20260123T190000
DTEND;TZID=America/New_York:20260123T220000
DTSTAMP:20260422T133928
CREATED:20251210T061929Z
LAST-MODIFIED:20260123T224926Z
UID:10001050-1769194800-1769205600@theboardwalkgrill.com
SUMMARY:Live Music: Jordan Ross
DESCRIPTION:CLICK TO LEARN MORE
URL:https://theboardwalkgrill.com/event/live-music-jordan-ross-5
LOCATION:Boardwalk Grill\, 901 W Bank Rd\, Celina\, OH\, United States
CATEGORIES:Boardwalk Grill
GEO:40.542642;-84.571525
X-APPLE-STRUCTURED-LOCATION;VALUE=URI;X-ADDRESS=Boardwalk Grill 901 W Bank Rd Celina OH United States;X-APPLE-RADIUS=500;X-TITLE=901 W Bank Rd:geo:-84.571525,40.542642
END:VEVENT
BEGIN:VEVENT
DTSTART;TZID=America/New_York:20260117T190000
DTEND;TZID=America/New_York:20260117T220000
DTSTAMP:20260422T133928
CREATED:20251210T061928Z
LAST-MODIFIED:20260117T220426Z
UID:10001049-1768676400-1768687200@theboardwalkgrill.com
SUMMARY:Live Music: Lauren Rismiller
DESCRIPTION:CLICK TO LEARN MORE
URL:https://theboardwalkgrill.com/event/live-music-gabe-bailey-rocksteady-3
LOCATION:Boardwalk Grill\, 901 W Bank Rd\, Celina\, OH\, United States
CATEGORIES:Boardwalk Grill
GEO:40.542642;-84.571525
X-APPLE-STRUCTURED-LOCATION;VALUE=URI;X-ADDRESS=Boardwalk Grill 901 W Bank Rd Celina OH United States;X-APPLE-RADIUS=500;X-TITLE=901 W Bank Rd:geo:-84.571525,40.542642
END:VEVENT
BEGIN:VEVENT
DTSTART;TZID=America/New_York:20260116T190000
DTEND;TZID=America/New_York:20260116T220000
DTSTAMP:20260422T133928
CREATED:20251210T061928Z
LAST-MODIFIED:20260116T220452Z
UID:10001048-1768590000-1768600800@theboardwalkgrill.com
SUMMARY:Live Music: Jon Ranly
DESCRIPTION:CLICK TO LEARN MORE
URL:https://theboardwalkgrill.com/event/live-music-jon-ranly-2
LOCATION:Boardwalk Grill\, 901 W Bank Rd\, Celina\, OH\, United States
CATEGORIES:Boardwalk Grill
GEO:40.542642;-84.571525
X-APPLE-STRUCTURED-LOCATION;VALUE=URI;X-ADDRESS=Boardwalk Grill 901 W Bank Rd Celina OH United States;X-APPLE-RADIUS=500;X-TITLE=901 W Bank Rd:geo:-84.571525,40.542642
END:VEVENT
END:VCALENDAR