BEGIN:VCALENDAR
VERSION:2.0
PRODID:-//Boardwalk Grill - ECPv6.15.13.1//NONSGML v1.0//EN
CALSCALE:GREGORIAN
METHOD:PUBLISH
X-WR-CALNAME:Boardwalk Grill
X-ORIGINAL-URL:https://theboardwalkgrill.com
X-WR-CALDESC:Events for Boardwalk Grill
REFRESH-INTERVAL;VALUE=DURATION:PT1H
X-Robots-Tag:noindex
X-PUBLISHED-TTL:PT1H
BEGIN:VTIMEZONE
TZID:America/New_York
BEGIN:DAYLIGHT
TZOFFSETFROM:-0500
TZOFFSETTO:-0400
TZNAME:EDT
DTSTART:20240310T070000
END:DAYLIGHT
BEGIN:STANDARD
TZOFFSETFROM:-0400
TZOFFSETTO:-0500
TZNAME:EST
DTSTART:20241103T060000
END:STANDARD
BEGIN:DAYLIGHT
TZOFFSETFROM:-0500
TZOFFSETTO:-0400
TZNAME:EDT
DTSTART:20250309T070000
END:DAYLIGHT
BEGIN:STANDARD
TZOFFSETFROM:-0400
TZOFFSETTO:-0500
TZNAME:EST
DTSTART:20251102T060000
END:STANDARD
BEGIN:DAYLIGHT
TZOFFSETFROM:-0500
TZOFFSETTO:-0400
TZNAME:EDT
DTSTART:20260308T070000
END:DAYLIGHT
BEGIN:STANDARD
TZOFFSETFROM:-0400
TZOFFSETTO:-0500
TZNAME:EST
DTSTART:20261101T060000
END:STANDARD
END:VTIMEZONE
BEGIN:VEVENT
DTSTART;TZID=America/New_York:20250717T190000
DTEND;TZID=America/New_York:20250717T220000
DTSTAMP:20260422T084913
CREATED:20250320T070440Z
LAST-MODIFIED:20250718T003434Z
UID:10000595-1752778800-1752789600@theboardwalkgrill.com
SUMMARY:Boardwalk Grill: Karaoke & Kissing Cardinals Line Dancing
DESCRIPTION:Karaoke in the Boardwalk Grill Tent with DJ Terence. Pick your favorite song and get ready to sing your heart out! Kissing Cardinals will be here as well to do some Line Dancing! Time TBD for Line Dancing.  \nCLICK HERE FOR MORE INFORMATION
URL:https://theboardwalkgrill.com/event/boardwalk-grill-karaoke-20
LOCATION:Boardwalk Grill\, 901 W Bank Rd\, Celina\, OH\, United States
CATEGORIES:Boardwalk Grill
GEO:40.542642;-84.571525
X-APPLE-STRUCTURED-LOCATION;VALUE=URI;X-ADDRESS=Boardwalk Grill 901 W Bank Rd Celina OH United States;X-APPLE-RADIUS=500;X-TITLE=901 W Bank Rd:geo:-84.571525,40.542642
END:VEVENT
BEGIN:VEVENT
DTSTART;TZID=America/New_York:20250717T181500
DTEND;TZID=America/New_York:20250717T211500
DTSTAMP:20260422T084913
CREATED:20250320T042006Z
LAST-MODIFIED:20250717T013439Z
UID:10000546-1752776100-1752786900@theboardwalkgrill.com
SUMMARY:Boardwalk Marketplace: Sand Volleyball League
DESCRIPTION:Boardwalk Sand Volleyball League (Beer) \nDetails:Dates: July 10\, 17\, 24\, 31Game Times: 6:15\, 7:15\, 8:15 PMAge 21+Teams should consist of a minimum of 6 people.Teams are co-ed.Minimum of 2 girls on the court during the entirety of the game.$180 / Team \nREGISTER NOWCLICK HERE FOR MORE INFORMATION
URL:https://theboardwalkgrill.com/event/boardwalk-marketplace-sand-volleyball-league-23
LOCATION:Boardwalk Village\, 901 W Bank Rd\, Celina\, OH\, United States
CATEGORIES:Boardwalk Marketplace
GEO:40.542642;-84.571525
X-APPLE-STRUCTURED-LOCATION;VALUE=URI;X-ADDRESS=Boardwalk Village 901 W Bank Rd Celina OH United States;X-APPLE-RADIUS=500;X-TITLE=901 W Bank Rd:geo:-84.571525,40.542642
END:VEVENT
BEGIN:VEVENT
DTSTART;TZID=America/New_York:20250717T180000
DTEND;TZID=America/New_York:20250717T210000
DTSTAMP:20260422T084913
CREATED:20250320T042006Z
LAST-MODIFIED:20250717T013439Z
UID:10000547-1752775200-1752786000@theboardwalkgrill.com
SUMMARY:Boardwalk Marketplace: Pickleball League
DESCRIPTION:Boardwalk Pickleball League (Beer) \nDetails:Dates: July 10\, 17\, 24\, 31Game Times: 6:00 PM\, 6:45 PM\, 7:30 PM\, 8:15 PMAge 21+Teams are co-ed.$40 / Team \nREGISTER NOWCLICK HERE FOR MORE INFORMATION
URL:https://theboardwalkgrill.com/event/boardwalk-marketplace-pickleball-league-22
LOCATION:Boardwalk Village\, 901 W Bank Rd\, Celina\, OH\, United States
CATEGORIES:Boardwalk Marketplace
GEO:40.542642;-84.571525
X-APPLE-STRUCTURED-LOCATION;VALUE=URI;X-ADDRESS=Boardwalk Village 901 W Bank Rd Celina OH United States;X-APPLE-RADIUS=500;X-TITLE=901 W Bank Rd:geo:-84.571525,40.542642
END:VEVENT
BEGIN:VEVENT
DTSTART;TZID=America/New_York:20250717T090000
DTEND;TZID=America/New_York:20250717T160000
DTSTAMP:20260422T084913
CREATED:20250702T060431Z
LAST-MODIFIED:20250717T064922Z
UID:10000802-1752742800-1752768000@theboardwalkgrill.com
SUMMARY:Upper Deck: Golf Bays Open!
DESCRIPTION:To reserve\, \nVisit https://player.eagleclubsystems.online/#/tee-slot?dbname=rush20221215 \nOr call us at 419-776-2028
URL:https://theboardwalkgrill.com/event/upper-deck-golf-bays-open-12
LOCATION:Upper Deck Sports Bar\, Celina\, OH\, United States
CATEGORIES:Upper Deck Sports Bar
GEO:40.556645;-84.628714
END:VEVENT
BEGIN:VEVENT
DTSTART;TZID=America/New_York:20250716T190000
DTEND;TZID=America/New_York:20250716T200000
DTSTAMP:20260422T084913
CREATED:20250624T000428Z
LAST-MODIFIED:20250716T013444Z
UID:10000760-1752692400-1752696000@theboardwalkgrill.com
SUMMARY:Yoga On The Docks
DESCRIPTION:Angel with Wellness To The Core will be hosting Yoga on the Docks all summer long!  \n\nWHO: All Levels\, age 12 and up. No experience needed! \nWHAT: Yoga on the Docks hosted by Wellness To The Core  \nWHEN: Wednesday evenings\, 7-8 PM every Wednesday ALL SUMMER LONG \nWHERE: Boardwalk Village Public Dock on Grand Lake  \nCOST: Donation Based – recommended $10 to $15/person. Or use your Wellness to the Core Class Package! \nSIGN-UP: Must be registered BEFORE 7PM Wednesdays!  \n🌅 https://www.wttcore.com/calendar 🌅   \nBRING: Water\, Towel\, Yoga Mat\, Friends ☺️
URL:https://theboardwalkgrill.com/event/yoga-on-the-docks-6
LOCATION:Boardwalk Village\, 901 W Bank Rd\, Celina\, OH\, United States
CATEGORIES:Boardwalk Marketplace
GEO:40.542642;-84.571525
X-APPLE-STRUCTURED-LOCATION;VALUE=URI;X-ADDRESS=Boardwalk Village 901 W Bank Rd Celina OH United States;X-APPLE-RADIUS=500;X-TITLE=901 W Bank Rd:geo:-84.571525,40.542642
END:VEVENT
BEGIN:VEVENT
DTSTART;TZID=America/New_York:20250716T183000
DTEND;TZID=America/New_York:20250716T203000
DTSTAMP:20260422T084913
CREATED:20250624T000428Z
LAST-MODIFIED:20250716T013444Z
UID:10000761-1752690600-1752697800@theboardwalkgrill.com
SUMMARY:Marketplace: SINGO
DESCRIPTION:Join in on the SINGO fun at the Coconut Hut with Hemmelgarn Entertainment!  \nCLICK HERE FOR MORE INFORMATION
URL:https://theboardwalkgrill.com/event/marketplace-singo
LOCATION:Boardwalk Village\, 901 W Bank Rd\, Celina\, OH\, United States
CATEGORIES:Boardwalk Marketplace
GEO:40.542642;-84.571525
X-APPLE-STRUCTURED-LOCATION;VALUE=URI;X-ADDRESS=Boardwalk Village 901 W Bank Rd Celina OH United States;X-APPLE-RADIUS=500;X-TITLE=901 W Bank Rd:geo:-84.571525,40.542642
END:VEVENT
BEGIN:VEVENT
DTSTART;TZID=America/New_York:20250716T090000
DTEND;TZID=America/New_York:20250716T160000
DTSTAMP:20260422T084913
CREATED:20250702T060431Z
LAST-MODIFIED:20250716T063426Z
UID:10000801-1752656400-1752681600@theboardwalkgrill.com
SUMMARY:Upper Deck: Golf Bays Open!
DESCRIPTION:To reserve\, \nVisit https://player.eagleclubsystems.online/#/tee-slot?dbname=rush20221215 \nOr call us at 419-776-2028
URL:https://theboardwalkgrill.com/event/upper-deck-golf-bays-open-11
LOCATION:Upper Deck Sports Bar\, Celina\, OH\, United States
CATEGORIES:Upper Deck Sports Bar
GEO:40.556645;-84.628714
END:VEVENT
BEGIN:VEVENT
DTSTART;VALUE=DATE:20250716
DTEND;VALUE=DATE:20250720
DTSTAMP:20260422T084913
CREATED:20250124T035117Z
LAST-MODIFIED:20250719T040432Z
UID:10000455-1752624000-1752969599@theboardwalkgrill.com
SUMMARY:Eldora: Kings Royal
DESCRIPTION:KINGS ROYAL WEEK: SUMMER’S MOST FABELED EVENT!Four huge nights of winged sprint car racing kick off on Wednesday\, July 16 as the High Limit Racing Sprint Cars return to Eldora with the running of the Double Down Duels featuring twin 25-lap main events worth $12\,000 each. Results and points earned on Wedensday will line up heat races on Thursday\, July 17 at the $100\,000-to-win Jokers Jackpot! \nThe World of Outlaws NOS Energy Drink Sprint Car Series takes center stage on Friday\, July 18 with Knight Before the Kings Royal\, paying $25\,000-to-win! The weekend culiminates on Saturday\, July 19 with the 41st running of the Kings Royal! The traditional Kings Royal format includes six heat races\, consolation mains and a 40-lap main event which now pays $200\,000-to-win! \nDon’t miss sprint car racing’s biggest party as the world’s greatest sprint car drivers battle it out all week for over $900\,000 in prize money! \nCLICK HERE TO LEARN MORE
URL:https://theboardwalkgrill.com/event/eldora-kings-royal-2
LOCATION:Eldora Speedway\, New Weston\, OH\, United States
CATEGORIES:Community Events
GEO:40.316833;-84.633911
END:VEVENT
BEGIN:VEVENT
DTSTART;TZID=America/New_York:20250715T090000
DTEND;TZID=America/New_York:20250715T160000
DTSTAMP:20260422T084913
CREATED:20250702T060429Z
LAST-MODIFIED:20250715T063424Z
UID:10000800-1752570000-1752595200@theboardwalkgrill.com
SUMMARY:Upper Deck: Golf Bays Open!
DESCRIPTION:To reserve\, \nVisit https://player.eagleclubsystems.online/#/tee-slot?dbname=rush20221215 \nOr call us at 419-776-2028
URL:https://theboardwalkgrill.com/event/upper-deck-golf-bays-open-10
LOCATION:Upper Deck Sports Bar\, Celina\, OH\, United States
CATEGORIES:Upper Deck Sports Bar
GEO:40.556645;-84.628714
END:VEVENT
BEGIN:VEVENT
DTSTART;VALUE=DATE:20250715
DTEND;VALUE=DATE:20250721
DTSTAMP:20260422T084913
CREATED:20250124T035117Z
LAST-MODIFIED:20250720T040433Z
UID:10000454-1752537600-1753055999@theboardwalkgrill.com
SUMMARY:Wapakoneta Summer Moon Fest
DESCRIPTION:The Wapakoneta Summer Moon Festival attracts thousands to enjoy a week of activities celebrating Neil Armstrong and the town he grew up in. The festival spans the entire town with events at the Armstrong Air & Space Museum\, throughout the Historic Downtown District\, in City Parks and at the Performing Arts Center. \nHighlights include a big music stage with live music\, food trucks and a beer garden. There are fun contests such as the Wiener Dog Races\, Fishing Derby\, Pickle Ball and Corn Hole Tournaments\, Canoe\, Kayak and Bed Races plus a Vintage Car Show and Antique Tractor Show. The downtown streets also host a giant shopping experience called The Moon Market which features over 60 vendors. \nCLICK HERE FOR MORE INFORMATION
URL:https://theboardwalkgrill.com/event/wapakoneta-summer-moon-fest-2
LOCATION:Wapakoneta\, Wapakoneta\, OH\, United States
CATEGORIES:Community Events
GEO:40.582252;-84.152138
END:VEVENT
BEGIN:VEVENT
DTSTART;TZID=America/New_York:20250714T090000
DTEND;TZID=America/New_York:20250714T160000
DTSTAMP:20260422T084913
CREATED:20250702T060429Z
LAST-MODIFIED:20250714T063445Z
UID:10000799-1752483600-1752508800@theboardwalkgrill.com
SUMMARY:Upper Deck: Golf Bays Open!
DESCRIPTION:To reserve\, \nVisit https://player.eagleclubsystems.online/#/tee-slot?dbname=rush20221215 \nOr call us at 419-776-2028
URL:https://theboardwalkgrill.com/event/upper-deck-golf-bays-open-9
LOCATION:Upper Deck Sports Bar\, Celina\, OH\, United States
CATEGORIES:Upper Deck Sports Bar
GEO:40.556645;-84.628714
END:VEVENT
BEGIN:VEVENT
DTSTART;TZID=America/New_York:20250713T140000
DTEND;TZID=America/New_York:20250713T180000
DTSTAMP:20260422T084913
CREATED:20250524T094957Z
LAST-MODIFIED:20250713T001935Z
UID:10000709-1752415200-1752429600@theboardwalkgrill.com
SUMMARY:Live Music:  Josh Taylor
DESCRIPTION:CLICK TO LEARN MORE
URL:https://theboardwalkgrill.com/event/live-music-josh-taylor-4
LOCATION:Boardwalk Grill\, 901 W Bank Rd\, Celina\, OH\, United States
CATEGORIES:Boardwalk Grill
GEO:40.542642;-84.571525
X-APPLE-STRUCTURED-LOCATION;VALUE=URI;X-ADDRESS=Boardwalk Grill 901 W Bank Rd Celina OH United States;X-APPLE-RADIUS=500;X-TITLE=901 W Bank Rd:geo:-84.571525,40.542642
END:VEVENT
BEGIN:VEVENT
DTSTART;TZID=America/New_York:20250712T190000
DTEND;TZID=America/New_York:20250712T230000
DTSTAMP:20260422T084913
CREATED:20250524T094956Z
LAST-MODIFIED:20250713T001935Z
UID:10000708-1752346800-1752361200@theboardwalkgrill.com
SUMMARY:Live Music: The Temps
DESCRIPTION:CLICK TO LEARN MORE
URL:https://theboardwalkgrill.com/event/live-music-kim-campbell-southern-memories-band
LOCATION:Boardwalk Grill\, 901 W Bank Rd\, Celina\, OH\, United States
CATEGORIES:Boardwalk Grill
GEO:40.542642;-84.571525
X-APPLE-STRUCTURED-LOCATION;VALUE=URI;X-ADDRESS=Boardwalk Grill 901 W Bank Rd Celina OH United States;X-APPLE-RADIUS=500;X-TITLE=901 W Bank Rd:geo:-84.571525,40.542642
END:VEVENT
BEGIN:VEVENT
DTSTART;TZID=America/New_York:20250712T160000
DTEND;TZID=America/New_York:20250713T000000
DTSTAMP:20260422T084913
CREATED:20250321T040444Z
LAST-MODIFIED:20250713T015022Z
UID:10000635-1752336000-1752364800@theboardwalkgrill.com
SUMMARY:Blue Goose Shuttle
DESCRIPTION:Blue Goose Hours:Fridays – 5:00 PM – 12:00 AM Saturday – 4:00 PM – 12:00 AM  \n*Cost is $10/ride or $20/unlimited in the service area during operating hours. *Kids 15 and under ride free*See the service map for ideas of where the Blue Goose can bring you.*We can pick you up at home if you’re in our service area.*We will do private events *Boardwalk Village Guests get 50% off!  \nCLICK TO LEARN MORE
URL:https://theboardwalkgrill.com/event/blue-goose-shuttle-26
LOCATION:Boardwalk Village\, 901 W Bank Rd\, Celina\, OH\, United States
CATEGORIES:Blue Goose Shuttle
GEO:40.542642;-84.571525
X-APPLE-STRUCTURED-LOCATION;VALUE=URI;X-ADDRESS=Boardwalk Village 901 W Bank Rd Celina OH United States;X-APPLE-RADIUS=500;X-TITLE=901 W Bank Rd:geo:-84.571525,40.542642
END:VEVENT
BEGIN:VEVENT
DTSTART;TZID=America/New_York:20250712T160000
DTEND;TZID=America/New_York:20250712T190000
DTSTAMP:20260422T084913
CREATED:20250624T000428Z
LAST-MODIFIED:20250712T013430Z
UID:10000759-1752336000-1752346800@theboardwalkgrill.com
SUMMARY:Music at the Marketplace: Jordan Ross
DESCRIPTION:CLICK HERE TO LEARN MORE
URL:https://theboardwalkgrill.com/event/music-at-the-marketplace-jordan-ross
LOCATION:Boardwalk Village\, 901 W Bank Rd\, Celina\, OH\, United States
CATEGORIES:Boardwalk Marketplace
GEO:40.542642;-84.571525
X-APPLE-STRUCTURED-LOCATION;VALUE=URI;X-ADDRESS=Boardwalk Village 901 W Bank Rd Celina OH United States;X-APPLE-RADIUS=500;X-TITLE=901 W Bank Rd:geo:-84.571525,40.542642
END:VEVENT
BEGIN:VEVENT
DTSTART;TZID=America/New_York:20250712T130000
DTEND;TZID=America/New_York:20250712T170000
DTSTAMP:20260422T084913
CREATED:20250708T001924Z
LAST-MODIFIED:20250712T001924Z
UID:10000839-1752325200-1752339600@theboardwalkgrill.com
SUMMARY:Live Music: Kim Campbell & Southern Memories Band
DESCRIPTION:CLICK TO LEARN MORE
URL:https://theboardwalkgrill.com/event/live-music-kim-campbell-southern-memories-band-2
LOCATION:Boardwalk Grill\, 901 W Bank Rd\, Celina\, OH\, United States
CATEGORIES:Boardwalk Grill
GEO:40.542642;-84.571525
X-APPLE-STRUCTURED-LOCATION;VALUE=URI;X-ADDRESS=Boardwalk Grill 901 W Bank Rd Celina OH United States;X-APPLE-RADIUS=500;X-TITLE=901 W Bank Rd:geo:-84.571525,40.542642
END:VEVENT
BEGIN:VEVENT
DTSTART;TZID=America/New_York:20250712T103000
DTEND;TZID=America/New_York:20250712T111500
DTSTAMP:20260422T084913
CREATED:20250320T042006Z
LAST-MODIFIED:20250712T013430Z
UID:10000545-1752316200-1752318900@theboardwalkgrill.com
SUMMARY:Boardwalk Marketplace: Pilates In The Sand
DESCRIPTION:Join Aura Align on the Boardwalk Marketplace Sand Volleyball Court for Pilates lakeside! A dynamic outdoor class that enhances core strength\, flexibility\, and tones the body as a whole while embracing the natural resistance of the sandy surface. This low impact yet highly effective workout focuses on controlled movements\, breath work\, and alignment\, making it perfect for all fitness levels. This class requires you to BRING YOUR OWN MAT\, Aura Align will NOT have any extra at Boardwalk.  This class is beginner friendly! \nSign Up Now! Classes $15 Each \nCLICK HERE FOR MORE INFO
URL:https://theboardwalkgrill.com/event/boardwalk-marketplace-pilates-in-the-sand-6
LOCATION:Boardwalk Village\, 901 W Bank Rd\, Celina\, OH\, United States
CATEGORIES:Boardwalk Marketplace
GEO:40.542642;-84.571525
X-APPLE-STRUCTURED-LOCATION;VALUE=URI;X-ADDRESS=Boardwalk Village 901 W Bank Rd Celina OH United States;X-APPLE-RADIUS=500;X-TITLE=901 W Bank Rd:geo:-84.571525,40.542642
END:VEVENT
BEGIN:VEVENT
DTSTART;TZID=America/New_York:20250712T090000
DTEND;TZID=America/New_York:20250712T120000
DTSTAMP:20260422T084913
CREATED:20250708T033506Z
LAST-MODIFIED:20250712T040432Z
UID:10000840-1752310800-1752321600@theboardwalkgrill.com
SUMMARY:Celina Summer Farmers Market
DESCRIPTION:Every Saturday this Summer come to the Celina Farmers Market for fresh local foods\, refreshments\, and goods! \nCLICK TO LEARN MORE
URL:https://theboardwalkgrill.com/event/celina-summer-farmers-market
LOCATION:Mercer County Fairgrounds\, 1001 W Market St\, Celina\, OH\, United States
CATEGORIES:Community Events
GEO:40.549358;-84.583238
X-APPLE-STRUCTURED-LOCATION;VALUE=URI;X-ADDRESS=Mercer County Fairgrounds 1001 W Market St Celina OH United States;X-APPLE-RADIUS=500;X-TITLE=1001 W Market St:geo:-84.583238,40.549358
END:VEVENT
BEGIN:VEVENT
DTSTART;TZID=America/New_York:20250711T190000
DTEND;TZID=America/New_York:20250711T230000
DTSTAMP:20260422T084913
CREATED:20250524T094956Z
LAST-MODIFIED:20250712T001924Z
UID:10000707-1752260400-1752274800@theboardwalkgrill.com
SUMMARY:Live Music: Green Sands Acoustic
DESCRIPTION:CLICK TO LEARN MORE
URL:https://theboardwalkgrill.com/event/live-music-green-sands-acoustic-6
LOCATION:Boardwalk Grill\, 901 W Bank Rd\, Celina\, OH\, United States
CATEGORIES:Boardwalk Grill
GEO:40.542642;-84.571525
X-APPLE-STRUCTURED-LOCATION;VALUE=URI;X-ADDRESS=Boardwalk Grill 901 W Bank Rd Celina OH United States;X-APPLE-RADIUS=500;X-TITLE=901 W Bank Rd:geo:-84.571525,40.542642
END:VEVENT
BEGIN:VEVENT
DTSTART;TZID=America/New_York:20250711T181500
DTEND;TZID=America/New_York:20250711T211500
DTSTAMP:20260422T084913
CREATED:20250320T042005Z
LAST-MODIFIED:20250711T013424Z
UID:10000544-1752257700-1752268500@theboardwalkgrill.com
SUMMARY:Boardwalk Marketplace: Sand Volleyball League
DESCRIPTION:Boardwalk Sand Volleyball League (Beer) \nDetails:Dates: July 11\, 18\, 25\, August 1Game Times: 6:15\, 7:15\, 8:15 PMAge 21+Teams should consist of a minimum of 6 people.Teams are co-ed.Minimum of 2 girls on the court during the entirety of the game.$180 / Team \nREGISTER NOWCLICK HERE FOR MORE INFORMATION
URL:https://theboardwalkgrill.com/event/boardwalk-marketplace-sand-volleyball-league-22
LOCATION:Boardwalk Village\, 901 W Bank Rd\, Celina\, OH\, United States
CATEGORIES:Boardwalk Marketplace
GEO:40.542642;-84.571525
X-APPLE-STRUCTURED-LOCATION;VALUE=URI;X-ADDRESS=Boardwalk Village 901 W Bank Rd Celina OH United States;X-APPLE-RADIUS=500;X-TITLE=901 W Bank Rd:geo:-84.571525,40.542642
END:VEVENT
BEGIN:VEVENT
DTSTART;TZID=America/New_York:20250711T170000
DTEND;TZID=America/New_York:20250712T000000
DTSTAMP:20260422T084913
CREATED:20250321T040444Z
LAST-MODIFIED:20250712T014923Z
UID:10000634-1752253200-1752278400@theboardwalkgrill.com
SUMMARY:Blue Goose Shuttle
DESCRIPTION:Blue Goose Hours:Fridays – 5:00 PM – 12:00 AM Saturday – 4:00 PM – 12:00 AM  \n*Cost is $10/ride or $20/unlimited in the service area during operating hours. *Kids 15 and under ride free*See the service map for ideas of where the Blue Goose can bring you.*We can pick you up at home if you’re in our service area.*We will do private events *Boardwalk Village Guests get 50% off!  \nCLICK TO LEARN MORE
URL:https://theboardwalkgrill.com/event/blue-goose-shuttle-25
LOCATION:Boardwalk Village\, 901 W Bank Rd\, Celina\, OH\, United States
CATEGORIES:Blue Goose Shuttle
GEO:40.542642;-84.571525
X-APPLE-STRUCTURED-LOCATION;VALUE=URI;X-ADDRESS=Boardwalk Village 901 W Bank Rd Celina OH United States;X-APPLE-RADIUS=500;X-TITLE=901 W Bank Rd:geo:-84.571525,40.542642
END:VEVENT
BEGIN:VEVENT
DTSTART;TZID=America/New_York:20250711T170000
DTEND;TZID=America/New_York:20250711T200000
DTSTAMP:20260422T084913
CREATED:20250624T000428Z
LAST-MODIFIED:20250711T013424Z
UID:10000758-1752253200-1752264000@theboardwalkgrill.com
SUMMARY:Music at the Marketplace: Toby Leach
DESCRIPTION:CLICK HERE TO LEARN MORE
URL:https://theboardwalkgrill.com/event/music-at-the-marketplace-toby-leach
LOCATION:Boardwalk Village\, 901 W Bank Rd\, Celina\, OH\, United States
CATEGORIES:Boardwalk Marketplace
GEO:40.542642;-84.571525
X-APPLE-STRUCTURED-LOCATION;VALUE=URI;X-ADDRESS=Boardwalk Village 901 W Bank Rd Celina OH United States;X-APPLE-RADIUS=500;X-TITLE=901 W Bank Rd:geo:-84.571525,40.542642
END:VEVENT
BEGIN:VEVENT
DTSTART;TZID=America/New_York:20250711T090000
DTEND;TZID=America/New_York:20250711T160000
DTSTAMP:20260422T084913
CREATED:20250702T060429Z
LAST-MODIFIED:20250711T061932Z
UID:10000798-1752224400-1752249600@theboardwalkgrill.com
SUMMARY:Upper Deck: Golf Bays Open!
DESCRIPTION:To reserve\, \nVisit https://player.eagleclubsystems.online/#/tee-slot?dbname=rush20221215 \nOr call us at 419-776-2028
URL:https://theboardwalkgrill.com/event/upper-deck-golf-bays-open-8
LOCATION:Upper Deck Sports Bar\, Celina\, OH\, United States
CATEGORIES:Upper Deck Sports Bar
GEO:40.556645;-84.628714
END:VEVENT
BEGIN:VEVENT
DTSTART;VALUE=DATE:20250711
DTEND;VALUE=DATE:20250712
DTSTAMP:20260422T084913
CREATED:20250311T041940Z
LAST-MODIFIED:20250711T034935Z
UID:10000511-1752192000-1752278399@theboardwalkgrill.com
SUMMARY:Taste of Celina
DESCRIPTION:CLICK HERE FOR MORE INFORMATION
URL:https://theboardwalkgrill.com/event/taste-of-celina-2
LOCATION:Downtown Celina\, 123 W Fayette St\, Celina\, OH\, United States
CATEGORIES:Community Events
GEO:40.548092;-84.571067
X-APPLE-STRUCTURED-LOCATION;VALUE=URI;X-ADDRESS=Downtown Celina 123 W Fayette St Celina OH United States;X-APPLE-RADIUS=500;X-TITLE=123 W Fayette St:geo:-84.571067,40.548092
END:VEVENT
BEGIN:VEVENT
DTSTART;TZID=America/New_York:20250710T190000
DTEND;TZID=America/New_York:20250710T220000
DTSTAMP:20260422T084913
CREATED:20250320T070440Z
LAST-MODIFIED:20250711T001951Z
UID:10000594-1752174000-1752184800@theboardwalkgrill.com
SUMMARY:Boardwalk Grill: Karaoke
DESCRIPTION:Karaoke in the Boardwalk Grill Tent with DJ Terence. Pick your favorite song and get ready to sing your heart out! \nCLICK HERE FOR MORE INFORMATION
URL:https://theboardwalkgrill.com/event/boardwalk-grill-karaoke-19
LOCATION:Boardwalk Grill\, 901 W Bank Rd\, Celina\, OH\, United States
CATEGORIES:Boardwalk Grill
GEO:40.542642;-84.571525
X-APPLE-STRUCTURED-LOCATION;VALUE=URI;X-ADDRESS=Boardwalk Grill 901 W Bank Rd Celina OH United States;X-APPLE-RADIUS=500;X-TITLE=901 W Bank Rd:geo:-84.571525,40.542642
END:VEVENT
BEGIN:VEVENT
DTSTART;TZID=America/New_York:20250710T181500
DTEND;TZID=America/New_York:20250710T211500
DTSTAMP:20260422T084913
CREATED:20250320T042005Z
LAST-MODIFIED:20250710T013425Z
UID:10000543-1752171300-1752182100@theboardwalkgrill.com
SUMMARY:Boardwalk Marketplace: Sand Volleyball League
DESCRIPTION:Boardwalk Sand Volleyball League (Beer) \nDetails:Dates: July 10\, 17\, 24\, 31Game Times: 6:15\, 7:15\, 8:15 PMAge 21+Teams should consist of a minimum of 6 people.Teams are co-ed.Minimum of 2 girls on the court during the entirety of the game.$180 / Team \nREGISTER NOWCLICK HERE FOR MORE INFORMATION
URL:https://theboardwalkgrill.com/event/boardwalk-marketplace-sand-volleyball-league-21
LOCATION:Boardwalk Village\, 901 W Bank Rd\, Celina\, OH\, United States
CATEGORIES:Boardwalk Marketplace
GEO:40.542642;-84.571525
X-APPLE-STRUCTURED-LOCATION;VALUE=URI;X-ADDRESS=Boardwalk Village 901 W Bank Rd Celina OH United States;X-APPLE-RADIUS=500;X-TITLE=901 W Bank Rd:geo:-84.571525,40.542642
END:VEVENT
BEGIN:VEVENT
DTSTART;TZID=America/New_York:20250710T180000
DTEND;TZID=America/New_York:20250710T210000
DTSTAMP:20260422T084913
CREATED:20250320T042005Z
LAST-MODIFIED:20250710T013425Z
UID:10000542-1752170400-1752181200@theboardwalkgrill.com
SUMMARY:Boardwalk Marketplace: Pickleball League
DESCRIPTION:Boardwalk Pickleball League (Beer) \nDetails:Dates: July 10\, 17\, 24\, 31Game Times: 6:00 PM\, 6:45 PM\, 7:30 PM\, 8:15 PMAge 21+Teams are co-ed.$40 / Team \nREGISTER NOWCLICK HERE FOR MORE INFORMATION
URL:https://theboardwalkgrill.com/event/boardwalk-marketplace-pickleball-league-21
LOCATION:Boardwalk Village\, 901 W Bank Rd\, Celina\, OH\, United States
CATEGORIES:Boardwalk Marketplace
GEO:40.542642;-84.571525
X-APPLE-STRUCTURED-LOCATION;VALUE=URI;X-ADDRESS=Boardwalk Village 901 W Bank Rd Celina OH United States;X-APPLE-RADIUS=500;X-TITLE=901 W Bank Rd:geo:-84.571525,40.542642
END:VEVENT
BEGIN:VEVENT
DTSTART;TZID=America/New_York:20250710T090000
DTEND;TZID=America/New_York:20250710T160000
DTSTAMP:20260422T084913
CREATED:20250702T060429Z
LAST-MODIFIED:20250710T061944Z
UID:10000797-1752138000-1752163200@theboardwalkgrill.com
SUMMARY:Upper Deck: Golf Bays Open!
DESCRIPTION:To reserve\, \nVisit https://player.eagleclubsystems.online/#/tee-slot?dbname=rush20221215 \nOr call us at 419-776-2028
URL:https://theboardwalkgrill.com/event/upper-deck-golf-bays-open-7
LOCATION:Upper Deck Sports Bar\, Celina\, OH\, United States
CATEGORIES:Upper Deck Sports Bar
GEO:40.556645;-84.628714
END:VEVENT
BEGIN:VEVENT
DTSTART;TZID=America/New_York:20250709T190000
DTEND;TZID=America/New_York:20250709T200000
DTSTAMP:20260422T084913
CREATED:20250624T000427Z
LAST-MODIFIED:20250709T013558Z
UID:10000757-1752087600-1752091200@theboardwalkgrill.com
SUMMARY:Yoga On The Docks
DESCRIPTION:Angel with Wellness To The Core will be hosting Yoga on the Docks all summer long!  \n\nWHO: All Levels\, age 12 and up. No experience needed! \nWHAT: Yoga on the Docks hosted by Wellness To The Core  \nWHEN: Wednesday evenings\, 7-8 PM every Wednesday ALL SUMMER LONG \nWHERE: Boardwalk Village Public Dock on Grand Lake  \nCOST: Donation Based – recommended $10 to $15/person. Or use your Wellness to the Core Class Package! \nSIGN-UP: Must be registered BEFORE 7PM Wednesdays!  \n🌅 https://www.wttcore.com/calendar 🌅   \nBRING: Water\, Towel\, Yoga Mat\, Friends ☺️
URL:https://theboardwalkgrill.com/event/yoga-on-the-docks-5
LOCATION:Boardwalk Village\, 901 W Bank Rd\, Celina\, OH\, United States
CATEGORIES:Boardwalk Marketplace
GEO:40.542642;-84.571525
X-APPLE-STRUCTURED-LOCATION;VALUE=URI;X-ADDRESS=Boardwalk Village 901 W Bank Rd Celina OH United States;X-APPLE-RADIUS=500;X-TITLE=901 W Bank Rd:geo:-84.571525,40.542642
END:VEVENT
BEGIN:VEVENT
DTSTART;TZID=America/New_York:20250709T090000
DTEND;TZID=America/New_York:20250709T160000
DTSTAMP:20260422T084913
CREATED:20250702T060429Z
LAST-MODIFIED:20250709T061934Z
UID:10000796-1752051600-1752076800@theboardwalkgrill.com
SUMMARY:Upper Deck: Golf Bays Open!
DESCRIPTION:To reserve\, \nVisit https://player.eagleclubsystems.online/#/tee-slot?dbname=rush20221215 \nOr call us at 419-776-2028
URL:https://theboardwalkgrill.com/event/upper-deck-golf-bays-open-6
LOCATION:Upper Deck Sports Bar\, Celina\, OH\, United States
CATEGORIES:Upper Deck Sports Bar
GEO:40.556645;-84.628714
END:VEVENT
END:VCALENDAR