BEGIN:VCALENDAR
VERSION:2.0
PRODID:-//Boardwalk Grill - ECPv6.15.13.1//NONSGML v1.0//EN
CALSCALE:GREGORIAN
METHOD:PUBLISH
X-WR-CALNAME:Boardwalk Grill
X-ORIGINAL-URL:https://theboardwalkgrill.com
X-WR-CALDESC:Events for Boardwalk Grill
REFRESH-INTERVAL;VALUE=DURATION:PT1H
X-Robots-Tag:noindex
X-PUBLISHED-TTL:PT1H
BEGIN:VTIMEZONE
TZID:America/New_York
BEGIN:DAYLIGHT
TZOFFSETFROM:-0500
TZOFFSETTO:-0400
TZNAME:EDT
DTSTART:20250309T070000
END:DAYLIGHT
BEGIN:STANDARD
TZOFFSETFROM:-0400
TZOFFSETTO:-0500
TZNAME:EST
DTSTART:20251102T060000
END:STANDARD
BEGIN:DAYLIGHT
TZOFFSETFROM:-0500
TZOFFSETTO:-0400
TZNAME:EDT
DTSTART:20260308T070000
END:DAYLIGHT
BEGIN:STANDARD
TZOFFSETFROM:-0400
TZOFFSETTO:-0500
TZNAME:EST
DTSTART:20261101T060000
END:STANDARD
BEGIN:DAYLIGHT
TZOFFSETFROM:-0500
TZOFFSETTO:-0400
TZNAME:EDT
DTSTART:20270314T070000
END:DAYLIGHT
BEGIN:STANDARD
TZOFFSETFROM:-0400
TZOFFSETTO:-0500
TZNAME:EST
DTSTART:20271107T060000
END:STANDARD
END:VTIMEZONE
BEGIN:VEVENT
DTSTART;TZID=America/New_York:20260623T183000
DTEND;TZID=America/New_York:20260623T203000
DTSTAMP:20260421T152319
CREATED:20260127T213432Z
LAST-MODIFIED:20260405T151941Z
UID:10001121-1782239400-1782246600@theboardwalkgrill.com
SUMMARY:SINGO / Trivia
DESCRIPTION:Join in on the SINGO & Trivia fun at the Coconut Hut with Hemmelgarn Entertainment!  \nSINGO and trivia will rotate every week.  \nCLICK HERE FOR MORE INFORMATION
URL:https://theboardwalkgrill.com/event/singo-trivia-6
LOCATION:Boardwalk Village\, 901 W Bank Rd\, Celina\, OH\, United States
CATEGORIES:Boardwalk Marketplace
GEO:40.542642;-84.571525
X-APPLE-STRUCTURED-LOCATION;VALUE=URI;X-ADDRESS=Boardwalk Village 901 W Bank Rd Celina OH United States;X-APPLE-RADIUS=500;X-TITLE=901 W Bank Rd:geo:-84.571525,40.542642
END:VEVENT
BEGIN:VEVENT
DTSTART;TZID=America/New_York:20260623T183000
DTEND;TZID=America/New_York:20260623T203000
DTSTAMP:20260421T152319
CREATED:20260406T151937Z
LAST-MODIFIED:20260420T160439Z
UID:10001497-1782239400-1782246600@theboardwalkgrill.com
SUMMARY:Trivia
DESCRIPTION:Join in on the trivia fun at the Coconut Hut with Hemmelgarn Entertainment!  \nSINGO and trivia will rotate every week on Tuesdays.  \nCLICK HERE FOR MORE INFORMATION
URL:https://theboardwalkgrill.com/event/trivia-3
LOCATION:Boardwalk Village\, 901 W Bank Rd\, Celina\, OH\, United States
CATEGORIES:Boardwalk Marketplace
GEO:40.542642;-84.571525
X-APPLE-STRUCTURED-LOCATION;VALUE=URI;X-ADDRESS=Boardwalk Village 901 W Bank Rd Celina OH United States;X-APPLE-RADIUS=500;X-TITLE=901 W Bank Rd:geo:-84.571525,40.542642
END:VEVENT
BEGIN:VEVENT
DTSTART;TZID=America/New_York:20260624T090000
DTEND;TZID=America/New_York:20260624T100000
DTSTAMP:20260421T152319
CREATED:20260326T144946Z
LAST-MODIFIED:20260420T160439Z
UID:10001405-1782291600-1782295200@theboardwalkgrill.com
SUMMARY:Yoga In The Sand
DESCRIPTION:More information coming soon!
URL:https://theboardwalkgrill.com/event/yoga-in-the-sand-4
LOCATION:Boardwalk Village\, 901 W Bank Rd\, Celina\, OH\, United States
CATEGORIES:Boardwalk Marketplace
GEO:40.542642;-84.571525
X-APPLE-STRUCTURED-LOCATION;VALUE=URI;X-ADDRESS=Boardwalk Village 901 W Bank Rd Celina OH United States;X-APPLE-RADIUS=500;X-TITLE=901 W Bank Rd:geo:-84.571525,40.542642
END:VEVENT
BEGIN:VEVENT
DTSTART;TZID=America/New_York:20260624T180000
DTEND;TZID=America/New_York:20260624T210000
DTSTAMP:20260421T152319
CREATED:20260127T213433Z
LAST-MODIFIED:20260420T160439Z
UID:10001122-1782324000-1782334800@theboardwalkgrill.com
SUMMARY:Sand Volleyball League
DESCRIPTION:CLICK HERE TO REGISTER \nWednesday Night – June LeagueDates: June 3\, 10\, 17\, 24 (Championship)Game Times: 6:15\, 7:15\, 8:15 PM
URL:https://theboardwalkgrill.com/event/sand-volleyball-league-15
LOCATION:Boardwalk Village\, 901 W Bank Rd\, Celina\, OH\, United States
CATEGORIES:Boardwalk Marketplace
GEO:40.542642;-84.571525
X-APPLE-STRUCTURED-LOCATION;VALUE=URI;X-ADDRESS=Boardwalk Village 901 W Bank Rd Celina OH United States;X-APPLE-RADIUS=500;X-TITLE=901 W Bank Rd:geo:-84.571525,40.542642
END:VEVENT
BEGIN:VEVENT
DTSTART;TZID=America/New_York:20260624T180000
DTEND;TZID=America/New_York:20260624T210000
DTSTAMP:20260421T152319
CREATED:20260128T213541Z
LAST-MODIFIED:20260420T160439Z
UID:10001199-1782324000-1782334800@theboardwalkgrill.com
SUMMARY:Music At The Marketplace:
DESCRIPTION:CLICK HERE TO LEARN MORE
URL:https://theboardwalkgrill.com/event/music-at-the-marketplace-31
LOCATION:Boardwalk Village\, 901 W Bank Rd\, Celina\, OH\, United States
CATEGORIES:Boardwalk Marketplace
GEO:40.542642;-84.571525
X-APPLE-STRUCTURED-LOCATION;VALUE=URI;X-ADDRESS=Boardwalk Village 901 W Bank Rd Celina OH United States;X-APPLE-RADIUS=500;X-TITLE=901 W Bank Rd:geo:-84.571525,40.542642
END:VEVENT
BEGIN:VEVENT
DTSTART;TZID=America/New_York:20260625T180000
DTEND;TZID=America/New_York:20260625T210000
DTSTAMP:20260421T152319
CREATED:20260127T213433Z
LAST-MODIFIED:20260420T160440Z
UID:10001123-1782410400-1782421200@theboardwalkgrill.com
SUMMARY:Sand Volleyball League
DESCRIPTION:CLICK HERE TO REGISTER \nThursday Night – June LeagueDates: June 4\, 11\, 18\, 25 (Championship)Game Times: 6:15\, 7:15\, 8:15 PM
URL:https://theboardwalkgrill.com/event/sand-volleyball-league-16
LOCATION:Boardwalk Village\, 901 W Bank Rd\, Celina\, OH\, United States
CATEGORIES:Boardwalk Marketplace
GEO:40.542642;-84.571525
X-APPLE-STRUCTURED-LOCATION;VALUE=URI;X-ADDRESS=Boardwalk Village 901 W Bank Rd Celina OH United States;X-APPLE-RADIUS=500;X-TITLE=901 W Bank Rd:geo:-84.571525,40.542642
END:VEVENT
BEGIN:VEVENT
DTSTART;TZID=America/New_York:20260625T180000
DTEND;TZID=America/New_York:20260625T210000
DTSTAMP:20260421T152319
CREATED:20260127T213433Z
LAST-MODIFIED:20260420T160440Z
UID:10001124-1782410400-1782421200@theboardwalkgrill.com
SUMMARY:Pickleball League
DESCRIPTION:CLICK HERE TO REGISTER \nThursday Night – June League Dates: June 4\, 11\, 18\, 25 (Championship) Game Times: 6:00 PM\, 6:45 PM\, 7:30 PM\, 8:15 PM
URL:https://theboardwalkgrill.com/event/pickleball-league-8
LOCATION:Boardwalk Village\, 901 W Bank Rd\, Celina\, OH\, United States
CATEGORIES:Boardwalk Marketplace
GEO:40.542642;-84.571525
X-APPLE-STRUCTURED-LOCATION;VALUE=URI;X-ADDRESS=Boardwalk Village 901 W Bank Rd Celina OH United States;X-APPLE-RADIUS=500;X-TITLE=901 W Bank Rd:geo:-84.571525,40.542642
END:VEVENT
BEGIN:VEVENT
DTSTART;TZID=America/New_York:20260625T190000
DTEND;TZID=America/New_York:20260625T220000
DTSTAMP:20260421T152319
CREATED:20260202T233608Z
LAST-MODIFIED:20260421T074937Z
UID:10001336-1782414000-1782424800@theboardwalkgrill.com
SUMMARY:Boardwalk Grill: Karaoke Contest
DESCRIPTION:Karaoke Contest in the Boardwalk Grill Tent with DJ Terence. Pick your favorite song and get ready to sing your heart out! \nPreliminary Dates: May 28th\, June 25th\, July 30thA maximum of 3 contestants will be able to qualify for the final karaoke contest on August 20th. The judges will make the final decision based on scoring who will make the cut and who will not.  \nFinal Date: August 20thAll contestant qualifiers from the preliminary rounds will be able to participate in the Karaoke Summer Contest Finale. Again judges will have the final decision on 1st place\, 2nd place and 3rd place.Prizes1st Place: $1\,000 Cash\, $250 Boardwalk Grill Gift Card & Golden Microphone Trophy2nd Place: $250 Cash\, $250 Boardwalk Grill Gift Card3rd Place: $150 Boardwalk Grill Gift Card \nRules \n\nNo charge for participating.\n  No pre-registration required – just show up and sing!  \nContestants must be 21 years of age at the time they compete.\nContestants will be judged on any or all of the following items: Appearance\, Professionalism\, Preparedness\, Material\, Audience Interaction\, Stage Presence & Vocal Ability.\nContestants will compete in random or signup order from 7PM-10PM. A warm up round will be available at 7PM.\nEach contestant will participate in 2 rounds. Must pick 3 songs with 1 as a backup song. Must be willing to use a song stocked by the house karaoke system.\nContestant agrees to abide by all judges decisions and hold Local Contest Venue\, Boardwalk Grill\, harmless from any and all actions\, legal or other resulting from participating in contest.\n\nEligibility Guidelines  \n\nThis contest is designed for community members who enjoy singing for fun.\nPerformers whose primary income comes from singing\, or who regularly perform as paid vocalists\, may be deemed ineligible at the discretion of event organizers.\nIndividuals who tour\, hold contracts\, or regularly perform as paid vocalists are not eligible to compete.\nBy participating\, contestants agree to hold Boardwalk Grill\, the event venue\, and affiliated parties harmless from any claims or actions resulting from participation.\n\nCLICK HERE FOR MORE INFORMATION
URL:https://theboardwalkgrill.com/event/boardwalk-grill-karaoke-contest-5
LOCATION:Boardwalk Grill\, 901 W Bank Rd\, Celina\, OH\, United States
CATEGORIES:Boardwalk Grill
GEO:40.542642;-84.571525
X-APPLE-STRUCTURED-LOCATION;VALUE=URI;X-ADDRESS=Boardwalk Grill 901 W Bank Rd Celina OH United States;X-APPLE-RADIUS=500;X-TITLE=901 W Bank Rd:geo:-84.571525,40.542642
END:VEVENT
BEGIN:VEVENT
DTSTART;TZID=America/New_York:20260626T170000
DTEND;TZID=America/New_York:20260626T200000
DTSTAMP:20260421T152319
CREATED:20260128T213542Z
LAST-MODIFIED:20260420T160440Z
UID:10001200-1782493200-1782504000@theboardwalkgrill.com
SUMMARY:Music At The Marketplace:
DESCRIPTION:CLICK HERE TO LEARN MORE
URL:https://theboardwalkgrill.com/event/music-at-the-marketplace-32
LOCATION:Boardwalk Village\, 901 W Bank Rd\, Celina\, OH\, United States
CATEGORIES:Boardwalk Marketplace
GEO:40.542642;-84.571525
X-APPLE-STRUCTURED-LOCATION;VALUE=URI;X-ADDRESS=Boardwalk Village 901 W Bank Rd Celina OH United States;X-APPLE-RADIUS=500;X-TITLE=901 W Bank Rd:geo:-84.571525,40.542642
END:VEVENT
BEGIN:VEVENT
DTSTART;TZID=America/New_York:20260626T190000
DTEND;TZID=America/New_York:20260626T230000
DTSTAMP:20260421T152319
CREATED:20260128T233449Z
LAST-MODIFIED:20260421T074937Z
UID:10001277-1782500400-1782514800@theboardwalkgrill.com
SUMMARY:Live Music:
DESCRIPTION:CLICK TO LEARN MORE
URL:https://theboardwalkgrill.com/event/live-music-42
LOCATION:Boardwalk Grill\, 901 W Bank Rd\, Celina\, OH\, United States
CATEGORIES:Boardwalk Grill
GEO:40.542642;-84.571525
X-APPLE-STRUCTURED-LOCATION;VALUE=URI;X-ADDRESS=Boardwalk Grill 901 W Bank Rd Celina OH United States;X-APPLE-RADIUS=500;X-TITLE=901 W Bank Rd:geo:-84.571525,40.542642
END:VEVENT
BEGIN:VEVENT
DTSTART;TZID=America/New_York:20260627T070000
DTEND;TZID=America/New_York:20260627T120000
DTSTAMP:20260421T152319
CREATED:20260403T151942Z
LAST-MODIFIED:20260420T160440Z
UID:10001450-1782543600-1782561600@theboardwalkgrill.com
SUMMARY:Coffee Truck
DESCRIPTION:More information coming soon!
URL:https://theboardwalkgrill.com/event/coffee-truck-19
LOCATION:Boardwalk Village\, 901 W Bank Rd\, Celina\, OH\, United States
CATEGORIES:Boardwalk Marketplace
GEO:40.542642;-84.571525
X-APPLE-STRUCTURED-LOCATION;VALUE=URI;X-ADDRESS=Boardwalk Village 901 W Bank Rd Celina OH United States;X-APPLE-RADIUS=500;X-TITLE=901 W Bank Rd:geo:-84.571525,40.542642
END:VEVENT
BEGIN:VEVENT
DTSTART;TZID=America/New_York:20260627T103000
DTEND;TZID=America/New_York:20260627T111500
DTSTAMP:20260421T152319
CREATED:20260326T144947Z
LAST-MODIFIED:20260420T160440Z
UID:10001406-1782556200-1782558900@theboardwalkgrill.com
SUMMARY:Pilates In The Sand
DESCRIPTION:Join Aura Align on the Boardwalk Marketplace Sand Volleyball Court for Pilates lakeside! A dynamic outdoor class that enhances core strength\, flexibility\, and tones the body as a whole while embracing the natural resistance of the sandy surface. This low impact yet highly effective workout focuses on controlled movements\, breath work\, and alignment\, making it perfect for all fitness levels. This class requires you to BRING YOUR OWN MAT\, Aura Align will NOT have any extra at Boardwalk.  This class is beginner friendly! \nSign Up Now! \nCLICK HERE FOR MORE INFO
URL:https://theboardwalkgrill.com/event/pilates-in-the-sand-4
LOCATION:Boardwalk Village\, 901 W Bank Rd\, Celina\, OH\, United States
CATEGORIES:Boardwalk Marketplace
GEO:40.542642;-84.571525
X-APPLE-STRUCTURED-LOCATION;VALUE=URI;X-ADDRESS=Boardwalk Village 901 W Bank Rd Celina OH United States;X-APPLE-RADIUS=500;X-TITLE=901 W Bank Rd:geo:-84.571525,40.542642
END:VEVENT
BEGIN:VEVENT
DTSTART;TZID=America/New_York:20260627T130000
DTEND;TZID=America/New_York:20260627T170000
DTSTAMP:20260421T152319
CREATED:20260128T233449Z
LAST-MODIFIED:20260421T074937Z
UID:10001278-1782565200-1782579600@theboardwalkgrill.com
SUMMARY:Live Music:
DESCRIPTION:CLICK TO LEARN MORE
URL:https://theboardwalkgrill.com/event/live-music-43
LOCATION:Boardwalk Grill\, 901 W Bank Rd\, Celina\, OH\, United States
CATEGORIES:Boardwalk Grill
GEO:40.542642;-84.571525
X-APPLE-STRUCTURED-LOCATION;VALUE=URI;X-ADDRESS=Boardwalk Grill 901 W Bank Rd Celina OH United States;X-APPLE-RADIUS=500;X-TITLE=901 W Bank Rd:geo:-84.571525,40.542642
END:VEVENT
BEGIN:VEVENT
DTSTART;TZID=America/New_York:20260627T160000
DTEND;TZID=America/New_York:20260627T190000
DTSTAMP:20260421T152319
CREATED:20260128T213542Z
LAST-MODIFIED:20260420T160440Z
UID:10001201-1782576000-1782586800@theboardwalkgrill.com
SUMMARY:Music At The Marketplace
DESCRIPTION:CLICK HERE TO LEARN MORE
URL:https://theboardwalkgrill.com/event/music-at-the-marketplace-33
LOCATION:Boardwalk Village\, 901 W Bank Rd\, Celina\, OH\, United States
CATEGORIES:Boardwalk Marketplace
GEO:40.542642;-84.571525
X-APPLE-STRUCTURED-LOCATION;VALUE=URI;X-ADDRESS=Boardwalk Village 901 W Bank Rd Celina OH United States;X-APPLE-RADIUS=500;X-TITLE=901 W Bank Rd:geo:-84.571525,40.542642
END:VEVENT
BEGIN:VEVENT
DTSTART;TZID=America/New_York:20260627T190000
DTEND;TZID=America/New_York:20260627T230000
DTSTAMP:20260421T152319
CREATED:20260128T233450Z
LAST-MODIFIED:20260421T074937Z
UID:10001279-1782586800-1782601200@theboardwalkgrill.com
SUMMARY:Live Music:
DESCRIPTION:CLICK TO LEARN MORE
URL:https://theboardwalkgrill.com/event/live-music-44
LOCATION:Boardwalk Grill\, 901 W Bank Rd\, Celina\, OH\, United States
CATEGORIES:Boardwalk Grill
GEO:40.542642;-84.571525
X-APPLE-STRUCTURED-LOCATION;VALUE=URI;X-ADDRESS=Boardwalk Grill 901 W Bank Rd Celina OH United States;X-APPLE-RADIUS=500;X-TITLE=901 W Bank Rd:geo:-84.571525,40.542642
END:VEVENT
BEGIN:VEVENT
DTSTART;TZID=America/New_York:20260628T070000
DTEND;TZID=America/New_York:20260628T120000
DTSTAMP:20260421T152319
CREATED:20260403T151943Z
LAST-MODIFIED:20260420T160440Z
UID:10001451-1782630000-1782648000@theboardwalkgrill.com
SUMMARY:Coffee Truck
DESCRIPTION:More information coming soon!
URL:https://theboardwalkgrill.com/event/coffee-truck-20
LOCATION:Boardwalk Village\, 901 W Bank Rd\, Celina\, OH\, United States
CATEGORIES:Boardwalk Marketplace
GEO:40.542642;-84.571525
X-APPLE-STRUCTURED-LOCATION;VALUE=URI;X-ADDRESS=Boardwalk Village 901 W Bank Rd Celina OH United States;X-APPLE-RADIUS=500;X-TITLE=901 W Bank Rd:geo:-84.571525,40.542642
END:VEVENT
BEGIN:VEVENT
DTSTART;TZID=America/New_York:20260628T140000
DTEND;TZID=America/New_York:20260628T180000
DTSTAMP:20260421T152319
CREATED:20260128T233450Z
LAST-MODIFIED:20260421T074937Z
UID:10001280-1782655200-1782669600@theboardwalkgrill.com
SUMMARY:Live Music:
DESCRIPTION:CLICK TO LEARN MORE
URL:https://theboardwalkgrill.com/event/live-music-45
LOCATION:Boardwalk Grill\, 901 W Bank Rd\, Celina\, OH\, United States
CATEGORIES:Boardwalk Grill
GEO:40.542642;-84.571525
X-APPLE-STRUCTURED-LOCATION;VALUE=URI;X-ADDRESS=Boardwalk Grill 901 W Bank Rd Celina OH United States;X-APPLE-RADIUS=500;X-TITLE=901 W Bank Rd:geo:-84.571525,40.542642
END:VEVENT
BEGIN:VEVENT
DTSTART;TZID=America/New_York:20260628T160000
DTEND;TZID=America/New_York:20260628T190000
DTSTAMP:20260421T152319
CREATED:20260128T213542Z
LAST-MODIFIED:20260420T160441Z
UID:10001202-1782662400-1782673200@theboardwalkgrill.com
SUMMARY:Music At The Marketplace
DESCRIPTION:CLICK HERE TO LEARN MORE
URL:https://theboardwalkgrill.com/event/music-at-the-marketplace-34
LOCATION:Boardwalk Village\, 901 W Bank Rd\, Celina\, OH\, United States
CATEGORIES:Boardwalk Marketplace
GEO:40.542642;-84.571525
X-APPLE-STRUCTURED-LOCATION;VALUE=URI;X-ADDRESS=Boardwalk Village 901 W Bank Rd Celina OH United States;X-APPLE-RADIUS=500;X-TITLE=901 W Bank Rd:geo:-84.571525,40.542642
END:VEVENT
BEGIN:VEVENT
DTSTART;TZID=America/New_York:20260629T070000
DTEND;TZID=America/New_York:20260629T120000
DTSTAMP:20260421T152319
CREATED:20260403T151943Z
LAST-MODIFIED:20260420T160441Z
UID:10001452-1782716400-1782734400@theboardwalkgrill.com
SUMMARY:Coffee Truck
DESCRIPTION:More information coming soon!
URL:https://theboardwalkgrill.com/event/coffee-truck-21
LOCATION:Boardwalk Village\, 901 W Bank Rd\, Celina\, OH\, United States
CATEGORIES:Boardwalk Marketplace
GEO:40.542642;-84.571525
X-APPLE-STRUCTURED-LOCATION;VALUE=URI;X-ADDRESS=Boardwalk Village 901 W Bank Rd Celina OH United States;X-APPLE-RADIUS=500;X-TITLE=901 W Bank Rd:geo:-84.571525,40.542642
END:VEVENT
BEGIN:VEVENT
DTSTART;TZID=America/New_York:20260629T160000
DTEND;TZID=America/New_York:20260629T200000
DTSTAMP:20260421T152319
CREATED:20260326T083452Z
LAST-MODIFIED:20260420T160441Z
UID:10001388-1782748800-1782763200@theboardwalkgrill.com
SUMMARY:Food Truck:
DESCRIPTION:Monday Night Food Truck at Boardwalk Village📅 Mondays | 🕓 4:00 PM – 8:00 PM \nA new food truck every week serving up great eats by the lake. Grab dinner\, hang out\, and enjoy your Monday at the Boardwalk! \n \n👉 CLICK HERE FOR FOOD TRUCK FACEBOOK PAGE
URL:https://theboardwalkgrill.com/event/food-truck-4
LOCATION:Boardwalk Village\, 901 W Bank Rd\, Celina\, OH\, United States
CATEGORIES:Boardwalk Marketplace
GEO:40.542642;-84.571525
X-APPLE-STRUCTURED-LOCATION;VALUE=URI;X-ADDRESS=Boardwalk Village 901 W Bank Rd Celina OH United States;X-APPLE-RADIUS=500;X-TITLE=901 W Bank Rd:geo:-84.571525,40.542642
END:VEVENT
BEGIN:VEVENT
DTSTART;TZID=America/New_York:20260629T190000
DTEND;TZID=America/New_York:20260629T193000
DTSTAMP:20260421T152319
CREATED:20260209T230437Z
LAST-MODIFIED:20260420T160441Z
UID:10001354-1782759600-1782761400@theboardwalkgrill.com
SUMMARY:Queen Of Hearts
DESCRIPTION:Queen of Hearts – Every Monday at 7 PM @ Coconut Hut **Runs weekly until the Queen of Hearts is drawn \nJoin us Monday nights for our Queen of Hearts drawing! Tickets are just $1 each and can be purchased all week long during Coconut Hut hours (Tuesday 3PM through Monday at 6:30PM). \nHow it works: \n\nBuy a ticket… or 10 and pick which card # you believe is the Queen of Hearts\nOne ticket is drawn every Monday at 7 PM at the Coconut Hut\nIf your ticket is drawn\, we flip the card number you chose\nReveal the Queen of Hearts → you win the jackpot\nReveal a Joker → you win a percentage of the pot\nIf the Queen of Hearts is not drawn\, all other tickets are removed and the pot rolls over to the next week\n\nYou do NOT need to be present to win\, but payouts are higher for those who are. \nPayout Structure: \n\nQueen of Hearts – Winner Present: 90% to winner / 10% rolls to next game\nQueen of Hearts – Not Present: 50% to winner / 50% rolls\nJoker – Winner Present: 10% to winner / 90% rolls to next gameJoker – Not Present: 5% to winner / 95% rolls to next game\n\nThe pot can grow fast – come grab tickets\, enjoy drinks\, and be part of the excitement every Monday night! \nCLICK HERE FOR MORE INFORMATION
URL:https://theboardwalkgrill.com/event/queen-of-hearts-7
LOCATION:Boardwalk Village\, 901 W Bank Rd\, Celina\, OH\, United States
CATEGORIES:Boardwalk Marketplace
GEO:40.542642;-84.571525
X-APPLE-STRUCTURED-LOCATION;VALUE=URI;X-ADDRESS=Boardwalk Village 901 W Bank Rd Celina OH United States;X-APPLE-RADIUS=500;X-TITLE=901 W Bank Rd:geo:-84.571525,40.542642
END:VEVENT
BEGIN:VEVENT
DTSTART;TZID=America/New_York:20260630T183000
DTEND;TZID=America/New_York:20260630T203000
DTSTAMP:20260421T152319
CREATED:20260127T213434Z
LAST-MODIFIED:20260420T160441Z
UID:10001125-1782844200-1782851400@theboardwalkgrill.com
SUMMARY:SINGO
DESCRIPTION:Join in on the SINGO fun at the Coconut Hut with Hemmelgarn Entertainment!  \nSINGO and trivia will rotate every week on Tuesdays.  \nCLICK HERE FOR MORE INFORMATION
URL:https://theboardwalkgrill.com/event/singo-trivia-7
LOCATION:Boardwalk Village\, 901 W Bank Rd\, Celina\, OH\, United States
CATEGORIES:Boardwalk Marketplace
GEO:40.542642;-84.571525
X-APPLE-STRUCTURED-LOCATION;VALUE=URI;X-ADDRESS=Boardwalk Village 901 W Bank Rd Celina OH United States;X-APPLE-RADIUS=500;X-TITLE=901 W Bank Rd:geo:-84.571525,40.542642
END:VEVENT
BEGIN:VEVENT
DTSTART;TZID=America/New_York:20260701T090000
DTEND;TZID=America/New_York:20260701T100000
DTSTAMP:20260421T152319
CREATED:20260326T144948Z
LAST-MODIFIED:20260420T160441Z
UID:10001407-1782896400-1782900000@theboardwalkgrill.com
SUMMARY:Yoga In The Sand
DESCRIPTION:More information coming soon!
URL:https://theboardwalkgrill.com/event/yoga-in-the-sand-5
LOCATION:Boardwalk Village\, 901 W Bank Rd\, Celina\, OH\, United States
CATEGORIES:Boardwalk Marketplace
GEO:40.542642;-84.571525
X-APPLE-STRUCTURED-LOCATION;VALUE=URI;X-ADDRESS=Boardwalk Village 901 W Bank Rd Celina OH United States;X-APPLE-RADIUS=500;X-TITLE=901 W Bank Rd:geo:-84.571525,40.542642
END:VEVENT
BEGIN:VEVENT
DTSTART;TZID=America/New_York:20260701T180000
DTEND;TZID=America/New_York:20260701T210000
DTSTAMP:20260421T152319
CREATED:20260128T213543Z
LAST-MODIFIED:20260420T160442Z
UID:10001203-1782928800-1782939600@theboardwalkgrill.com
SUMMARY:Music At The Marketplace:
DESCRIPTION:CLICK HERE TO LEARN MORE
URL:https://theboardwalkgrill.com/event/music-at-the-marketplace-35
LOCATION:Boardwalk Village\, 901 W Bank Rd\, Celina\, OH\, United States
CATEGORIES:Boardwalk Marketplace
GEO:40.542642;-84.571525
X-APPLE-STRUCTURED-LOCATION;VALUE=URI;X-ADDRESS=Boardwalk Village 901 W Bank Rd Celina OH United States;X-APPLE-RADIUS=500;X-TITLE=901 W Bank Rd:geo:-84.571525,40.542642
END:VEVENT
BEGIN:VEVENT
DTSTART;TZID=America/New_York:20260702T190000
DTEND;TZID=America/New_York:20260702T220000
DTSTAMP:20260421T152319
CREATED:20260202T233621Z
LAST-MODIFIED:20260421T074937Z
UID:10001337-1783018800-1783029600@theboardwalkgrill.com
SUMMARY:Boardwalk Grill: Karaoke & Kissing Cardinals Line Dancing
DESCRIPTION:Karaoke in the Boardwalk Grill Tent with DJ Terence. Pick your favorite song and get ready to sing your heart out! Kissing Cardinals will be here as well to do some Line Dancing from 7PM-8PM! \nCLICK HERE FOR MORE INFORMATION
URL:https://theboardwalkgrill.com/event/boardwalk-grill-karaoke-26
LOCATION:Boardwalk Grill\, 901 W Bank Rd\, Celina\, OH\, United States
CATEGORIES:Boardwalk Grill
GEO:40.542642;-84.571525
X-APPLE-STRUCTURED-LOCATION;VALUE=URI;X-ADDRESS=Boardwalk Grill 901 W Bank Rd Celina OH United States;X-APPLE-RADIUS=500;X-TITLE=901 W Bank Rd:geo:-84.571525,40.542642
END:VEVENT
BEGIN:VEVENT
DTSTART;TZID=America/New_York:20260703T170000
DTEND;TZID=America/New_York:20260703T200000
DTSTAMP:20260421T152319
CREATED:20260128T213543Z
LAST-MODIFIED:20260420T160442Z
UID:10001204-1783098000-1783108800@theboardwalkgrill.com
SUMMARY:Music At The Marketplace:
DESCRIPTION:CLICK HERE TO LEARN MORE
URL:https://theboardwalkgrill.com/event/music-at-the-marketplace-36
LOCATION:Boardwalk Village\, 901 W Bank Rd\, Celina\, OH\, United States
CATEGORIES:Boardwalk Marketplace
GEO:40.542642;-84.571525
X-APPLE-STRUCTURED-LOCATION;VALUE=URI;X-ADDRESS=Boardwalk Village 901 W Bank Rd Celina OH United States;X-APPLE-RADIUS=500;X-TITLE=901 W Bank Rd:geo:-84.571525,40.542642
END:VEVENT
BEGIN:VEVENT
DTSTART;TZID=America/New_York:20260703T190000
DTEND;TZID=America/New_York:20260703T230000
DTSTAMP:20260421T152319
CREATED:20260128T233450Z
LAST-MODIFIED:20260421T074937Z
UID:10001281-1783105200-1783119600@theboardwalkgrill.com
SUMMARY:Live Music:
DESCRIPTION:CLICK TO LEARN MORE
URL:https://theboardwalkgrill.com/event/live-music-46
LOCATION:Boardwalk Grill\, 901 W Bank Rd\, Celina\, OH\, United States
CATEGORIES:Boardwalk Grill
GEO:40.542642;-84.571525
X-APPLE-STRUCTURED-LOCATION;VALUE=URI;X-ADDRESS=Boardwalk Grill 901 W Bank Rd Celina OH United States;X-APPLE-RADIUS=500;X-TITLE=901 W Bank Rd:geo:-84.571525,40.542642
END:VEVENT
BEGIN:VEVENT
DTSTART;TZID=America/New_York:20260704T070000
DTEND;TZID=America/New_York:20260704T120000
DTSTAMP:20260421T152319
CREATED:20260403T151944Z
LAST-MODIFIED:20260420T160442Z
UID:10001453-1783148400-1783166400@theboardwalkgrill.com
SUMMARY:Coffee Truck
DESCRIPTION:More information coming soon!
URL:https://theboardwalkgrill.com/event/coffee-truck-22
LOCATION:Boardwalk Village\, 901 W Bank Rd\, Celina\, OH\, United States
CATEGORIES:Boardwalk Marketplace
GEO:40.542642;-84.571525
X-APPLE-STRUCTURED-LOCATION;VALUE=URI;X-ADDRESS=Boardwalk Village 901 W Bank Rd Celina OH United States;X-APPLE-RADIUS=500;X-TITLE=901 W Bank Rd:geo:-84.571525,40.542642
END:VEVENT
BEGIN:VEVENT
DTSTART;TZID=America/New_York:20260704T130000
DTEND;TZID=America/New_York:20260704T170000
DTSTAMP:20260421T152319
CREATED:20260128T233451Z
LAST-MODIFIED:20260421T074937Z
UID:10001282-1783170000-1783184400@theboardwalkgrill.com
SUMMARY:Live Music:
DESCRIPTION:CLICK TO LEARN MORE
URL:https://theboardwalkgrill.com/event/live-music-47
LOCATION:Boardwalk Grill\, 901 W Bank Rd\, Celina\, OH\, United States
CATEGORIES:Boardwalk Grill
GEO:40.542642;-84.571525
X-APPLE-STRUCTURED-LOCATION;VALUE=URI;X-ADDRESS=Boardwalk Grill 901 W Bank Rd Celina OH United States;X-APPLE-RADIUS=500;X-TITLE=901 W Bank Rd:geo:-84.571525,40.542642
END:VEVENT
BEGIN:VEVENT
DTSTART;TZID=America/New_York:20260704T160000
DTEND;TZID=America/New_York:20260704T190000
DTSTAMP:20260421T152319
CREATED:20260128T213544Z
LAST-MODIFIED:20260420T160442Z
UID:10001205-1783180800-1783191600@theboardwalkgrill.com
SUMMARY:Music At The Marketplace
DESCRIPTION:CLICK HERE TO LEARN MORE
URL:https://theboardwalkgrill.com/event/music-at-the-marketplace-37
LOCATION:Boardwalk Village\, 901 W Bank Rd\, Celina\, OH\, United States
CATEGORIES:Boardwalk Marketplace
GEO:40.542642;-84.571525
X-APPLE-STRUCTURED-LOCATION;VALUE=URI;X-ADDRESS=Boardwalk Village 901 W Bank Rd Celina OH United States;X-APPLE-RADIUS=500;X-TITLE=901 W Bank Rd:geo:-84.571525,40.542642
END:VEVENT
END:VCALENDAR