BEGIN:VCALENDAR
VERSION:2.0
PRODID:-//Boardwalk Grill - ECPv6.15.13.1//NONSGML v1.0//EN
CALSCALE:GREGORIAN
METHOD:PUBLISH
X-ORIGINAL-URL:https://theboardwalkgrill.com
X-WR-CALDESC:Events for Boardwalk Grill
REFRESH-INTERVAL;VALUE=DURATION:PT1H
X-Robots-Tag:noindex
X-PUBLISHED-TTL:PT1H
BEGIN:VTIMEZONE
TZID:America/New_York
BEGIN:DAYLIGHT
TZOFFSETFROM:-0500
TZOFFSETTO:-0400
TZNAME:EDT
DTSTART:20250309T070000
END:DAYLIGHT
BEGIN:STANDARD
TZOFFSETFROM:-0400
TZOFFSETTO:-0500
TZNAME:EST
DTSTART:20251102T060000
END:STANDARD
BEGIN:DAYLIGHT
TZOFFSETFROM:-0500
TZOFFSETTO:-0400
TZNAME:EDT
DTSTART:20260308T070000
END:DAYLIGHT
BEGIN:STANDARD
TZOFFSETFROM:-0400
TZOFFSETTO:-0500
TZNAME:EST
DTSTART:20261101T060000
END:STANDARD
BEGIN:DAYLIGHT
TZOFFSETFROM:-0500
TZOFFSETTO:-0400
TZNAME:EDT
DTSTART:20270314T070000
END:DAYLIGHT
BEGIN:STANDARD
TZOFFSETFROM:-0400
TZOFFSETTO:-0500
TZNAME:EST
DTSTART:20271107T060000
END:STANDARD
END:VTIMEZONE
BEGIN:VEVENT
DTSTART;VALUE=DATE:20260813
DTEND;VALUE=DATE:20260820
DTSTAMP:20260423T114442
CREATED:20250923T073454Z
LAST-MODIFIED:20260422T131925Z
UID:10001010-1786579200-1787183999@theboardwalkgrill.com
SUMMARY:Mercer County Fair
DESCRIPTION:CLICK HERE FOR MORE INFORMATION
URL:https://theboardwalkgrill.com/event/mercer-county-fair-3
LOCATION:Mercer County Fairgrounds\, 1001 W Market St\, Celina\, OH\, United States
CATEGORIES:Community Events
GEO:40.549358;-84.583238
X-APPLE-STRUCTURED-LOCATION;VALUE=URI;X-ADDRESS=Mercer County Fairgrounds 1001 W Market St Celina OH United States;X-APPLE-RADIUS=500;X-TITLE=1001 W Market St:geo:-84.583238,40.549358
END:VEVENT
BEGIN:VEVENT
DTSTART;TZID=America/New_York:20260813T180000
DTEND;TZID=America/New_York:20260813T210000
DTSTAMP:20260423T114442
CREATED:20260127T213442Z
LAST-MODIFIED:20260422T160454Z
UID:10001148-1786644000-1786654800@theboardwalkgrill.com
SUMMARY:Pickleball League
DESCRIPTION:CLICK HERE TO REGISTER \nThursday Night – August League Dates: August 6\, 13\, 20\, 27 (Championship) Game Times: 6:00 PM\, 6:45 PM\, 7:30 PM\, 8:15 PM
URL:https://theboardwalkgrill.com/event/pickleball-league-14
LOCATION:Boardwalk Village\, 901 W Bank Rd\, Celina\, OH\, United States
CATEGORIES:Boardwalk Marketplace
GEO:40.542642;-84.571525
X-APPLE-STRUCTURED-LOCATION;VALUE=URI;X-ADDRESS=Boardwalk Village 901 W Bank Rd Celina OH United States;X-APPLE-RADIUS=500;X-TITLE=901 W Bank Rd:geo:-84.571525,40.542642
END:VEVENT
BEGIN:VEVENT
DTSTART;TZID=America/New_York:20260813T180000
DTEND;TZID=America/New_York:20260813T210000
DTSTAMP:20260423T114442
CREATED:20260127T213442Z
LAST-MODIFIED:20260422T160454Z
UID:10001149-1786644000-1786654800@theboardwalkgrill.com
SUMMARY:Sand Volleyball League
DESCRIPTION:CLICK HERE TO REGISTER \nThursday Night – August LeagueDates: August 6\, 13\, 20\, 27 (Championship)Game Times: 6:15\, 7:15\, 8:15 PM
URL:https://theboardwalkgrill.com/event/sand-volleyball-league-28
LOCATION:Boardwalk Village\, 901 W Bank Rd\, Celina\, OH\, United States
CATEGORIES:Boardwalk Marketplace
GEO:40.542642;-84.571525
X-APPLE-STRUCTURED-LOCATION;VALUE=URI;X-ADDRESS=Boardwalk Village 901 W Bank Rd Celina OH United States;X-APPLE-RADIUS=500;X-TITLE=901 W Bank Rd:geo:-84.571525,40.542642
END:VEVENT
BEGIN:VEVENT
DTSTART;TZID=America/New_York:20260813T190000
DTEND;TZID=America/New_York:20260813T220000
DTSTAMP:20260423T114442
CREATED:20260202T233704Z
LAST-MODIFIED:20260423T080436Z
UID:10001343-1786647600-1786658400@theboardwalkgrill.com
SUMMARY:Boardwalk Grill: Karaoke - Teachers Night
DESCRIPTION:Karaoke in the Boardwalk Grill Tent with DJ Terence. Pick your favorite song and get ready to sing your heart out! \nCLICK HERE FOR MORE INFORMATION
URL:https://theboardwalkgrill.com/event/boardwalk-grill-karaoke-teachers-night-2
LOCATION:Boardwalk Grill\, 901 W Bank Rd\, Celina\, OH\, United States
CATEGORIES:Boardwalk Grill
GEO:40.542642;-84.571525
X-APPLE-STRUCTURED-LOCATION;VALUE=URI;X-ADDRESS=Boardwalk Grill 901 W Bank Rd Celina OH United States;X-APPLE-RADIUS=500;X-TITLE=901 W Bank Rd:geo:-84.571525,40.542642
END:VEVENT
END:VCALENDAR