BEGIN:VCALENDAR
VERSION:2.0
PRODID:-//Boardwalk Grill - ECPv6.15.13.1//NONSGML v1.0//EN
CALSCALE:GREGORIAN
METHOD:PUBLISH
X-WR-CALNAME:Boardwalk Grill
X-ORIGINAL-URL:https://theboardwalkgrill.com
X-WR-CALDESC:Events for Boardwalk Grill
REFRESH-INTERVAL;VALUE=DURATION:PT1H
X-Robots-Tag:noindex
X-PUBLISHED-TTL:PT1H
BEGIN:VTIMEZONE
TZID:America/New_York
BEGIN:DAYLIGHT
TZOFFSETFROM:-0500
TZOFFSETTO:-0400
TZNAME:EDT
DTSTART:20250309T070000
END:DAYLIGHT
BEGIN:STANDARD
TZOFFSETFROM:-0400
TZOFFSETTO:-0500
TZNAME:EST
DTSTART:20251102T060000
END:STANDARD
BEGIN:DAYLIGHT
TZOFFSETFROM:-0500
TZOFFSETTO:-0400
TZNAME:EDT
DTSTART:20260308T070000
END:DAYLIGHT
BEGIN:STANDARD
TZOFFSETFROM:-0400
TZOFFSETTO:-0500
TZNAME:EST
DTSTART:20261101T060000
END:STANDARD
BEGIN:DAYLIGHT
TZOFFSETFROM:-0500
TZOFFSETTO:-0400
TZNAME:EDT
DTSTART:20270314T070000
END:DAYLIGHT
BEGIN:STANDARD
TZOFFSETFROM:-0400
TZOFFSETTO:-0500
TZNAME:EST
DTSTART:20271107T060000
END:STANDARD
END:VTIMEZONE
BEGIN:VEVENT
DTSTART;TZID=America/New_York:20260720T070000
DTEND;TZID=America/New_York:20260720T120000
DTSTAMP:20260423T115230
CREATED:20260403T151949Z
LAST-MODIFIED:20260422T160446Z
UID:10001461-1784530800-1784548800@theboardwalkgrill.com
SUMMARY:Coffee Truck
DESCRIPTION:More information coming soon!
URL:https://theboardwalkgrill.com/event/coffee-truck-30
LOCATION:Boardwalk Village\, 901 W Bank Rd\, Celina\, OH\, United States
CATEGORIES:Boardwalk Marketplace
GEO:40.542642;-84.571525
X-APPLE-STRUCTURED-LOCATION;VALUE=URI;X-ADDRESS=Boardwalk Village 901 W Bank Rd Celina OH United States;X-APPLE-RADIUS=500;X-TITLE=901 W Bank Rd:geo:-84.571525,40.542642
END:VEVENT
BEGIN:VEVENT
DTSTART;TZID=America/New_York:20260720T160000
DTEND;TZID=America/New_York:20260720T200000
DTSTAMP:20260423T115230
CREATED:20260326T083456Z
LAST-MODIFIED:20260422T160446Z
UID:10001391-1784563200-1784577600@theboardwalkgrill.com
SUMMARY:Food Truck: J's Lip Smacking Wings
DESCRIPTION:Monday Night Food Truck at Boardwalk Village📅 Mondays | 🕓 4:00 PM – 8:00 PM \nA new food truck every week serving up great eats by the lake. Grab dinner\, hang out\, and enjoy your Monday at the Boardwalk! \n \n👉 CLICK HERE FOR FOOD TRUCK FACEBOOK PAGE
URL:https://theboardwalkgrill.com/event/food-truck-js-lip-smacking-wings-2
LOCATION:Boardwalk Village\, 901 W Bank Rd\, Celina\, OH\, United States
CATEGORIES:Boardwalk Marketplace
GEO:40.542642;-84.571525
X-APPLE-STRUCTURED-LOCATION;VALUE=URI;X-ADDRESS=Boardwalk Village 901 W Bank Rd Celina OH United States;X-APPLE-RADIUS=500;X-TITLE=901 W Bank Rd:geo:-84.571525,40.542642
END:VEVENT
BEGIN:VEVENT
DTSTART;TZID=America/New_York:20260720T190000
DTEND;TZID=America/New_York:20260720T193000
DTSTAMP:20260423T115230
CREATED:20260209T230440Z
LAST-MODIFIED:20260422T160446Z
UID:10001357-1784574000-1784575800@theboardwalkgrill.com
SUMMARY:Queen Of Hearts
DESCRIPTION:Queen of Hearts – Every Monday at 7 PM @ Coconut Hut **Runs weekly until the Queen of Hearts is drawn \nJoin us Monday nights for our Queen of Hearts drawing! Tickets are just $1 each and can be purchased all week long during Coconut Hut hours (Tuesday 3PM through Monday at 6:30PM). \nHow it works: \n\nBuy a ticket… or 10 and pick which card # you believe is the Queen of Hearts\nOne ticket is drawn every Monday at 7 PM at the Coconut Hut\nIf your ticket is drawn\, we flip the card number you chose\nReveal the Queen of Hearts → you win the jackpot\nReveal a Joker → you win a percentage of the pot\nIf the Queen of Hearts is not drawn\, all other tickets are removed and the pot rolls over to the next week\n\nYou do NOT need to be present to win\, but payouts are higher for those who are. \nPayout Structure: \n\nQueen of Hearts – Winner Present: 90% to winner / 10% rolls to next game\nQueen of Hearts – Not Present: 50% to winner / 50% rolls\nJoker – Winner Present: 10% to winner / 90% rolls to next gameJoker – Not Present: 5% to winner / 95% rolls to next game\n\nThe pot can grow fast – come grab tickets\, enjoy drinks\, and be part of the excitement every Monday night! \nCLICK HERE FOR MORE INFORMATION
URL:https://theboardwalkgrill.com/event/queen-of-hearts-10
LOCATION:Boardwalk Village\, 901 W Bank Rd\, Celina\, OH\, United States
CATEGORIES:Boardwalk Marketplace
GEO:40.542642;-84.571525
X-APPLE-STRUCTURED-LOCATION;VALUE=URI;X-ADDRESS=Boardwalk Village 901 W Bank Rd Celina OH United States;X-APPLE-RADIUS=500;X-TITLE=901 W Bank Rd:geo:-84.571525,40.542642
END:VEVENT
END:VCALENDAR